Workbook

Sheet נספח 1-סה"כ התיק
B1: איי.די.איי. - חברה לביטוח בע"מ
B2: נספח 1 - סך התשלומים ששולמו בעד כל סוג של הוצאה ישירה לתקופה המסתיימת ביום | C2: 31.12.20
C6: אלפי ₪
A8: 1 | B8: סה"כ עמלות קניה ומכירה | C8: =SUM(C9:C10) -> 62.714801
B9: סך עמלות קניה ומכירה לצדדים קשורים | C9: ='מסלול אג"ח'!C9+'אגח ממשלת ישראל'!C9+כללי!C9+'מסלול לבני 50 ומטה'!C9 -> 0
B10: סך עמלות קניה ומכירה לצדדים שאינם קשורים | C10: ='מסלול אג"ח'!C10+'אגח ממשלת ישראל'!C10+כללי!C10+'מסלול לבני 50 ומטה'!C10 -> 62.714801
A12: 2 | B12: סה"כ עמלות קסטודיאן | C12: =SUM(C13:C14) -> 1.86
B13: סך עמלות קסטודיאן לצדדים קשורים | C13: ='מסלול אג"ח'!C13+'אגח ממשלת ישראל'!C13+כללי!C13+'מסלול לבני 50 ומטה'!C13 -> 0
B14: סך עמלות קסטודיאן לצדדים שאינם קשורים | C14: ='מסלול אג"ח'!C14+'אגח ממשלת ישראל'!C14+כללי!C14+'מסלול לבני 50 ומטה'!C14 -> 1.86
A16: 3 | B16: סה"כ מהשקעות לא סחירות | C16: =SUM(C17:C19) -> 5.781
A17: א | B17: סך הוצאות הנובעות מהשקעה בניירות ערך לא סחירים שאינם לצורך מימון פרויקטים לתשתיות | C17: ='מסלול אג"ח'!C17+'אגח ממשלת ישראל'!C17+כללי!C17+'מסלול לבני 50 ומטה'!C17 -> 5.781
A18: ב | B18: סך הוצאות הנובעות ממימון פרויקטים לתשתיות | C18: ='מסלול אג"ח'!C18+'אגח ממשלת ישראל'!C18+כללי!C18+'מסלול לבני 50 ומטה'!C18 -> 0
A19: ג | B19: סך הוצאות הנובעות מהשקעה בזכויות מקרקעין | C19: ='מסלול אג"ח'!C19+'אגח ממשלת ישראל'!C19+כללי!C19+'מסלול לבני 50 ומטה'!C19 -> 0
A21: 4 | B21: סה"כ עמלות ניהול חיצוני | C21: =SUM(C22:C29) -> 656.50069
B22: סך תשלומים הנובעים מהשקעה בקרנות השקעה בישראל | C22: ='מסלול אג"ח'!C22+'אגח ממשלת ישראל'!C22+כללי!C22+'מסלול לבני 50 ומטה'!C22 -> 352.60732
B23: סך תשלומים הנובעים מהשקעה בקרנות השקעה בחו"ל | C23: ='מסלול אג"ח'!C23+'אגח ממשלת ישראל'!C23+כללי!C23+'מסלול לבני 50 ומטה'!C23 -> 163.61067
B24: סך תשלומים למנהלי תיקים ישראלים בגין השקעה בחו"ל | C24: ='מסלול אג"ח'!C24+'אגח ממשלת ישראל'!C24+כללי!C24+'מסלול לבני 50 ומטה'!C24 -> 0
B25: סך תשלומים למנהלי תיקים זרים | C25: ='מסלול אג"ח'!C25+'אגח ממשלת ישראל'!C25+כללי!C25+'מסלול לבני 50 ומטה'!C25 -> 0
B26: סך תשלומים בגין השקעה בתעודות סל ישראליות | C26: ='מסלול אג"ח'!C26+'אגח ממשלת ישראל'!C26+כללי!C26+'מסלול לבני 50 ומטה'!C26 -> 2.9526956
B27: סך תשלומים בגין השקעה בתעודות סל זרות | C27: ='מסלול אג"ח'!C27+'אגח ממשלת ישראל'!C27+כללי!C27+'מסלול לבני 50 ומטה'!C27 -> 53.61
B28: סך תשלומים בגין השקעה בקרנות נאמנות ישראליות | C28: ='מסלול אג"ח'!C28+'אגח ממשלת ישראל'!C28+כללי!C28+'מסלול לבני 50 ומטה'!C28 -> 6.33
B29: סך תשלומים בגין השקעה בקרנות נאמנות זרות | C29: ='מסלול אג"ח'!C29+'אגח ממשלת ישראל'!C29+כללי!C29+'מסלול לבני 50 ומטה'!C29 -> 77.39
A31: 5 | B31: סה"כ הוצאות אחרות | C31: 0
A32: א | B32: סך הוצאות בעד ניהול תביעות
A33: ב | B33: סך הוצאות בעד מתן משכנתאות
A35: 6 | B35: סך הכל הוצאות ישירות | C35: =C31+C21+C16+C12+C8 -> 726.85649
A37: 7 | B37: שיעור הוצאות ישירות
A38: א | B38: שיעור סך ההוצאות הישירות, שההוצאה בגינן מוגבלת לשיעור של 0.25% לפי התקנות (סיכום סעיפים 3א, 4, 5ב חלקי סך הנכסים) | C38: =C21/C41 -> 0.001365887
A39: ב | B39: שיעור סך הוצאות ישירות מסך נכסים לסוף שנה קודמת (באחוזים) | C39: =C35/C41 -> 0.0015122662
B41: סך נכסים לסוף שנה קודמת | C41: 480640.56

Sheet מסלול אג"ח
B1: איי.די.איי. - חברה לביטוח בע"מ
B2: נספח 1 - סך התשלומים ששולמו בעד כל סוג של הוצאה ישירה לתקופה המסתיימת ביום | C2: 31.12.20
B4: שם הקופה:
B5: מסלול אג"ח
C6: אלפי ₪
A8: 1 | B8: סה"כ עמלות קניה ומכירה | C8: 16.745288
B9: סך עמלות קניה ומכירה לצדדים קשורים
B10: סך עמלות קניה ומכירה לצדדים שאינם קשורים | C10: 16.745288
A12: 2 | B12: סה"כ עמלות קסטודיאן | C12: 0.35
B13: סך עמלות קסטודיאן לצדדים קשורים
B14: סך עמלות קסטודיאן לצדדים שאינם קשורים | C14: 0.35
A16: 3 | B16: סה"כ מהשקעות לא סחירות | C16: 2.178
A17: א | B17: סך הוצאות הנובעות מהשקעה בניירות ערך לא סחירים שאינם לצורך מימון פרויקטים לתשתיות | C17: 2.178
A18: ב | B18: סך הוצאות הנובעות ממימון פרויקטים לתשתיות | C18: 0
A19: ג | B19: סך הוצאות הנובעות מהשקעה בזכויות מקרקעין | C19: 0
A21: 4 | B21: סה"כ עמלות ניהול חיצוני | C21: 215.7636
B22: סך תשלומים הנובעים מהשקעה בקרנות השקעה בישראל | C22: 137.92205
B23: סך תשלומים הנובעים מהשקעה בקרנות השקעה בחו"ל | C23: 48.571545
B24: סך תשלומים למנהלי תיקים ישראלים בגין השקעה בחו"ל
B25: סך תשלומים למנהלי תיקים זרים
B26: סך תשלומים בגין השקעה בתעודות סל ישראליות | C26: 0
B27: סך תשלומים בגין השקעה בתעודות סל זרות | C27: 10.45
B28: סך תשלומים בגין השקעה בקרנות נאמנות ישראליות | C28: 0
B29: סך תשלומים בגין השקעה בקרנות נאמנות זרות | C29: 18.82
A31: 5 | B31: סה"כ הוצאות אחרות | C31: 0
A32: א | B32: סך הוצאות בעד ניהול תביעות
A33: ב | B33: סך הוצאות בעד מתן משכנתאות
A35: 6 | B35: סך הכל הוצאות ישירות | C35: 235.03688
A37: 7 | B37: שיעור הוצאות ישירות
A38: א | B38: שיעור סך ההוצאות הישירות, שההוצאה בגינן מוגבלת לשיעור של 0.25% לפי התקנות (סיכום סעיפים 3א, 4, 5ב חלקי סך הנכסים) | C38: 0.0016281437
A39: ב | B39: שיעור סך הוצאות ישירות מסך נכסים לסוף שנה קודמת (באחוזים) | C39: 0.001755855
B41: סך נכסים לסוף שנה קודמת | C41: 133858.94

Sheet אגח ממשלת ישראל
B1: איי.די.איי. - חברה לביטוח בע"מ
B2: נספח 1 - סך התשלומים ששולמו בעד כל סוג של הוצאה ישירה לתקופה המסתיימת ביום | C2: 31.12.20
B4: שם הקופה:
B5: אג"ח ממשלת ישראל
C6: אלפי ₪
A8: 1 | B8: סה"כ עמלות קניה ומכירה | C8: 23.218133
B9: סך עמלות קניה ומכירה לצדדים קשורים
B10: סך עמלות קניה ומכירה לצדדים שאינם קשורים | C10: 23.218133
A12: 2 | B12: סה"כ עמלות קסטודיאן | C12: 1.16
B13: סך עמלות קסטודיאן לצדדים קשורים
B14: סך עמלות קסטודיאן לצדדים שאינם קשורים | C14: 1.16
A16: 3 | B16: סה"כ מהשקעות לא סחירות | C16: 1.212
A17: א | B17: סך הוצאות הנובעות מהשקעה בניירות ערך לא סחירים שאינם לצורך מימון פרויקטים לתשתיות | C17: 1.212
A18: ב | B18: סך הוצאות הנובעות ממימון פרויקטים לתשתיות | C18: 0
A19: ג | B19: סך הוצאות הנובעות מהשקעה בזכויות מקרקעין | C19: 0
A21: 4 | B21: סה"כ עמלות ניהול חיצוני | C21: 171.85108
B22: סך תשלומים הנובעים מהשקעה בקרנות השקעה בישראל | C22: 85.260416
B23: סך תשלומים הנובעים מהשקעה בקרנות השקעה בחו"ל | C23: 68.002108
B24: סך תשלומים למנהלי תיקים ישראלים בגין השקעה בחו"ל
B25: סך תשלומים למנהלי תיקים זרים
B26: סך תשלומים בגין השקעה בתעודות סל ישראליות | C26: 0.058552
B27: סך תשלומים בגין השקעה בתעודות סל זרות | C27: 2.71
B28: סך תשלומים בגין השקעה בקרנות נאמנות ישראליות
B29: סך תשלומים בגין השקעה בקרנות נאמנות זרות | C29: 15.82
A31: 5 | B31: סה"כ הוצאות אחרות | C31: 0
A32: א | B32: סך הוצאות בעד ניהול תביעות
A33: ב | B33: סך הוצאות בעד מתן משכנתאות
A35: 6 | B35: סך הכל הוצאות ישירות | C35: 197.44121
A37: 7 | B37: שיעור הוצאות ישירות
A38: א | B38: שיעור סך ההוצאות הישירות, שההוצאה בגינן מוגבלת לשיעור של 0.25% לפי התקנות (סיכום סעיפים 3א, 4, 5ב חלקי סך הנכסים) | C38: 0.00091971065
A39: ב | B39: שיעור סך הוצאות ישירות מסך נכסים לסוף שנה קודמת (באחוזים) | C39: 0.0010492636
B41: סך נכסים לסוף שנה קודמת | C41: 188171.22
C42: .

Sheet כללי
B1: איי.די.איי. - חברה לביטוח בע"מ
B2: נספח 1 - סך התשלומים ששולמו בעד כל סוג של הוצאה ישירה לתקופה המסתיימת ביום | C2: 31.12.20
B4: שם הקופה:
B5: מסלול כללי
C6: אלפי ₪
A8: 1 | B8: סה"כ עמלות קניה ומכירה | C8: 14.559334
B9: סך עמלות קניה ומכירה לצדדים קשורים
B10: סך עמלות קניה ומכירה לצדדים שאינם קשורים | C10: 14.559334
A12: 2 | B12: סה"כ עמלות קסטודיאן | C12: 0.22
B13: סך עמלות קסטודיאן לצדדים קשורים
B14: סך עמלות קסטודיאן לצדדים שאינם קשורים | C14: 0.22
A16: 3 | B16: סה"כ מהשקעות לא סחירות | C16: 1.438
A17: א | B17: סך הוצאות הנובעות מהשקעה בניירות ערך לא סחירים שאינם לצורך מימון פרויקטים לתשתיות | C17: 1.438
A18: ב | B18: סך הוצאות הנובעות ממימון פרויקטים לתשתיות | C18: 0
A19: ג | B19: סך הוצאות הנובעות מהשקעה בזכויות מקרקעין | C19: 0
A21: 4 | B21: סה"כ עמלות ניהול חיצוני | C21: 184.99043
B22: סך תשלומים הנובעים מהשקעה בקרנות השקעה בישראל | C22: 99.921922
B23: סך תשלומים הנובעים מהשקעה בקרנות השקעה בחו"ל | C23: 30.675875
B24: סך תשלומים למנהלי תיקים ישראלים בגין השקעה בחו"ל
B25: סך תשלומים למנהלי תיקים זרים
B26: סך תשלומים בגין השקעה בתעודות סל ישראליות | C26: 1.832635
B27: סך תשלומים בגין השקעה בתעודות סל זרות | C27: 21.73
B28: סך תשלומים בגין השקעה בקרנות נאמנות ישראליות | C28: 3.93
B29: סך תשלומים בגין השקעה בקרנות נאמנות זרות | C29: 26.9
A31: 5 | B31: סה"כ הוצאות אחרות | C31: 0
A32: א | B32: סך הוצאות בעד ניהול תביעות
A33: ב | B33: סך הוצאות בעד מתן משכנתאות
A35: 6 | B35: סך הכל הוצאות ישירות | C35: 201.20777
A37: 7 | B37: שיעור הוצאות ישירות
A38: א | B38: שיעור סך ההוצאות הישירות, שההוצאה בגינן מוגבלת לשיעור של 0.25% לפי התקנות (סיכום סעיפים 3א, 4, 5ב חלקי סך הנכסים) | C38: 0.0020053986
A39: ב | B39: שיעור סך הוצאות ישירות מסך נכסים לסוף שנה קודמת (באחוזים) | C39: 0.0021643789
B41: סך נכסים לסוף שנה קודמת | C41: 92963.28
C42: .

Sheet מסלול לבני 50 ומטה
B1: איי.די.איי. - חברה לביטוח בע"מ
B2: נספח 1 - סך התשלומים ששולמו בעד כל סוג של הוצאה ישירה לתקופה המסתיימת ביום | C2: 31.12.20
B4: שם הקופה:
B5: מסלול לבני 50 ומטה
C6: אלפי ₪
A8: 1 | B8: סה"כ עמלות קניה ומכירה | C8: 8.1920468
B9: סך עמלות קניה ומכירה לצדדים קשורים
B10: סך עמלות קניה ומכירה לצדדים שאינם קשורים | C10: 8.1920468
A12: 2 | B12: סה"כ עמלות קסטודיאן | C12: 0.13
B13: סך עמלות קסטודיאן לצדדים קשורים
B14: סך עמלות קסטודיאן לצדדים שאינם קשורים | C14: 0.13
A16: 3 | B16: סה"כ מהשקעות לא סחירות | C16: 0.953
A17: א | B17: סך הוצאות הנובעות מהשקעה בניירות ערך לא סחירים שאינם לצורך מימון פרויקטים לתשתיות | C17: 0.953
A18: ב | B18: סך הוצאות הנובעות ממימון פרויקטים לתשתיות | C18: 0
A19: ג | B19: סך הוצאות הנובעות מהשקעה בזכויות מקרקעין | C19: 0
A21: 4 | B21: סה"כ עמלות ניהול חיצוני | C21: 83.895585
B22: סך תשלומים הנובעים מהשקעה בקרנות השקעה בישראל | C22: 29.502937
B23: סך תשלומים הנובעים מהשקעה בקרנות השקעה בחו"ל | C23: 16.36114
B24: סך תשלומים למנהלי תיקים ישראלים בגין השקעה בחו"ל
B25: סך תשלומים למנהלי תיקים זרים
B26: סך תשלומים בגין השקעה בתעודות סל ישראליות | C26: 1.0615086
B27: סך תשלומים בגין השקעה בתעודות סל זרות | C27: 18.72
B28: סך תשלומים בגין השקעה בקרנות נאמנות ישראליות | C28: 2.4
B29: סך תשלומים בגין השקעה בקרנות נאמנות זרות | C29: 15.85
A31: 5 | B31: סה"כ הוצאות אחרות | C31: 0
A32: א | B32: סך הוצאות בעד ניהול תביעות
A33: ב | B33: סך הוצאות בעד מתן משכנתאות
A35: 6 | B35: סך הכל הוצאות ישירות | C35: 93.170632
A37: 7 | B37: שיעור הוצאות ישירות
A38: א | B38: שיעור סך ההוצאות הישירות, שההוצאה בגינן מוגבלת לשיעור של 0.25% לפי התקנות (סיכום סעיפים 3א, 4, 5ב חלקי סך הנכסים) | C38: 0.0012924952
A39: ב | B39: שיעור סך הוצאות ישירות מסך נכסים לסוף שנה קודמת (באחוזים) | C39: 0.0014192646
B41: סך נכסים לסוף שנה קודמת | C41: 65647.12
