Workbook

Sheet נספח 1
B1: איי.די.איי. - חברה לביטוח בע"מ
B2: נספח 1 - סך התשלומים ששולמו בעד כל סוג של הוצאה ישירה לתקופה המסתיימת ביום | C2: 31.12.21
C6: אלפי ₪
A8: 1 | B8: סה"כ עמלות קניה ומכירה | C8: =SUM(C9:C10) -> 42.681303
B9: סך עמלות קניה ומכירה לצדדים קשורים | C9: ='מסלול אג"ח'!C9+'אגח ממשלת ישראל'!C9+כללי!C9 -> 0
B10: סך עמלות קניה ומכירה לצדדים שאינם קשורים | C10: ='מסלול אג"ח'!C10+'אגח ממשלת ישראל'!C10+כללי!C10 -> 42.681303
A12: 2 | B12: סה"כ עמלות קסטודיאן | C12: =SUM(C13:C14) -> 6.93
B13: סך עמלות קסטודיאן לצדדים קשורים | C13: ='מסלול אג"ח'!C13+'אגח ממשלת ישראל'!C13+כללי!C13 -> 0
B14: סך עמלות קסטודיאן לצדדים שאינם קשורים | C14: ='מסלול אג"ח'!C14+'אגח ממשלת ישראל'!C14+כללי!C14 -> 6.93
A16: 3 | B16: סה"כ מהשקעות לא סחירות | C16: =SUM(C17:C19) -> 5.565
A17: א | B17: סך הוצאות הנובעות מהשקעה בניירות ערך לא סחירים שאינם לצורך מימון פרויקטים לתשתיות | C17: ='מסלול אג"ח'!C17+'אגח ממשלת ישראל'!C17+כללי!C17 -> 5.565
A18: ב | B18: סך הוצאות הנובעות ממימון פרויקטים לתשתיות | C18: ='מסלול אג"ח'!C18+'אגח ממשלת ישראל'!C18+כללי!C18 -> 0
A19: ג | B19: סך הוצאות הנובעות מהשקעה בזכויות מקרקעין | C19: ='מסלול אג"ח'!C19+'אגח ממשלת ישראל'!C19+כללי!C19 -> 0
A21: 4 | B21: סה"כ עמלות ניהול חיצוני | C21: =SUM(C22:C29) -> 562.20529
B22: סך תשלומים הנובעים מהשקעה בקרנות השקעה בישראל | C22: ='מסלול אג"ח'!C22+'אגח ממשלת ישראל'!C22+כללי!C22 -> 323.09585
B23: סך תשלומים הנובעים מהשקעה בקרנות השקעה בחו"ל | C23: ='מסלול אג"ח'!C23+'אגח ממשלת ישראל'!C23+כללי!C23 -> 154.4315
B24: סך תשלומים למנהלי תיקים ישראלים בגין השקעה בחו"ל | C24: ='מסלול אג"ח'!C24+'אגח ממשלת ישראל'!C24+כללי!C24 -> 0
B25: סך תשלומים למנהלי תיקים זרים | C25: ='מסלול אג"ח'!C25+'אגח ממשלת ישראל'!C25+כללי!C25 -> 0
B26: סך תשלומים בגין השקעה בתעודות סל ישראליות | C26: ='מסלול אג"ח'!C26+'אגח ממשלת ישראל'!C26+כללי!C26 -> 1.4079465
B27: סך תשלומים בגין השקעה בתעודות סל זרות | C27: ='מסלול אג"ח'!C27+'אגח ממשלת ישראל'!C27+כללי!C27 -> 43.47
B28: סך תשלומים בגין השקעה בקרנות נאמנות ישראליות | C28: ='מסלול אג"ח'!C28+'אגח ממשלת ישראל'!C28+כללי!C28 -> 5.55
B29: סך תשלומים בגין השקעה בקרנות נאמנות זרות | C29: ='מסלול אג"ח'!C29+'אגח ממשלת ישראל'!C29+כללי!C29 -> 34.25
A31: 5 | B31: סה"כ הוצאות אחרות | C31: 0
A32: א | B32: סך הוצאות בעד ניהול תביעות | C32: ='מסלול אג"ח'!C32+'אגח ממשלת ישראל'!C32+כללי!C32 -> 0
A33: ב | B33: סך הוצאות בעד מתן משכנתאות | C33: ='מסלול אג"ח'!C33+'אגח ממשלת ישראל'!C33+כללי!C33 -> 0
A35: 6 | B35: סך הכל הוצאות ישירות | C35: =C31+C21+C16+C12+C8 -> 617.3816
A37: 7 | B37: שיעור הוצאות ישירות
A38: א | B38: שיעור סך ההוצאות הישירות, שההוצאה בגינן מוגבלת לשיעור של 0.25% לפי התקנות (סיכום סעיפים 3א, 4, 5ב חלקי סך הנכסים) | C38: =+'[1]נספח 1-סה"כ התיק'!C38 -> 0.0018337016
A39: ב | B39: שיעור סך הוצאות ישירות מתוך יתרת נכסים ממוצעת (באחוזים) | C39: =+'[1]נספח 1-סה"כ התיק'!C39 -> 0.0019939289
B41: סך נכסים לסוף שנה קודמת | C41: ='מסלול אג"ח'!C41+'אגח ממשלת ישראל'!C41+כללי!C41 -> 407932.45

Sheet נספח 2
A1: איי.די.איי. - חברה לביטוח בע"מ
A2: נספח 2 - סך התשלומים ששולמו בעד כל סוג של הוצאה ישירה לתקופה המסתיימת ביום | B2: 31.12.21
B6: אלפי ₪
A8: סה"כ עמלות קניה ומכירה
A9: סך עמלות קניה ומכירה לצדדים קשורים | B9: 0
A10: סך עמלות קניה ומכירה לצדדים שאינם קשורים
A11: בנק הפועלים | B11: 32.42
A12: אחר | B12: 10.261303
A13: סך עמלות ברוקראז' | B13: =SUM(B9:B12) -> 42.681303
A15: סה"כ עמלות קסטודיאן
A16: סך עמלות קסטודיאן לצדדים קשורים | B16: 0
A17: סך עמלות קסטודיאן לצדדים שאינם קשורים
A18: בנק הפועלים | B18: 6.93
A19: סך עמלות קסטודיאן | B19: =SUM(B16:B18) -> 6.93
A21: הוצאה הנובעת מהשקעה בניירות ערך לא סחירים או ממתן הלוואה
A22: גוף/יחיד א | B22: 5.565
A23: סך הוצאות הנובעת מהשקעה בניירות ערך לא סחירים וממתן הלוואה | B23: =SUM(B20:B22) -> 5.565
A25: הוצאות הנובעות ממימון פרוייקטים לתשתיות
A27: הוצאה הנובעת מהשקעה בזכויות מקרקעין
A29: סך הוצאות הנובעות מהשקעה בזכויות במקרקעין
A31: הוצאה הנובעת מניהול תביעה או תובענה
A33: הוצאה הנובעת ממתן משכנתא
A35: סך הכל עמלות והוצאות | B35: =+B23+B19+B13 -> 55.176303
A37: סך נכסים לסוף שנה קודמת | B37: 407932.45

Sheet נספח 3
B1: איי.די.איי. - חברה לביטוח בע"מ
B2: נספח 3 - - סך התשלומים ששולמו בעד כל סוג של הוצאה ישירה לתקופה המסתיימת ביום | C2: 31.12.21
C6: אלפי ₪
A8: תשלום הנובע מהשקעה בקרנות השקעה
A9: (1) אחרים | B9: גוף/יחיד א | C9: =+'[2]דמי ניהול'!$S$6 -> 61.543114
A10: (1) אחרים | B10: גוף/יחיד ב | C10: =+'[2]דמי ניהול'!$S$7 -> 72.55739
A11: (1) אחרים | B11: גוף/יחיד ג | C11: =+'[2]דמי ניהול'!$S$8 -> 97.960959
A12: (1) אחרים | B12: גוף/יחיד ד | C12: =+'[2]דמי ניהול'!$S$10 -> 74.272836
A13: (1) אחרים | B13: אחרים | C13: =+'[2]דמי ניהול'!$S$15-C12-C11-C10-C9 -> 171.19305
A14: סך תשלומים הנובעים מהשקעה בקרנות השקעה | C14: =SUM(C9:C13) -> 477.52735
A16: תשלום למנהל תיקים ישראלי
A18: סך תשלומים למנהלי תיקים ישראליים
A20: תשלום למנהל תיקים זר
A22: סך תשלומים למנהלי תיקים זרים
A24: תשלום בגין השקעה בקרנות נאמנות
A25: א. קרן נאמנות ישראלית
A26: (1) אחרים | B26: אחרים | C26: =+'[1]נספח 1-סה"כ התיק'!C28 -> 5.55
A27: ב. קרן חוץ
A28: (1) אחרים | B28: אחרים | C28: =+'[1]נספח 1-סה"כ התיק'!C29 -> 34.25
A29: סך תשלומים בגין השקעה בקרנות נאמנות | C29: =SUM(C25:C28) -> 39.8
A31: תשלום בגין השקעה בתעודות סל
A32: א. קרנות סל ישראליות
A33: (1) אחרים | B33: אחרים | C33: =+'[1]נספח 1-סה"כ התיק'!C26 -> 1.4079465
A34: ב. קרנות סל זרות
A35: (1) אחרים | B35: אחרים | C35: =+'[1]נספח 1-סה"כ התיק'!C27 -> 43.47
A36: סך תשלומים בגין השקעה בקרנות סל | C36: =SUM(C32:C35) -> 44.877947
A38: סך הכל עמלות ניהול חיצוני | C38: =+C36+C29+C14 -> 562.20529
A40: סך נכסים לסוף שנה קודמת | C40: =+'[1]נספח 1-סה"כ התיק'!C41 -> 407932.45

Sheet אגח ממשלת ישראל
B1: איי.די.איי. - חברה לביטוח בע"מ
B2: נספח 1 - סך התשלומים ששולמו בעד כל סוג של הוצאה ישירה לתקופה המסתיימת ביום | C2: 31.12.21
B4: שם הקופה:
B5: אג"ח ממשלת ישראל
C6: אלפי ₪
A8: 1 | B8: סה"כ עמלות קניה ומכירה | C8: =SUM(C9:C10) -> 11.833419
B9: סך עמלות קניה ומכירה לצדדים קשורים | C9: =+'[1]אגח ממשלת ישראל'!C9 -> 0
B10: סך עמלות קניה ומכירה לצדדים שאינם קשורים | C10: =+'[1]אגח ממשלת ישראל'!C10 -> 11.833419
A12: 2 | B12: סה"כ עמלות קסטודיאן | C12: =SUM(C13:C14) -> 5.14
B13: סך עמלות קסטודיאן לצדדים קשורים | C13: =+'[1]אגח ממשלת ישראל'!C13 -> 0
B14: סך עמלות קסטודיאן לצדדים שאינם קשורים | C14: =+'[1]אגח ממשלת ישראל'!C14 -> 5.14
A16: 3 | B16: סה"כ מהשקעות לא סחירות | C16: =SUM(C17:C19) -> 1.413
A17: א | B17: סך הוצאות הנובעות מהשקעה בניירות ערך לא סחירים שאינם לצורך מימון פרויקטים לתשתיות | C17: =+'[1]אגח ממשלת ישראל'!C17 -> 1.413
A18: ב | B18: סך הוצאות הנובעות ממימון פרויקטים לתשתיות | C18: =+'[1]אגח ממשלת ישראל'!C18 -> 0
A19: ג | B19: סך הוצאות הנובעות מהשקעה בזכויות מקרקעין | C19: =+'[1]אגח ממשלת ישראל'!C19 -> 0
A21: 4 | B21: סה"כ עמלות ניהול חיצוני | C21: =SUM(C22:C29) -> 163.08939
B22: סך תשלומים הנובעים מהשקעה בקרנות השקעה בישראל | C22: =+'[1]אגח ממשלת ישראל'!C22 -> 90.498425
B23: סך תשלומים הנובעים מהשקעה בקרנות השקעה בחו"ל | C23: =+'[1]אגח ממשלת ישראל'!C23 -> 63.113511
B24: סך תשלומים למנהלי תיקים ישראלים בגין השקעה בחו"ל | C24: =+'[1]אגח ממשלת ישראל'!C24 -> 0
B25: סך תשלומים למנהלי תיקים זרים | C25: =+'[1]אגח ממשלת ישראל'!C25 -> 0
B26: סך תשלומים בגין השקעה בתעודות סל ישראליות | C26: =+'[1]אגח ממשלת ישראל'!C26 -> 0.077459009
B27: סך תשלומים בגין השקעה בתעודות סל זרות | C27: =+'[1]אגח ממשלת ישראל'!C27 -> 1.55
B28: סך תשלומים בגין השקעה בקרנות נאמנות ישראליות | C28: =+'[1]אגח ממשלת ישראל'!C28 -> 0
B29: סך תשלומים בגין השקעה בקרנות נאמנות זרות | C29: =+'[1]אגח ממשלת ישראל'!C29 -> 7.85
A31: 5 | B31: סה"כ הוצאות אחרות | C31: 0
A32: א | B32: סך הוצאות בעד ניהול תביעות | C32: =+'[1]אגח ממשלת ישראל'!C32 -> 0
A33: ב | B33: סך הוצאות בעד מתן משכנתאות | C33: =+'[1]אגח ממשלת ישראל'!C33 -> 0
A35: 6 | B35: סך הכל הוצאות ישירות | C35: =C31+C21+C16+C12+C8 -> 181.47581
A37: 7 | B37: שיעור הוצאות ישירות
A38: א | B38: שיעור סך ההוצאות הישירות, שההוצאה בגינן מוגבלת לשיעור של 0.25% לפי התקנות (סיכום סעיפים 3א, 4, 5ב חלקי סך הנכסים) | C38: =+'[1]אגח ממשלת ישראל'!C38 -> 0.0014817055
A39: ב | B39: שיעור סך הוצאות ישירות מתוך יתרת נכסים ממוצעת (באחוזים) | C39: =+'[1]אגח ממשלת ישראל'!C39 -> 0.0016345884
B41: סך נכסים לסוף שנה קודמת | C41: =+'[1]אגח ממשלת ישראל'!C41 -> 177369.46
C42: .

Sheet מסלול אג"ח
B1: איי.די.איי. - חברה לביטוח בע"מ
B2: נספח 1 - סך התשלומים ששולמו בעד כל סוג של הוצאה ישירה לתקופה המסתיימת ביום | C2: 31.12.21
B4: שם הקופה:
B5: מסלול אג"ח
C6: אלפי ₪
A8: 1 | B8: סה"כ עמלות קניה ומכירה | C8: =SUM(C9:C10) -> 10.345072
B9: סך עמלות קניה ומכירה לצדדים קשורים | C9: =+'[1]מסלול אג"ח'!C9 -> 0
B10: סך עמלות קניה ומכירה לצדדים שאינם קשורים | C10: =+'[1]מסלול אג"ח'!C10 -> 10.345072
A12: 2 | B12: סה"כ עמלות קסטודיאן | C12: =SUM(C13:C14) -> 0.95
B13: סך עמלות קסטודיאן לצדדים קשורים | C13: =+'[1]מסלול אג"ח'!C13 -> 0
B14: סך עמלות קסטודיאן לצדדים שאינם קשורים | C14: =+'[1]מסלול אג"ח'!C14 -> 0.95
A16: 3 | B16: סה"כ מהשקעות לא סחירות | C16: =SUM(C17:C19) -> 2.265
A17: א | B17: סך הוצאות הנובעות מהשקעה בניירות ערך לא סחירים שאינם לצורך מימון פרויקטים לתשתיות | C17: =+'[1]מסלול אג"ח'!C17 -> 2.265
A18: ב | B18: סך הוצאות הנובעות ממימון פרויקטים לתשתיות | C18: =+'[1]מסלול אג"ח'!C18 -> 0
A19: ג | B19: סך הוצאות הנובעות מהשקעה בזכויות מקרקעין | C19: =+'[1]מסלול אג"ח'!C19 -> 0
A21: 4 | B21: סה"כ עמלות ניהול חיצוני | C21: =SUM(C22:C29) -> 192.78537
B22: סך תשלומים הנובעים מהשקעה בקרנות השקעה בישראל | C22: =+'[1]מסלול אג"ח'!C22 -> 135.16359
B23: סך תשלומים הנובעים מהשקעה בקרנות השקעה בחו"ל | C23: =+'[1]מסלול אג"ח'!C23 -> 44.721775
B24: סך תשלומים למנהלי תיקים ישראלים בגין השקעה בחו"ל | C24: =+'[1]מסלול אג"ח'!C24 -> 0
B25: סך תשלומים למנהלי תיקים זרים | C25: =+'[1]מסלול אג"ח'!C25 -> 0
B26: סך תשלומים בגין השקעה בתעודות סל ישראליות | C26: =+'[1]מסלול אג"ח'!C26 -> 0
B27: סך תשלומים בגין השקעה בתעודות סל זרות | C27: =+'[1]מסלול אג"ח'!C27 -> 3.49
B28: סך תשלומים בגין השקעה בקרנות נאמנות ישראליות | C28: =+'[1]מסלול אג"ח'!C28 -> 0
B29: סך תשלומים בגין השקעה בקרנות נאמנות זרות | C29: =+'[1]מסלול אג"ח'!C29 -> 9.41
A31: 5 | B31: סה"כ הוצאות אחרות | C31: 0
A32: א | B32: סך הוצאות בעד ניהול תביעות | C32: =+'[1]מסלול אג"ח'!C32 -> 0
A33: ב | B33: סך הוצאות בעד מתן משכנתאות | C33: =+'[1]מסלול אג"ח'!C33 -> 0
A35: 6 | B35: סך הכל הוצאות ישירות | C35: =C31+C21+C16+C12+C8 -> 206.34544
A37: 7 | B37: שיעור הוצאות ישירות
A38: א | B38: שיעור סך ההוצאות הישירות, שההוצאה בגינן מוגבלת לשיעור של 0.25% לפי התקנות (סיכום סעיפים 3א, 4, 5ב חלקי סך הנכסים) | C38: =+'[1]מסלול אג"ח'!C38 -> 0.0021101971
A39: ב | B39: שיעור סך הוצאות ישירות מתוך יתרת נכסים ממוצעת (באחוזים) | C39: =+'[1]מסלול אג"ח'!C39 -> 0.0022323954
B41: סך נכסים לסוף שנה קודמת | C41: =+'[1]מסלול אג"ח'!C41 -> 129418.4

Sheet כללי
B1: איי.די.איי. - חברה לביטוח בע"מ
B2: נספח 1 - סך התשלומים ששולמו בעד כל סוג של הוצאה ישירה לתקופה המסתיימת ביום | C2: 31.12.21
B4: שם הקופה:
B5: מסלול כללי
C6: אלפי ₪
A8: 1 | B8: סה"כ עמלות קניה ומכירה | C8: =SUM(C9:C10) -> 20.502812
B9: סך עמלות קניה ומכירה לצדדים קשורים | C9: =+[1]כללי!C9 -> 0
B10: סך עמלות קניה ומכירה לצדדים שאינם קשורים | C10: =+[1]כללי!C10 -> 20.502812
A12: 2 | B12: סה"כ עמלות קסטודיאן | C12: =SUM(C13:C14) -> 0.84
B13: סך עמלות קסטודיאן לצדדים קשורים | C13: =+[1]כללי!C13 -> 0
B14: סך עמלות קסטודיאן לצדדים שאינם קשורים | C14: =+[1]כללי!C14 -> 0.84
A16: 3 | B16: סה"כ מהשקעות לא סחירות | C16: =SUM(C17:C19) -> 1.887
A17: א | B17: סך הוצאות הנובעות מהשקעה בניירות ערך לא סחירים שאינם לצורך מימון פרויקטים לתשתיות | C17: =+[1]כללי!C17 -> 1.887
A18: ב | B18: סך הוצאות הנובעות ממימון פרויקטים לתשתיות | C18: =+[1]כללי!C18 -> 0
A19: ג | B19: סך הוצאות הנובעות מהשקעה בזכויות מקרקעין | C19: =+[1]כללי!C19 -> 0
A21: 4 | B21: סה"כ עמלות ניהול חיצוני | C21: =SUM(C22:C29) -> 206.33053
B22: סך תשלומים הנובעים מהשקעה בקרנות השקעה בישראל | C22: =+[1]כללי!C22 -> 97.433834
B23: סך תשלומים הנובעים מהשקעה בקרנות השקעה בחו"ל | C23: =+[1]כללי!C23 -> 46.596212
B24: סך תשלומים למנהלי תיקים ישראלים בגין השקעה בחו"ל | C24: =+[1]כללי!C24 -> 0
B25: סך תשלומים למנהלי תיקים זרים | C25: =+[1]כללי!C25 -> 0
B26: סך תשלומים בגין השקעה בתעודות סל ישראליות | C26: =+[1]כללי!C26 -> 1.3304875
B27: סך תשלומים בגין השקעה בתעודות סל זרות | C27: =+[1]כללי!C27 -> 38.43
B28: סך תשלומים בגין השקעה בקרנות נאמנות ישראליות | C28: =+[1]כללי!C28 -> 5.55
B29: סך תשלומים בגין השקעה בקרנות נאמנות זרות | C29: =+[1]כללי!C29 -> 16.99
A31: 5 | B31: סה"כ הוצאות אחרות | C31: 0
A32: א | B32: סך הוצאות בעד ניהול תביעות
A33: ב | B33: סך הוצאות בעד מתן משכנתאות
A35: 6 | B35: סך הכל הוצאות ישירות | C35: =C31+C21+C16+C12+C8 -> 229.56035
A37: 7 | B37: שיעור הוצאות ישירות
A38: א | B38: שיעור סך ההוצאות הישירות, שההוצאה בגינן מוגבלת לשיעור של 0.25% לפי התקנות (סיכום סעיפים 3א, 4, 5ב חלקי סך הנכסים) | C38: =+[1]כללי!C38 -> 0.0019610591
A39: ב | B39: שיעור סך הוצאות ישירות מתוך יתרת נכסים ממוצעת (באחוזים) | C39: =+[1]כללי!C39 -> 0.0021620725
B41: סך נכסים לסוף שנה קודמת | C41: 101144.59
C42: .
