Workbook

Sheet נוסטרו חיים
B1: פירוט תרומת אפיקי ההשקעה לתשואה הכוללת
B2: ביטוח ישיר נוסטרו
B3: נוסטרו חיים | C3: פירוט תרומת אפיקי השקעה בגין התחייבויות מסוג 10,30,50
B5: נתונים לרבעון בשנת : | C5: רבעון 1 | I5: רבעון 2 | O5: רבעון 3 | U5: רבעון 4
B6: 2024 | C6: תרומה להכנסות מהשקעות (רווח/הפסד) | E6: תרומה להכנסה הכוללת (הון עצמי) | G6: סך נכסים | I6: תרומה להכנסות מהשקעות (רווח/הפסד) | K6: תרומה להכנסה הכוללת (הון עצמי) | M6: סך נכסים | O6: תרומה להכנסות מהשקעות (רווח/הפסד) | Q6: תרומה להכנסה הכוללת (הון עצמי) | S6: סך נכסים | U6: תרומה להכנסות מהשקעות (רווח/הפסד) | W6: תרומה להכנסה הכוללת (הון עצמי) | Y6: סך נכסים
C7: (באלפי ש"ח) | D7: (באחוזים) | E7: (באלפי ש"ח) | F7: (באחוזים) | G7: (באלפי ש"ח) | H7: (באחוזים) | I7: (באלפי ש"ח) | J7: (באחוזים) | K7: (באלפי ש"ח) | L7: (באחוזים) | M7: (באלפי ש"ח) | N7: (באחוזים) | O7: (באלפי ש"ח) | P7: (באחוזים) | Q7: (באלפי ש"ח) | R7: (באחוזים) | S7: (באלפי ש"ח) | T7: (באחוזים) | U7: (באלפי ש"ח) | V7: (באחוזים) | W7: (באלפי ש"ח) | X7: (באחוזים) | Y7: (באלפי ש"ח) | Z7: (באחוזים)
B8: מזומנים ושווי מזומנים | C8: 460 | D8: 0.1149 | E8: 460 | F8: 0.1057 | G8: 25884 | H8: 0.0585 | I8: 560 | J8: 0.1111 | K8: 560 | L8: 0.1355 | M8: 29598 | N8: 0.0692 | O8: 558 | P8: 0.1062 | Q8: 558 | R8: 0.0974 | S8: 27050 | T8: 0.0601 | U8: 581 | V8: 0.138 | W8: 581 | X8: 0.1279 | Y8: 13876 | Z8: 0.0305
B9: אג"ח ממשלתיות סחירות | C9: 3542 | D9: 0.8851 | E9: 3893 | F9: 0.8943 | G9: 416495 | H9: 0.9415 | I9: 4479 | J9: 0.8889 | K9: 3574 | L9: 0.8645 | M9: 398364 | N9: 0.9308 | O9: 4697 | P9: 0.8938 | Q9: 5170 | R9: 0.9026 | S9: 423252 | T9: 0.9399 | U9: 3628 | V9: 0.862 | W9: 3963 | X9: 0.8721 | Y9: 440613 | Z9: 0.9695
B10: אג"ח מיועדות | C10: 0 | D10: 0 | E10: 0 | F10: 0 | G10: 0 | H10: 0 | I10: 0 | J10: 0 | K10: 0 | L10: 0 | M10: 0 | N10: 0 | O10: 0 | P10: 0 | Q10: 0 | R10: 0 | S10: 0 | T10: 0 | U10: 0 | V10: 0 | W10: 0 | X10: 0 | Y10: 0 | Z10: 0
B11: אג"ח קונצרניות סחירות | C11: 0 | D11: 0 | E11: 0 | F11: 0 | G11: 0 | H11: 0 | I11: 0 | J11: 0 | K11: 0 | L11: 0 | M11: 0 | N11: 0 | O11: 0 | P11: 0 | Q11: 0 | R11: 0 | S11: 0 | T11: 0 | U11: 0 | V11: 0 | W11: 0 | X11: 0 | Y11: 0 | Z11: 0
B12: אג"ח קונצרניות לא סחירות | C12: 0 | D12: 0 | E12: 0 | F12: 0 | G12: 0 | H12: 0 | I12: 0 | J12: 0 | K12: 0 | L12: 0 | M12: 0 | N12: 0 | O12: 0 | P12: 0 | Q12: 0 | R12: 0 | S12: 0 | T12: 0 | U12: 0 | V12: 0 | W12: 0 | X12: 0 | Y12: 0 | Z12: 0
B13: מניות | C13: 0 | D13: 0 | E13: 0 | F13: 0 | G13: 0 | H13: 0 | I13: 0 | J13: 0 | K13: 0 | L13: 0 | M13: 0 | N13: 0 | O13: 0 | P13: 0 | Q13: 0 | R13: 0 | S13: 0 | T13: 0 | U13: 0 | V13: 0 | W13: 0 | X13: 0 | Y13: 0 | Z13: 0
B14: תעודות סל | C14: 0 | D14: 0 | E14: 0 | F14: 0 | G14: 0 | H14: 0 | I14: 0 | J14: 0 | K14: 0 | L14: 0 | M14: 0 | N14: 0 | O14: 0 | P14: 0 | Q14: 0 | R14: 0 | S14: 0 | T14: 0 | U14: 0 | V14: 0 | W14: 0 | X14: 0 | Y14: 0 | Z14: 0
B15: קרנות נאמנות | C15: 0 | D15: 0 | E15: 0 | F15: 0 | G15: 0 | H15: 0 | I15: 0 | J15: 0 | K15: 0 | L15: 0 | M15: 0 | N15: 0 | O15: 0 | P15: 0 | Q15: 0 | R15: 0 | S15: 0 | T15: 0 | U15: 0 | V15: 0 | W15: 0 | X15: 0 | Y15: 0 | Z15: 0
B16: הלוואות | C16: 0 | D16: 0 | E16: 0 | F16: 0 | G16: 0 | H16: 0 | I16: 0 | J16: 0 | K16: 0 | L16: 0 | M16: 0 | N16: 0 | O16: 0 | P16: 0 | Q16: 0 | R16: 0 | S16: 0 | T16: 0 | U16: 0 | V16: 0 | W16: 0 | X16: 0 | Y16: 0 | Z16: 0
B17: פיקדונות (שאינם מובנים) | C17: 0 | D17: 0 | E17: 0 | F17: 0 | G17: 0 | H17: 0 | I17: 0 | J17: 0 | K17: 0 | L17: 0 | M17: 0 | N17: 0 | O17: 0 | P17: 0 | Q17: 0 | R17: 0 | S17: 0 | T17: 0 | U17: 0 | V17: 0 | W17: 0 | X17: 0 | Y17: 0 | Z17: 0
B18: חוזים עתידיים | C18: 0 | D18: 0 | E18: 0 | F18: 0 | G18: 0 | H18: 0 | I18: 0 | J18: 0 | K18: 0 | L18: 0 | M18: 0 | N18: 0 | O18: 0 | P18: 0 | Q18: 0 | R18: 0 | S18: 0 | T18: 0 | U18: 0 | V18: 0 | W18: 0 | X18: 0 | Y18: 0 | Z18: 0
B19: השקעה בחברות מוחזקות | C19: 0 | D19: 0 | E19: 0 | F19: 0 | G19: 0 | H19: 0 | I19: 0 | J19: 0 | K19: 0 | L19: 0 | M19: 0 | N19: 0 | O19: 0 | P19: 0 | Q19: 0 | R19: 0 | S19: 0 | T19: 0 | U19: 0 | V19: 0 | W19: 0 | X19: 0 | Y19: 0 | Z19: 0
... B31: סה"כ | C31: 4002 | D31: 1 | E31: 4353 | F31: 1 | G31: 442379 | H31: 1 | I31: 5039 | J31: 1 | K31: 4134 | L31: 1 | M31: 427962 | N31: 1 | O31: 5255 | P31: 1 | Q31: 5728 | R31: 1 | S31: 450302 | T31: 1 | U31: 4209 | V31: 1 | W31: 4544 | X31: 1 | Y31: 454489 | Z31: 1
B33: נתונים מצטברים בשנת : | C33: רבעון 1 | I33: רבעון 1+2 | O33: רבעון 1+2+3 | U33: רבעון 1+2+3+4
B34: =+B6 -> 2024 | C34: תרומה להכנסות מהשקעות (רווח/הפסד) | E34: תרומה להכנסה הכוללת (הון עצמי) | G34: סך נכסים | I34: תרומה להכנסות מהשקעות (רווח/הפסד) | K34: תרומה להכנסה הכוללת (הון עצמי) | M34: סך נכסים | O34: תרומה להכנסות מהשקעות (רווח/הפסד) | Q34: תרומה להכנסה הכוללת (הון עצמי) | S34: סך נכסים | U34: תרומה להכנסות מהשקעות (רווח/הפסד) | W34: תרומה להכנסה הכוללת (הון עצמי) | Y34: סך נכסים
C35: (באלפי ש"ח) | D35: (באחוזים) | E35: (באלפי ש"ח) | F35: (באחוזים) | G35: (באלפי ש"ח) | H35: (באחוזים) | I35: (באלפי ש"ח) | J35: (באחוזים) | K35: (באלפי ש"ח) | L35: (באחוזים) | M35: (באלפי ש"ח) | N35: (באחוזים) | O35: (באלפי ש"ח) | P35: (באחוזים) | Q35: (באלפי ש"ח) | R35: (באחוזים) | S35: (באלפי ש"ח) | T35: (באחוזים) | U35: (באלפי ש"ח) | V35: (באחוזים) | W35: (באלפי ש"ח) | X35: (באחוזים) | Y35: (באלפי ש"ח) | Z35: (באחוזים)
B36: מזומנים ושווי מזומנים | C36: 460 | D36: 0.11494253 | E36: 460 | F36: 0.10567425 | G36: 25884 | H36: 0.058510915 | I36: 1020 | J36: 0.11281938 | K36: 1020 | L36: 0.12018381 | M36: 29598 | N36: 0.069160346 | O36: 1578 | P36: 0.11038053 | Q36: 1578 | R36: 0.1110095 | S36: 27050 | T36: 0.060070797 | U36: =IF(U$23=0,"",U8+O36) -> 2159 | V36: =IFERROR(U36/U$51,"") -> 0.11667117 | W36: =IF(W$23=0,"",W8+Q36) -> 2159 | X36: =IFERROR(W36/W$51,"") -> 0.11509142 | Y36: =Y8 -> 13876 | Z36: =IFERROR(Y36/Y$51,"") -> 0.030530992
B37: אג"ח ממשלתיות סחירות | C37: 3542 | D37: 0.88505747 | E37: 3893 | F37: 0.89432575 | G37: 416495 | H37: 0.94148909 | I37: 8021 | J37: 0.88718062 | K37: 7467 | L37: 0.87981619 | M37: 398364 | N37: 0.93083965 | O37: 12718 | P37: 0.88961947 | Q37: 12637 | R37: 0.8889905 | S37: 423252 | T37: 0.9399292 | U37: =IF(U$23=0,"",U9+O37) -> 16346 | V37: =IFERROR(U37/U$51,"") -> 0.88332883 | W37: =IF(W$23=0,"",W9+Q37) -> 16600 | X37: =IFERROR(W37/W$51,"") -> 0.88490858 | Y37: =Y9 -> 440613 | Z37: =IFERROR(Y37/Y$51,"") -> 0.96946901
B38: אג"ח מיועדות | C38: 0 | D38: 0 | E38: 0 | F38: 0 | G38: 0 | H38: 0 | I38: 0 | J38: 0 | K38: 0 | L38: 0 | M38: 0 | N38: 0 | O38: 0 | P38: 0 | Q38: 0 | R38: 0 | S38: 0 | T38: 0 | U38: =IF(U$23=0,"",U10+O38) -> 0 | V38: =IFERROR(U38/U$51,"") -> 0 | W38: =IF(W$23=0,"",W10+Q38) -> 0 | X38: =IFERROR(W38/W$51,"") -> 0 | Y38: =Y10 -> 0 | Z38: =IFERROR(Y38/Y$51,"") -> 0
B39: אג"ח קונצרניות סחירות | C39: 0 | D39: 0 | E39: 0 | F39: 0 | G39: 0 | H39: 0 | I39: 0 | J39: 0 | K39: 0 | L39: 0 | M39: 0 | N39: 0 | O39: 0 | P39: 0 | Q39: 0 | R39: 0 | S39: 0 | T39: 0 | U39: =IF(U$23=0,"",U11+O39) -> 0 | V39: =IFERROR(U39/U$51,"") -> 0 | W39: =IF(W$23=0,"",W11+Q39) -> 0 | X39: =IFERROR(W39/W$51,"") -> 0 | Y39: =Y11 -> 0 | Z39: =IFERROR(Y39/Y$51,"") -> 0
B40: אג"ח קונצרניות לא סחירות | C40: 0 | D40: 0 | E40: 0 | F40: 0 | G40: 0 | H40: 0 | I40: 0 | J40: 0 | K40: 0 | L40: 0 | M40: 0 | N40: 0 | O40: 0 | P40: 0 | Q40: 0 | R40: 0 | S40: 0 | T40: 0 | U40: =IF(U$23=0,"",U12+O40) -> 0 | V40: =IFERROR(U40/U$51,"") -> 0 | W40: =IF(W$23=0,"",W12+Q40) -> 0 | X40: =IFERROR(W40/W$51,"") -> 0 | Y40: =Y12 -> 0 | Z40: =IFERROR(Y40/Y$51,"") -> 0
B41: מניות | C41: 0 | D41: 0 | E41: 0 | F41: 0 | G41: 0 | H41: 0 | I41: 0 | J41: 0 | K41: 0 | L41: 0 | M41: 0 | N41: 0 | O41: 0 | P41: 0 | Q41: 0 | R41: 0 | S41: 0 | T41: 0 | U41: =IF(U$23=0,"",U13+O41) -> 0 | V41: =IFERROR(U41/U$51,"") -> 0 | W41: =IF(W$23=0,"",W13+Q41) -> 0 | X41: =IFERROR(W41/W$51,"") -> 0 | Y41: =Y13 -> 0 | Z41: =IFERROR(Y41/Y$51,"") -> 0
B42: תעודות סל | C42: 0 | D42: 0 | E42: 0 | F42: 0 | G42: 0 | H42: 0 | I42: 0 | J42: 0 | K42: 0 | L42: 0 | M42: 0 | N42: 0 | O42: 0 | P42: 0 | Q42: 0 | R42: 0 | S42: 0 | T42: 0 | U42: =IF(U$23=0,"",U14+O42) -> 0 | V42: =IFERROR(U42/U$51,"") -> 0 | W42: =IF(W$23=0,"",W14+Q42) -> 0 | X42: =IFERROR(W42/W$51,"") -> 0 | Y42: =Y14 -> 0 | Z42: =IFERROR(Y42/Y$51,"") -> 0
B43: קרנות נאמנות | C43: 0 | D43: 0 | E43: 0 | F43: 0 | G43: 0 | H43: 0 | I43: 0 | J43: 0 | K43: 0 | L43: 0 | M43: 0 | N43: 0 | O43: 0 | P43: 0 | Q43: 0 | R43: 0 | S43: 0 | T43: 0 | U43: =IF(U$23=0,"",U15+O43) -> 0 | V43: =IFERROR(U43/U$51,"") -> 0 | W43: =IF(W$23=0,"",W15+Q43) -> 0 | X43: =IFERROR(W43/W$51,"") -> 0 | Y43: =Y15 -> 0 | Z43: =IFERROR(Y43/Y$51,"") -> 0
B44: הלוואות | C44: 0 | D44: 0 | E44: 0 | F44: 0 | G44: 0 | H44: 0 | I44: 0 | J44: 0 | K44: 0 | L44: 0 | M44: 0 | N44: 0 | O44: 0 | P44: 0 | Q44: 0 | R44: 0 | S44: 0 | T44: 0 | U44: =IF(U$23=0,"",U16+O44) -> 0 | V44: =IFERROR(U44/U$51,"") -> 0 | W44: =IF(W$23=0,"",W16+Q44) -> 0 | X44: =IFERROR(W44/W$51,"") -> 0 | Y44: =Y16 -> 0 | Z44: =IFERROR(Y44/Y$51,"") -> 0
B45: פיקדונות (שאינם מובנים) | C45: 0 | D45: 0 | E45: 0 | F45: 0 | G45: 0 | H45: 0 | I45: 0 | J45: 0 | K45: 0 | L45: 0 | M45: 0 | N45: 0 | O45: 0 | P45: 0 | Q45: 0 | R45: 0 | S45: 0 | T45: 0 | U45: =IF(U$23=0,"",U17+O45) -> 0 | V45: =IFERROR(U45/U$51,"") -> 0 | W45: =IF(W$23=0,"",W17+Q45) -> 0 | X45: =IFERROR(W45/W$51,"") -> 0 | Y45: =Y17 -> 0 | Z45: =IFERROR(Y45/Y$51,"") -> 0
B46: חוזים עתידיים | C46: 0 | D46: 0 | E46: 0 | F46: 0 | G46: 0 | H46: 0 | I46: 0 | J46: 0 | K46: 0 | L46: 0 | M46: 0 | N46: 0 | O46: 0 | P46: 0 | Q46: 0 | R46: 0 | S46: 0 | T46: 0 | U46: =IF(U$23=0,"",U18+O46) -> 0 | V46: =IFERROR(U46/U$51,"") -> 0 | W46: =IF(W$23=0,"",W18+Q46) -> 0 | X46: =IFERROR(W46/W$51,"") -> 0 | Y46: =Y18 -> 0 | Z46: =IFERROR(Y46/Y$51,"") -> 0
B47: השקעה בחברות מוחזקות | C47: 0 | D47: 0 | E47: 0 | F47: 0 | G47: 0 | H47: 0 | I47: 0 | J47: 0 | K47: 0 | L47: 0 | M47: 0 | N47: 0 | O47: 0 | P47: 0 | Q47: 0 | R47: 0 | S47: 0 | T47: 0 | U47: =IF(U$23=0,"",U19+O47) -> 0 | V47: =IFERROR(U47/U$51,"") -> 0 | W47: =IF(W$23=0,"",W19+Q47) -> 0 | X47: =IFERROR(W47/W$51,"") -> 0 | Y47: =Y19 -> 0 | Z47: =IFERROR(Y47/Y$51,"") -> 0
... B50: נכסים אחרים | C50: 0 | D50: 0 | E50: 0 | F50: 0 | G50: 0 | H50: 0 | I50: 0 | J50: 0 | K50: 0 | L50: 0 | M50: 0 | N50: 0 | O50: 0 | P50: 0 | Q50: 0 | R50: 0 | S50: 0 | T50: 0 | U50: =IF(U$23=0,"",U22+O50) -> 0 | V50: =IFERROR(U50/U$51,"") -> 0 | W50: =IF(W$23=0,"",W22+Q50) -> 0 | X50: =IFERROR(W50/W$51,"") -> 0 | Y50: =Y22 -> 0 | Z50: =IFERROR(Y50/Y$51,"") -> 0
B51: סה"כ | C51: 4002 | D51: 1 | E51: 4353 | F51: 1 | G51: 442379 | H51: 1 | I51: 9041 | J51: 1 | K51: 8487 | L51: 1 | M51: 427962 | N51: 1 | O51: 14296 | P51: 1 | Q51: 14215 | R51: 1 | S51: 450302 | T51: 1 | U51: =SUM(U36:U50) -> 18505 | V51: =IFERROR(U51/U$51,"") -> 1 | W51: =SUM(W36:W50) -> 18759 | X51: =IFERROR(W51/W$51,"") -> 1 | Y51: =SUM(Y36:Y50) -> 454489 | Z51: =IFERROR(Y51/Y$51,"") -> 1
B53: נכסים בארץ | C53: 4002 | D53: 1 | E53: 4353 | F53: 1 | G53: 442379 | H53: 1 | I53: 9041 | J53: 1 | K53: 8487 | L53: 1 | M53: 427962 | N53: 1 | O53: 14296 | P53: 1 | Q53: 14215 | R53: 1 | S53: 450302 | T53: 1 | U53: =IF(U$23=0,"",U25+O53) -> 18505 | V53: =IFERROR(U53/U$55,"") -> 1 | W53: =IF(W$23=0,"",W25+Q53) -> 18759 | X53: =IFERROR(W53/W$55,"") -> 1 | Y53: =Y25 -> 454489 | Z53: =IFERROR(Y53/Y$55,"") -> 1
B54: נכסים בחו"ל | C54: 0 | D54: 0 | E54: 0 | F54: 0 | G54: 0 | H54: 0 | I54: 0 | J54: 0 | K54: 0 | L54: 0 | M54: 0 | N54: 0 | O54: 0 | P54: 0 | Q54: 0 | R54: 0 | S54: 0 | T54: 0 | U54: =IF(U$23=0,"",U26+O54) -> 0 | V54: =IFERROR(U54/U$55,"") -> 0 | W54: =IF(W$23=0,"",W26+Q54) -> 0 | X54: =IFERROR(W54/W$55,"") -> 0 | Y54: =Y26 -> 0 | Z54: =IFERROR(Y54/Y$55,"") -> 0
B55: סה"כ | C55: 4002 | D55: 1 | E55: 4353 | F55: 1 | G55: 442379 | H55: 1 | I55: 9041 | J55: 1 | K55: 8487 | L55: 1 | M55: 427962 | N55: 1 | O55: 14296 | P55: 1 | Q55: 14215 | R55: 1 | S55: 450302 | T55: 1 | U55: =SUM(U53:U54) -> 18505 | V55: =IFERROR(U55/U$55,"") -> 1 | W55: =SUM(W53:W54) -> 18759 | X55: =IFERROR(W55/W$55,"") -> 1 | Y55: =SUM(Y53:Y54) -> 454489 | Z55: =IFERROR(Y55/Y$55,"") -> 1
B57: נכסים סחירים ונזילים | C57: 4002 | D57: 1 | E57: 4353 | F57: 1 | G57: 442379 | H57: 1 | I57: 9041 | J57: 1 | K57: 8487 | L57: 1 | M57: 427962 | N57: 1 | O57: 14296 | P57: 1 | Q57: 14215 | R57: 1 | S57: 450302 | T57: 1 | U57: =IF(U$23=0,"",U29+O57) -> 18505 | V57: =IFERROR(U57/U$59,"") -> 1 | W57: =IF(W$23=0,"",W29+Q57) -> 18759 | X57: =IFERROR(W57/W$59,"") -> 1 | Y57: =Y29 -> 454489 | Z57: =IFERROR(Y57/Y$59,"") -> 1
...

Sheet כללי והון
B1: פירוט תרומת אפיקי ההשקעה לתשואה הכוללת
B2: ביטוח ישיר נוסטרו
B3: נוסטרו כללי והון
B5: נתונים לרבעון בשנת : | C5: רבעון 1 | I5: רבעון 2 | O5: רבעון 3 | U5: רבעון 4
B6: =+'נוסטרו חיים'!B6 -> 2024 | C6: תרומה להכנסות מהשקעות (רווח/הפסד) | E6: תרומה להכנסה הכוללת (הון עצמי) | G6: סך נכסים | I6: תרומה להכנסות מהשקעות (רווח/הפסד) | K6: תרומה להכנסה הכוללת (הון עצמי) | M6: סך נכסים | O6: תרומה להכנסות מהשקעות (רווח/הפסד) | Q6: תרומה להכנסה הכוללת (הון עצמי) | S6: סך נכסים | U6: תרומה להכנסות מהשקעות (רווח/הפסד) | W6: תרומה להכנסה הכוללת (הון עצמי) | Y6: סך נכסים
C7: (באלפי ש"ח) | D7: (באחוזים) | E7: (באלפי ש"ח) | F7: (באחוזים) | G7: (באלפי ש"ח) | H7: (באחוזים) | I7: (באלפי ש"ח) | J7: (באחוזים) | K7: (באלפי ש"ח) | L7: (באחוזים) | M7: (באלפי ש"ח) | N7: (באחוזים) | O7: (באלפי ש"ח) | P7: (באחוזים) | Q7: (באלפי ש"ח) | R7: (באחוזים) | S7: (באלפי ש"ח) | T7: (באחוזים) | U7: (באלפי ש"ח) | V7: (באחוזים) | W7: (באלפי ש"ח) | X7: (באחוזים) | Y7: (באלפי ש"ח) | Z7: (באחוזים)
B8: מזומנים ושווי מזומנים | C8: 3637 | D8: 0.073780302 | E8: 3637 | F8: 0.071832043 | G8: 288709 | H8: 0.088940431 | I8: 2746 | J8: 0.0604 | K8: 2746 | L8: 0.0763 | M8: 198807 | N8: 0.0578 | O8: 2602 | P8: 0.048 | Q8: 2602 | R8: 0.0437 | S8: 130518 | T8: 0.0369 | U8: 1441 | V8: 0.028 | W8: 1441 | X8: 0.0252 | Y8: 72117 | Z8: 0.0201
B9: אג"ח ממשלתיות סחירות | C9: 4021 | D9: 0.081570139 | E9: 2881 | F9: 0.056900774 | G9: 502708 | H9: 0.15486551 | I9: 7362 | J9: 0.1619 | K9: 3337 | L9: 0.0927 | M9: 556484 | N9: 0.1617 | O9: 6958 | P9: 0.1284 | Q9: 9653 | R9: 0.1619 | S9: 634172 | T9: 0.1795 | U9: 3891 | V9: 0.0757 | W9: 4625 | X9: 0.081 | Y9: 636014 | Z9: 0.1776
B10: אג"ח מיועדות | C10: 0 | D10: 0 | E10: 0 | F10: 0 | G10: 0 | H10: 0 | I10: 0 | J10: 0 | K10: 0 | L10: 0 | M10: 0 | N10: 0 | O10: 0 | P10: 0 | Q10: 0 | R10: 0 | S10: 0 | T10: 0 | U10: 0 | V10: 0 | W10: 0 | X10: 0 | Y10: 0 | Z10: 0
B11: אג"ח קונצרניות סחירות | C11: 4030 | D11: 0.081752713 | E11: 6507 | F11: 0.12851556 | G11: 509456 | H11: 0.15694432 | I11: 9364 | J11: 0.2059 | K11: 3927 | L11: 0.109 | M11: 628487 | N11: 0.1827 | O11: 11105 | P11: 0.2048 | Q11: 13806 | R11: 0.2316 | S11: 712750 | T11: 0.2017 | U11: 3762 | V11: 0.0732 | W11: 8755 | X11: 0.1532 | Y11: 762529 | Z11: 0.2129
B12: אג"ח קונצרניות לא סחירות | C12: 640 | D12: 0.012983061 | E12: 640 | F12: 0.012640228 | G12: 59453 | H12: 0.018315243 | I12: 821 | J12: 0.0181 | K12: 821 | L12: 0.0228 | M12: 54364 | N12: 0.0158 | O12: 997 | P12: 0.0184 | Q12: 997 | R12: 0.0167 | S12: 53380 | T12: 0.0151 | U12: 497 | V12: 0.0097 | W12: 497 | X12: 0.0087 | Y12: 44755 | Z12: 0.0125
B13: מניות | C13: 469 | D13: 0.0095141495 | E13: 469 | F13: 0.0092629167 | G13: 30764 | H13: 0.0094772363 | I13: 1351 | J13: 0.0297 | K13: 1351 | L13: 0.0375 | M13: 32115 | N13: 0.0093 | O13: -524 | P13: -0.0097 | Q13: -524 | R13: -0.0088 | S13: 31592 | T13: 0.0089 | U13: -536 | V13: -0.0104 | W13: -536 | X13: -0.0094 | Y13: 31055 | Z13: 0.0087
B14: תעודות סל | C14: 699 | D14: 0.014179937 | E14: 699 | F14: 0.013805498 | G14: 29508 | H14: 0.0090903098 | I14: -743 | J14: -0.0163 | K14: -743 | L14: -0.0206 | M14: 19073 | N14: 0.0055 | O14: 385 | P14: 0.0071 | Q14: 385 | R14: 0.0065 | S14: 19458 | T14: 0.0055 | U14: 557 | V14: 0.0108 | W14: 557 | X14: 0.0097 | Y14: 20015 | Z14: 0.0056
B15: קרנות נאמנות | C15: 11099 | D15: 0.22515468 | E15: 11099 | F15: 0.2192092 | G15: 156294 | H15: 0.048148328 | I15: -4117 | J15: -0.0905 | K15: -4117 | L15: -0.1143 | M15: 169284 | N15: 0.0492 | O15: 15358 | P15: 0.2833 | Q15: 15358 | R15: 0.2577 | S15: 184641 | T15: 0.0523 | U15: 20669 | V15: 0.4021 | W15: 20669 | X15: 0.3618 | Y15: 224322 | Z15: 0.0626
B16: הלוואות | C16: 1829 | D16: 0.037103154 | E16: 1829 | F16: 0.0361234 | G16: 458827 | H16: 0.14134742 | I16: 2606 | J16: 0.0573 | K16: 2606 | L16: 0.0724 | M16: 553618 | N16: 0.1609 | O16: 5966 | P16: 0.1101 | Q16: 5966 | R16: 0.1001 | S16: 518198 | T16: 0.1467 | U16: 2189 | V16: 0.0426 | W16: 2189 | X16: 0.0383 | Y16: 548326 | Z16: 0.1531
B17: פיקדונות (שאינם מובנים) | C17: 3846 | D17: 0.078020083 | E17: 3846 | F17: 0.075959867 | G17: 504082 | H17: 0.15528879 | I17: 5409 | J17: 0.1189 | K17: 5409 | L17: 0.1502 | M17: 509491 | N17: 0.1481 | O17: 5473 | P17: 0.101 | Q17: 5473 | R17: 0.0918 | S17: 514964 | T17: 0.1457 | U17: 3652 | V17: 0.071 | W17: 3652 | X17: 0.0639 | Y17: 513922 | Z17: 0.1435
B18: חוזים עתידיים | C18: 0 | D18: 0 | E18: 0 | F18: 0 | G18: 0 | H18: 0 | I18: 0 | J18: 0 | K18: 0 | L18: 0 | M18: 0 | N18: 0 | O18: 0 | P18: 0 | Q18: 0 | R18: 0 | S18: 0 | T18: 0 | U18: 0 | V18: 0 | W18: 0 | X18: 0 | Y18: 0 | Z18: 0
B19: השקעה בחברות מוחזקות | C19: 0 | D19: 0 | E19: 0 | F19: 0 | G19: 0 | H19: 0 | I19: 0 | J19: 0 | K19: 0 | L19: 0 | M19: 0 | N19: 0 | O19: 0 | P19: 0 | Q19: 0 | R19: 0 | S19: 0 | T19: 0 | U19: 0 | V19: 0 | W19: 0 | X19: 0 | Y19: 0 | Z19: 0
... B31: סה"כ | C31: 49295 | D31: 1 | E31: 50632 | F31: 1 | G31: 3246094 | H31: 1 | I31: 45474 | J31: 1 | K31: 36012 | L31: 1 | M31: 3440817 | N31: 1 | O31: 54211 | P31: 1 | Q31: 59607 | R31: 1 | S31: 3533327 | T31: 1 | U31: 51402 | V31: 1 | W31: 57129 | X31: 1 | Y31: 3581760 | Z31: 1
B33: נתונים מצטברים בשנת : | C33: רבעון 1 | I33: רבעון 1+2 | O33: רבעון 1+2+3 | U33: רבעון 1+2+3+4
B34: =+B6 -> 2024 | C34: תרומה להכנסות מהשקעות (רווח/הפסד) | E34: תרומה להכנסה הכוללת (הון עצמי) | G34: סך נכסים | I34: תרומה להכנסות מהשקעות (רווח/הפסד) | K34: תרומה להכנסה הכוללת (הון עצמי) | M34: סך נכסים | O34: תרומה להכנסות מהשקעות (רווח/הפסד) | Q34: תרומה להכנסה הכוללת (הון עצמי) | S34: סך נכסים | U34: תרומה להכנסות מהשקעות (רווח/הפסד) | W34: תרומה להכנסה הכוללת (הון עצמי) | Y34: סך נכסים
C35: (באלפי ש"ח) | D35: (באחוזים) | E35: (באלפי ש"ח) | F35: (באחוזים) | G35: (באלפי ש"ח) | H35: (באחוזים) | I35: (באלפי ש"ח) | J35: (באחוזים) | K35: (באלפי ש"ח) | L35: (באחוזים) | M35: (באלפי ש"ח) | N35: (באחוזים) | O35: (באלפי ש"ח) | P35: (באחוזים) | Q35: (באלפי ש"ח) | R35: (באחוזים) | S35: (באלפי ש"ח) | T35: (באחוזים) | U35: (באלפי ש"ח) | V35: (באחוזים) | W35: (באלפי ש"ח) | X35: (באחוזים) | Y35: (באלפי ש"ח) | Z35: (באחוזים)
B36: מזומנים ושווי מזומנים | C36: 3637 | D36: 0.073780302 | E36: 3637 | F36: 0.071832043 | G36: 288709 | H36: 0.088940431 | I36: 6383 | J36: 0.067353248 | K36: 6383 | L36: 0.073669267 | M36: 198807 | N36: 0.05777901 | O36: 8985 | P36: 0.060310109 | Q36: 8985 | R36: 0.061435477 | S36: 130518 | T36: 0.036939123 | U36: =IF(U$23=0,"",U8+O36) -> 10426 | V36: =IFERROR(U36/U$51,"") -> 0.052030622 | W36: =IF(W$23=0,"",W8+Q36) -> 10426 | X36: =IFERROR(W36/W$51,"") -> 0.051263644 | Y36: =Y8 -> 72117 | Z36: =IFERROR(Y36/Y$51,"") -> 0.020134515
B37: אג"ח ממשלתיות סחירות | C37: 4021 | D37: 0.081570139 | E37: 2881 | F37: 0.056900774 | G37: 502708 | H37: 0.15486551 | I37: 11383 | J37: 0.12011312 | K37: 6218 | L37: 0.071764923 | M37: 556484 | N37: 0.16173019 | O37: 18341 | P37: 0.12311048 | Q37: 15871 | R37: 0.10851892 | S37: 634172 | T37: 0.17948296 | U37: =IF(U$23=0,"",U9+O37) -> 22232 | V37: =IFERROR(U37/U$51,"") -> 0.11094809 | W37: =IF(W$23=0,"",W9+Q37) -> 20496 | X37: =IFERROR(W37/W$51,"") -> 0.10077687 | Y37: =Y9 -> 636014 | Z37: =IFERROR(Y37/Y$51,"") -> 0.17757024
B38: אג"ח מיועדות | C38: 0 | D38: 0 | E38: 0 | F38: 0 | G38: 0 | H38: 0 | I38: 0 | J38: 0 | K38: 0 | L38: 0 | M38: 0 | N38: 0 | O38: 0 | P38: 0 | Q38: 0 | R38: 0 | S38: 0 | T38: 0 | U38: =IF(U$23=0,"",U10+O38) -> 0 | V38: =IFERROR(U38/U$51,"") -> 0 | W38: =IF(W$23=0,"",W10+Q38) -> 0 | X38: =IFERROR(W38/W$51,"") -> 0 | Y38: =Y10 -> 0 | Z38: =IFERROR(Y38/Y$51,"") -> 0
B39: אג"ח קונצרניות סחירות | C39: 4030 | D39: 0.081752713 | E39: 6507 | F39: 0.12851556 | G39: 509456 | H39: 0.15694432 | I39: 13394 | J39: 0.14133314 | K39: 10434 | L39: 0.1204238 | M39: 628487 | N39: 0.18265633 | O39: 24499 | P39: 0.16444489 | Q39: 24240 | R39: 0.16574246 | S39: 712750 | T39: 0.20172206 | U39: =IF(U$23=0,"",U11+O39) -> 28261 | V39: =IFERROR(U39/U$51,"") -> 0.14103562 | W39: =IF(W$23=0,"",W11+Q39) -> 32995 | X39: =IFERROR(W39/W$51,"") -> 0.16223326 | Y39: =Y11 -> 762529 | Z39: =IFERROR(Y39/Y$51,"") -> 0.21289227
B40: אג"ח קונצרניות לא סחירות | C40: 640 | D40: 0.012983061 | E40: 640 | F40: 0.012640228 | G40: 59453 | H40: 0.018315243 | I40: 1461 | J40: 0.015416434 | K40: 1461 | L40: 0.016862102 | M40: 54364 | N40: 0.015799736 | O40: 2458 | P40: 0.016498859 | Q40: 2458 | R40: 0.016806723 | S40: 53380 | T40: 0.015107574 | U40: =IF(U$23=0,"",U12+O40) -> 2955 | V40: =IFERROR(U40/U$51,"") -> 0.014746834 | W40: =IF(W$23=0,"",W12+Q40) -> 2955 | X40: =IFERROR(W40/W$51,"") -> 0.014529452 | Y40: =Y12 -> 44755 | Z40: =IFERROR(Y40/Y$51,"") -> 0.012495254
B41: מניות | C41: 469 | D41: 0.0095141495 | E41: 469 | F41: 0.0092629167 | G41: 30764 | H41: 0.0094772363 | I41: 1820 | J41: 0.019204592 | K41: 1820 | L41: 0.021005494 | M41: 32115 | N41: 0.0093335391 | O41: 1296 | P41: 0.0086991542 | Q41: 1296 | R41: 0.0088614779 | S41: 31592 | T41: 0.0089411481 | U41: =IF(U$23=0,"",U13+O41) -> 760 | V41: =IFERROR(U41/U$51,"") -> 0.0037927558 | W41: =IF(W$23=0,"",W13+Q41) -> 760 | X41: =IFERROR(W41/W$51,"") -> 0.0037368473 | Y41: =Y13 -> 31055 | Z41: =IFERROR(Y41/Y$51,"") -> 0.0086703185
B42: תעודות סל | C42: 699 | D42: 0.014179937 | E42: 699 | F42: 0.013805498 | G42: 29508 | H42: 0.0090903098 | I42: -44 | J42: -0.00046428684 | K42: -44 | L42: -0.00050782512 | M42: 19073 | N42: 0.0055431602 | O42: 341 | P42: 0.0022888978 | Q42: 341 | R42: 0.002331608 | S42: 19458 | T42: 0.005506991 | U42: =IF(U$23=0,"",U14+O42) -> 898 | V42: =IFERROR(U42/U$51,"") -> 0.0044814404 | W42: =IF(W$23=0,"",W14+Q42) -> 898 | X42: =IFERROR(W42/W$51,"") -> 0.0044153801 | Y42: =Y14 -> 20015 | Z42: =IFERROR(Y42/Y$51,"") -> 0.0055880349
B43: קרנות נאמנות | C43: 11099 | D43: 0.22515468 | E43: 11099 | F43: 0.2192092 | G43: 156294 | H43: 0.048148328 | I43: 6982 | J43: 0.073673881 | K43: 6982 | L43: 0.080582614 | M43: 169284 | N43: 0.04919878 | O43: 22340 | P43: 0.14995301 | Q43: 22340 | R43: 0.15275109 | S43: 184641 | T43: 0.05225698 | U43: =IF(U$23=0,"",U15+O43) -> 43009 | V43: =IFERROR(U43/U$51,"") -> 0.21463505 | W43: =IF(W$23=0,"",W15+Q43) -> 43009 | X43: =IFERROR(W43/W$51,"") -> 0.21147114 | Y43: =Y15 -> 224322 | Z43: =IFERROR(Y43/Y$51,"") -> 0.062628987
B44: הלוואות | C44: 1829 | D44: 0.037103154 | E44: 1829 | F44: 0.0361234 | G44: 458827 | H44: 0.14134742 | I44: 4435 | J44: 0.046798004 | K44: 4435 | L44: 0.051186464 | M44: 553618 | N44: 0.16089725 | O44: 10401 | P44: 0.06981474 | Q44: 10401 | R44: 0.071117462 | S44: 518198 | T44: 0.14666007 | U44: =IF(U$23=0,"",U16+O44) -> 12590 | V44: =IFERROR(U44/U$51,"") -> 0.062829995 | W44: =IF(W$23=0,"",W16+Q44) -> 12590 | X44: =IFERROR(W44/W$51,"") -> 0.061903825 | Y44: =Y16 -> 548326 | Z44: =IFERROR(Y44/Y$51,"") -> 0.15308843
B45: פיקדונות (שאינם מובנים) | C45: 3846 | D45: 0.078020083 | E45: 3846 | F45: 0.075959867 | G45: 504082 | H45: 0.15528879 | I45: 9255 | J45: 0.097658517 | K45: 9255 | L45: 0.1068164 | M45: 509491 | N45: 0.14807268 | O45: 14728 | P45: 0.098858907 | Q45: 14728 | R45: 0.10070358 | S45: 514964 | T45: 0.14574479 | U45: =IF(U$23=0,"",U17+O45) -> 18380 | V45: =IFERROR(U45/U$51,"") -> 0.091724806 | W45: =IF(W$23=0,"",W17+Q45) -> 18380 | X45: =IFERROR(W45/W$51,"") -> 0.090372701 | Y45: =Y17 -> 513922 | Z45: =IFERROR(Y45/Y$51,"") -> 0.14348309
B46: חוזים עתידיים | C46: 0 | D46: 0 | E46: 0 | F46: 0 | G46: 0 | H46: 0 | I46: 0 | J46: 0 | K46: 0 | L46: 0 | M46: 0 | N46: 0 | O46: 0 | P46: 0 | Q46: 0 | R46: 0 | S46: 0 | T46: 0 | U46: =IF(U$23=0,"",U18+O46) -> 0 | V46: =IFERROR(U46/U$51,"") -> 0 | W46: =IF(W$23=0,"",W18+Q46) -> 0 | X46: =IFERROR(W46/W$51,"") -> 0 | Y46: =Y18 -> 0 | Z46: =IFERROR(Y46/Y$51,"") -> 0
B47: השקעה בחברות מוחזקות | C47: 0 | D47: 0 | E47: 0 | F47: 0 | G47: 0 | H47: 0 | I47: 0 | J47: 0 | K47: 0 | L47: 0 | M47: 0 | N47: 0 | O47: 0 | P47: 0 | Q47: 0 | R47: 0 | S47: 0 | T47: 0 | U47: =IF(U$23=0,"",U19+O47) -> 0 | V47: =IFERROR(U47/U$51,"") -> 0 | W47: =IF(W$23=0,"",W19+Q47) -> 0 | X47: =IFERROR(W47/W$51,"") -> 0 | Y47: =Y19 -> 0 | Z47: =IFERROR(Y47/Y$51,"") -> 0
... B50: נכסים אחרים | C50: 354 | D50: 0.0071812557 | E50: 354 | F50: 0.0069916258 | G50: 0 | H50: 0 | I50: 11387 | J50: 0.12015533 | K50: 11387 | L50: 0.13142283 | M50: 0 | N50: 0 | O50: 11608 | P50: 0.077916499 | Q50: 11608 | R50: 0.079370397 | S50: 0 | T50: 0 | U50: =IF(U$23=0,"",U22+O50) -> 11668 | V50: =IFERROR(U50/U$51,"") -> 0.058228783 | W50: =IF(W$23=0,"",W22+Q50) -> 11668 | X50: =IFERROR(W50/W$51,"") -> 0.05737044 | Y50: =Y22 -> 0 | Z50: =IFERROR(Y50/Y$51,"") -> 0
B51: סה"כ | C51: 49295 | D51: 1 | E51: 50632 | F51: 1 | G51: 3246094 | H51: 1 | I51: 94769 | J51: 1 | K51: 86644 | L51: 1 | M51: 3440817 | N51: 1 | O51: 148980 | P51: 1 | Q51: 146251 | R51: 1 | S51: 3533327 | T51: 1 | U51: =SUM(U36:U50) -> 200382 | V51: =IFERROR(U51/U$51,"") -> 1 | W51: =SUM(W36:W50) -> 203380 | X51: =IFERROR(W51/W$51,"") -> 1 | Y51: =SUM(Y36:Y50) -> 3581760 | Z51: =IFERROR(Y51/Y$51,"") -> 1
B53: נכסים בארץ | C53: 42709 | D53: 0.86639619 | E53: 43918 | F53: 0.86739611 | G53: 3032730 | H53: 0.93427054 | I53: 80080 | J53: 0.84500206 | K53: 72466 | L53: 0.8363649 | M53: 3214255 | N53: 0.93415459 | O53: 133448 | P53: 0.8957444 | Q53: 129910 | R53: 0.88826743 | S53: 3296810 | T53: 0.93306111 | U53: =IF(U$23=0,"",U25+O53) -> 182744 | V53: =IFERROR(U53/U$55,"") -> 0.91197812 | W53: =IF(W$23=0,"",W25+Q53) -> 185614 | X53: =IFERROR(W53/W$55,"") -> 0.91264628 | Y53: =Y25 -> 3353842 | Z53: =IFERROR(Y53/Y$55,"") -> 0.93636704
B54: נכסים בחו"ל | C54: 6586 | D54: 0.13360381 | E54: 6714 | F54: 0.13260389 | G54: 213364 | H54: 0.065729458 | I54: 14689 | J54: 0.15499794 | K54: 14178 | L54: 0.1636351 | M54: 226562 | N54: 0.065845408 | O54: 15532 | P54: 0.1042556 | Q54: 16341 | R54: 0.11173257 | S54: 236517 | T54: 0.066938894 | U54: =IF(U$23=0,"",U26+O54) -> 17638 | V54: =IFERROR(U54/U$55,"") -> 0.088021878 | W54: =IF(W$23=0,"",W26+Q54) -> 17766 | X54: =IFERROR(W54/W$55,"") -> 0.087353722 | Y54: =Y26 -> 227918 | Z54: =IFERROR(Y54/Y$55,"") -> 0.063632963
B55: סה"כ | C55: 49295 | D55: 1 | E55: 50632 | F55: 1 | G55: 3246094 | H55: 1 | I55: 94769 | J55: 1 | K55: 86644 | L55: 1 | M55: 3440817 | N55: 1 | O55: 148980 | P55: 1 | Q55: 146251 | R55: 1 | S55: 3533327 | T55: 1 | U55: =SUM(U53:U54) -> 200382 | V55: =IFERROR(U55/U$55,"") -> 1 | W55: =SUM(W53:W54) -> 203380 | X55: =IFERROR(W55/W$55,"") -> 1 | Y55: =SUM(Y53:Y54) -> 3581760 | Z55: =IFERROR(Y55/Y$55,"") -> 1
B57: נכסים סחירים ונזילים | C57: 23485 | D57: 0.47641749 | E57: 24822 | F57: 0.49024332 | G57: 1486674 | H57: 0.45798859 | I57: 38098 | J57: 0.4020091 | K57: 29974 | L57: 0.34594432 | M57: 1572136 | N57: 0.45690776 | O57: 74505 | P57: 0.50010068 | Q57: 71776 | R57: 0.49077271 | S57: 1681542 | T57: 0.47590897 | U57: =IF(U$23=0,"",U29+O57) -> 104825 | V57: =IFERROR(U57/U$59,"") -> 0.52312583 | W57: =IF(W$23=0,"",W29+Q57) -> 107823 | X57: =IFERROR(W57/W$59,"") -> 0.53015537 | Y57: =Y29 -> 1714997 | Z57: =IFERROR(Y57/Y$59,"") -> 0.47881405
...

Sheet נוסטרו סיכום
B1: פירוט תרומת אפיקי ההשקעה לתשואה הכוללת
B2: ביטוח ישיר נוסטרו
B3: נוסטרו סה"כ
B5: נתונים לרבעון בשנת : | C5: רבעון 1 | I5: רבעון 2 | O5: רבעון 3 | U5: רבעון 4
B6: =+'נוסטרו חיים'!B6 -> 2024 | C6: תרומה להכנסות מהשקעות (רווח/הפסד) | E6: תרומה להכנסה הכוללת (הון עצמי) | G6: סך נכסים | I6: תרומה להכנסות מהשקעות (רווח/הפסד) | K6: תרומה להכנסה הכוללת (הון עצמי) | M6: סך נכסים | O6: תרומה להכנסות מהשקעות (רווח/הפסד) | Q6: תרומה להכנסה הכוללת (הון עצמי) | S6: סך נכסים | U6: תרומה להכנסות מהשקעות (רווח/הפסד) | W6: תרומה להכנסה הכוללת (הון עצמי) | Y6: סך נכסים
C7: (באלפי ש"ח) | D7: (באחוזים) | E7: (באלפי ש"ח) | F7: (באחוזים) | G7: (באלפי ש"ח) | H7: (באחוזים) | I7: (באלפי ש"ח) | J7: (באחוזים) | K7: (באלפי ש"ח) | L7: (באחוזים) | M7: (באלפי ש"ח) | N7: (באחוזים) | O7: (באלפי ש"ח) | P7: (באחוזים) | Q7: (באלפי ש"ח) | R7: (באחוזים) | S7: (באלפי ש"ח) | T7: (באחוזים) | U7: (באלפי ש"ח) | V7: (באחוזים) | W7: (באלפי ש"ח) | X7: (באחוזים) | Y7: (באלפי ש"ח) | Z7: (באחוזים)
B8: מזומנים ושווי מזומנים | C8: ='נוסטרו חיים'!C8+'כללי והון'!C8 -> 4097 | D8: =IFERROR(C8/C$23,"") -> 0.076871118 | E8: ='נוסטרו חיים'!E8+'כללי והון'!E8 -> 4097 | F8: =IFERROR(E8/E$23,"") -> 0.07451123 | G8: ='נוסטרו חיים'!G8+'כללי והון'!G8 -> 314593 | H8: =IFERROR(G8/G$23,"") -> 0.085290851 | I8: ='נוסטרו חיים'!I8+'כללי והון'!I8 -> 3306 | J8: =IFERROR(I8/I$23,"") -> 0.065448498 | K8: ='נוסטרו חיים'!K8+'כללי והון'!K8 -> 3306 | L8: =IFERROR(K8/K$23,"") -> 0.082349425 | M8: ='נוסטרו חיים'!M8+'כללי והון'!M8 -> 228405 | N8: =IFERROR(M8/M$23,"") -> 0.059038007 | O8: ='נוסטרו חיים'!O8+'כללי והון'!O8 -> 3160 | P8: =IFERROR(O8/O$23,"") -> 0.053139609 | Q8: ='נוסטרו חיים'!Q8+'כללי והון'!Q8 -> 3160 | R8: =IFERROR(Q8/Q$23,"") -> 0.048366113 | S8: ='נוסטרו חיים'!S8+'כללי והון'!S8 -> 157568 | T8: =IFERROR(S8/S$23,"") -> 0.039553884 | U8: ='נוסטרו חיים'!U8+'כללי והון'!U8 -> 2022 | V8: =IFERROR(U8/U$23,"") -> 0.036359713 | W8: ='נוסטרו חיים'!W8+'כללי והון'!W8 -> 2022 | X8: =IFERROR(W8/W$23,"") -> 0.032785822 | Y8: ='נוסטרו חיים'!Y8+'כללי והון'!Y8 -> 85993 | Z8: =IFERROR(Y8/Y$23,"") -> 0.021305177
B9: אג"ח ממשלתיות סחירות | C9: ='נוסטרו חיים'!C9+'כללי והון'!C9 -> 7563 | D9: =IFERROR(C9/C$23,"") -> 0.14190292 | E9: ='נוסטרו חיים'!E9+'כללי והון'!E9 -> 6774 | F9: =IFERROR(E9/E$23,"") -> 0.12319724 | G9: ='נוסטרו חיים'!G9+'כללי והון'!G9 -> 919203 | H9: =IFERROR(G9/G$23,"") -> 0.24920963 | I9: ='נוסטרו חיים'!I9+'כללי והון'!I9 -> 11841 | J9: =IFERROR(I9/I$23,"") -> 0.2344149 | K9: ='נוסטרו חיים'!K9+'כללי והון'!K9 -> 6911 | L9: =IFERROR(K9/K$23,"") -> 0.17214666 | M9: ='נוסטרו חיים'!M9+'כללי והון'!M9 -> 954848 | N9: =IFERROR(M9/M$23,"") -> 0.24680862 | O9: ='נוסטרו חיים'!O9+'כללי והון'!O9 -> 11655 | P9: =IFERROR(O9/O$23,"") -> 0.19599435 | Q9: ='נוסטרו חיים'!Q9+'כללי והון'!Q9 -> 14823 | R9: =IFERROR(Q9/Q$23,"") -> 0.22687687 | S9: ='נוסטרו חיים'!S9+'כללי והון'!S9 -> 1057424 | T9: =IFERROR(S9/S$23,"") -> 0.26544239 | U9: ='נוסטרו חיים'!U9+'כללי והון'!U9 -> 7519 | V9: =IFERROR(U9/U$23,"") -> 0.13520706 | W9: ='נוסטרו חיים'!W9+'כללי והון'!W9 -> 8588 | X9: =IFERROR(W9/W$23,"") -> 0.13925056 | Y9: ='נוסטרו חיים'!Y9+'כללי והון'!Y9 -> 1076627 | Z9: =IFERROR(Y9/Y$23,"") -> 0.26673949
B10: אג"ח מיועדות | C10: ='נוסטרו חיים'!C10+'כללי והון'!C10 -> 0 | D10: =IFERROR(C10/C$23,"") -> 0 | E10: ='נוסטרו חיים'!E10+'כללי והון'!E10 -> 0 | F10: =IFERROR(E10/E$23,"") -> 0 | G10: ='נוסטרו חיים'!G10+'כללי והון'!G10 -> 0 | H10: =IFERROR(G10/G$23,"") -> 0 | I10: ='נוסטרו חיים'!I10+'כללי והון'!I10 -> 0 | J10: =IFERROR(I10/I$23,"") -> 0 | K10: ='נוסטרו חיים'!K10+'כללי והון'!K10 -> 0 | L10: =IFERROR(K10/K$23,"") -> 0 | M10: ='נוסטרו חיים'!M10+'כללי והון'!M10 -> 0 | N10: =IFERROR(M10/M$23,"") -> 0 | O10: ='נוסטרו חיים'!O10+'כללי והון'!O10 -> 0 | P10: =IFERROR(O10/O$23,"") -> 0 | Q10: ='נוסטרו חיים'!Q10+'כללי והון'!Q10 -> 0 | R10: =IFERROR(Q10/Q$23,"") -> 0 | S10: ='נוסטרו חיים'!S10+'כללי והון'!S10 -> 0 | T10: =IFERROR(S10/S$23,"") -> 0 | U10: ='נוסטרו חיים'!U10+'כללי והון'!U10 -> 0 | V10: =IFERROR(U10/U$23,"") -> 0 | W10: ='נוסטרו חיים'!W10+'כללי והון'!W10 -> 0 | X10: =IFERROR(W10/W$23,"") -> 0 | Y10: ='נוסטרו חיים'!Y10+'כללי והון'!Y10 -> 0 | Z10: =IFERROR(Y10/Y$23,"") -> 0
B11: אג"ח קונצרניות סחירות | C11: ='נוסטרו חיים'!C11+'כללי והון'!C11 -> 4030 | D11: =IFERROR(C11/C$23,"") -> 0.075614012 | E11: ='נוסטרו חיים'!E11+'כללי והון'!E11 -> 6507 | F11: =IFERROR(E11/E$23,"") -> 0.11834137 | G11: ='נוסטרו חיים'!G11+'כללי והון'!G11 -> 509456 | H11: =IFERROR(G11/G$23,"") -> 0.13812111 | I11: ='נוסטרו חיים'!I11+'כללי והון'!I11 -> 9364 | J11: =IFERROR(I11/I$23,"") -> 0.18537802 | K11: ='נוסטרו חיים'!K11+'כללי והון'!K11 -> 3927 | L11: =IFERROR(K11/K$23,"") -> 0.097817964 | M11: ='נוסטרו חיים'!M11+'כללי והון'!M11 -> 628487 | N11: =IFERROR(M11/M$23,"") -> 0.162451 | O11: ='נוסטרו חיים'!O11+'כללי והון'!O11 -> 11105 | P11: =IFERROR(O11/O$23,"") -> 0.18674537 | Q11: ='נוסטרו חיים'!Q11+'כללי והון'!Q11 -> 13806 | R11: =IFERROR(Q11/Q$23,"") -> 0.21131094 | S11: ='נוסטרו חיים'!S11+'כללי והון'!S11 -> 712750 | T11: =IFERROR(S11/S$23,"") -> 0.17891977 | U11: ='נוסטרו חיים'!U11+'כללי והון'!U11 -> 3762 | V11: =IFERROR(U11/U$23,"") -> 0.067648487 | W11: ='נוסטרו חיים'!W11+'כללי והון'!W11 -> 8755 | X11: =IFERROR(W11/W$23,"") -> 0.14195839 | Y11: ='נוסטרו חיים'!Y11+'כללי והון'!Y11 -> 762529 | Z11: =IFERROR(Y11/Y$23,"") -> 0.18892021
B12: אג"ח קונצרניות לא סחירות | C12: ='נוסטרו חיים'!C12+'כללי והון'!C12 -> 640 | D12: =IFERROR(C12/C$23,"") -> 0.012008181 | E12: ='נוסטרו חיים'!E12+'כללי והון'!E12 -> 640 | F12: =IFERROR(E12/E$23,"") -> 0.011639538 | G12: ='נוסטרו חיים'!G12+'כללי והון'!G12 -> 59453 | H12: =IFERROR(G12/G$23,"") -> 0.016118594 | I12: ='נוסטרו חיים'!I12+'כללי והון'!I12 -> 821 | J12: =IFERROR(I12/I$23,"") -> 0.016253242 | K12: ='נוסטרו חיים'!K12+'כללי והון'!K12 -> 821 | L12: =IFERROR(K12/K$23,"") -> 0.020450356 | M12: ='נוסטרו חיים'!M12+'כללי והון'!M12 -> 54364 | N12: =IFERROR(M12/M$23,"") -> 0.014051979 | O12: ='נוסטרו חיים'!O12+'כללי והון'!O12 -> 997 | P12: =IFERROR(O12/O$23,"") -> 0.016765883 | Q12: ='נוסטרו חיים'!Q12+'כללי והון'!Q12 -> 997 | R12: =IFERROR(Q12/Q$23,"") -> 0.015259815 | S12: ='נוסטרו חיים'!S12+'כללי והון'!S12 -> 53380 | T12: =IFERROR(S12/S$23,"") -> 0.013399842 | U12: ='נוסטרו חיים'!U12+'כללי והון'!U12 -> 497 | V12: =IFERROR(U12/U$23,"") -> 0.0089370808 | W12: ='נוסטרו חיים'!W12+'כללי והון'!W12 -> 497 | X12: =IFERROR(W12/W$23,"") -> 0.0080586318 | Y12: ='נוסטרו חיים'!Y12+'כללי והון'!Y12 -> 44755 | Z12: =IFERROR(Y12/Y$23,"") -> 0.011088265
B13: מניות | C13: ='נוסטרו חיים'!C13+'כללי והון'!C13 -> 469 | D13: =IFERROR(C13/C$23,"") -> 0.0087997448 | E13: ='נוסטרו חיים'!E13+'כללי והון'!E13 -> 469 | F13: =IFERROR(E13/E$23,"") -> 0.008529599 | G13: ='נוסטרו חיים'!G13+'כללי והון'!G13 -> 30764 | H13: =IFERROR(G13/G$23,"") -> 0.0083405789 | I13: ='נוסטרו חיים'!I13+'כללי והון'!I13 -> 1351 | J13: =IFERROR(I13/I$23,"") -> 0.02674559 | K13: ='נוסטרו חיים'!K13+'כללי והון'!K13 -> 1351 | L13: =IFERROR(K13/K$23,"") -> 0.03365217 | M13: ='נוסטרו חיים'!M13+'כללי והון'!M13 -> 32115 | N13: =IFERROR(M13/M$23,"") -> 0.0083010686 | O13: ='נוסטרו חיים'!O13+'כללי והון'!O13 -> -524 | P13: =IFERROR(O13/O$23,"") -> -0.008811758 | Q13: ='נוסטרו חיים'!Q13+'כללי והון'!Q13 -> -524 | R13: =IFERROR(Q13/Q$23,"") -> -0.0080202036 | S13: ='נוסטרו חיים'!S13+'כללי והון'!S13 -> 31592 | T13: =IFERROR(S13/S$23,"") -> 0.0079304574 | U13: ='נוסטרו חיים'!U13+'כללי והון'!U13 -> -536 | V13: =IFERROR(U13/U$23,"") -> -0.0096383809 | W13: ='נוסטרו חיים'!W13+'כללי והון'!W13 -> -536 | X13: =IFERROR(W13/W$23,"") -> -0.0086909993 | Y13: ='נוסטרו חיים'!Y13+'כללי והון'!Y13 -> 31055 | Z13: =IFERROR(Y13/Y$23,"") -> 0.0076940248
B14: תעודות סל | C14: ='נוסטרו חיים'!C14+'כללי והון'!C14 -> 699 | D14: =IFERROR(C14/C$23,"") -> 0.013115185 | E14: ='נוסטרו חיים'!E14+'כללי והון'!E14 -> 699 | F14: =IFERROR(E14/E$23,"") -> 0.012712558 | G14: ='נוסטרו חיים'!G14+'כללי והון'!G14 -> 29508 | H14: =IFERROR(G14/G$23,"") -> 0.0080000586 | I14: ='נוסטרו חיים'!I14+'כללי והון'!I14 -> -743 | J14: =IFERROR(I14/I$23,"") -> -0.014709085 | K14: ='נוסטרו חיים'!K14+'כללי והון'!K14 -> -743 | L14: =IFERROR(K14/K$23,"") -> -0.018507448 | M14: ='נוסטרו חיים'!M14+'כללי והון'!M14 -> 19073 | N14: =IFERROR(M14/M$23,"") -> 0.0049299792 | O14: ='נוסטרו חיים'!O14+'כללי והון'!O14 -> 385 | P14: =IFERROR(O14/O$23,"") -> 0.0064742878 | Q14: ='נוסטרו חיים'!Q14+'כללי והון'!Q14 -> 385 | R14: =IFERROR(Q14/Q$23,"") -> 0.0058927068 | S14: ='נוסטרו חיים'!S14+'כללי והון'!S14 -> 19458 | T14: =IFERROR(S14/S$23,"") -> 0.004884491 | U14: ='נוסטרו חיים'!U14+'כללי והון'!U14 -> 557 | V14: =IFERROR(U14/U$23,"") -> 0.010016004 | W14: ='נוסטרו חיים'!W14+'כללי והון'!W14 -> 557 | X14: =IFERROR(W14/W$23,"") -> 0.0090315049 | Y14: ='נוסטרו חיים'!Y14+'כללי והון'!Y14 -> 20015 | Z14: =IFERROR(Y14/Y$23,"") -> 0.004958812
B15: קרנות נאמנות | C15: ='נוסטרו חיים'!C15+'כללי והון'!C15 -> 11099 | D15: =IFERROR(C15/C$23,"") -> 0.20824812 | E15: ='נוסטרו חיים'!E15+'כללי והון'!E15 -> 11099 | F15: =IFERROR(E15/E$23,"") -> 0.20185505 | G15: ='נוסטרו חיים'!G15+'כללי והון'!G15 -> 156294 | H15: =IFERROR(G15/G$23,"") -> 0.042373633 | I15: ='נוסטרו חיים'!I15+'כללי והון'!I15 -> -4117 | J15: =IFERROR(I15/I$23,"") -> -0.081503771 | K15: ='נוסטרו חיים'!K15+'כללי והון'!K15 -> -4117 | L15: =IFERROR(K15/K$23,"") -> -0.10255069 | M15: ='נוסטרו חיים'!M15+'כללי והון'!M15 -> 169284 | N15: =IFERROR(M15/M$23,"") -> 0.043756441 | O15: ='נוסטרו חיים'!O15+'כללי והון'!O15 -> 15358 | P15: =IFERROR(O15/O$23,"") -> 0.25826523 | Q15: ='נוסטרו חיים'!Q15+'כללי והון'!Q15 -> 15358 | R15: =IFERROR(Q15/Q$23,"") -> 0.23506543 | S15: ='נוסטרו חיים'!S15+'כללי והון'!S15 -> 184641 | T15: =IFERROR(S15/S$23,"") -> 0.046349949 | U15: ='נוסטרו חיים'!U15+'כללי והון'!U15 -> 20669 | V15: =IFERROR(U15/U$23,"") -> 0.37167107 | W15: ='נוסטרו חיים'!W15+'כללי והון'!W15 -> 20669 | X15: =IFERROR(W15/W$23,"") -> 0.33513855 | Y15: ='נוסטרו חיים'!Y15+'כללי והון'!Y15 -> 224322 | Z15: =IFERROR(Y15/Y$23,"") -> 0.055576849
B16: הלוואות | C16: ='נוסטרו חיים'!C16+'כללי והון'!C16 -> 1829 | D16: =IFERROR(C16/C$23,"") -> 0.034317129 | E16: ='נוסטרו חיים'!E16+'כללי והון'!E16 -> 1829 | F16: =IFERROR(E16/E$23,"") -> 0.033263617 | G16: ='נוסטרו חיים'!G16+'כללי והון'!G16 -> 458827 | H16: =IFERROR(G16/G$23,"") -> 0.12439484 | I16: ='נוסטרו חיים'!I16+'כללי והון'!I16 -> 2606 | J16: =IFERROR(I16/I$23,"") -> 0.05159068 | K16: ='נוסטרו חיים'!K16+'כללי והון'!K16 -> 2606 | L16: =IFERROR(K16/K$23,"") -> 0.064913067 | M16: ='נוסטרו חיים'!M16+'כללי והון'!M16 -> 553618 | N16: =IFERROR(M16/M$23,"") -> 0.1430989 | O16: ='נוסטרו חיים'!O16+'כללי והון'!O16 -> 5966 | P16: =IFERROR(O16/O$23,"") -> 0.10032624 | Q16: ='נוסטרו חיים'!Q16+'כללי והון'!Q16 -> 5966 | R16: =IFERROR(Q16/Q$23,"") -> 0.091313997 | S16: ='נוסטרו חיים'!S16+'כללי והון'!S16 -> 518198 | T16: =IFERROR(S16/S$23,"") -> 0.13008189 | U16: ='נוסטרו חיים'!U16+'כללי והון'!U16 -> 2189 | V16: =IFERROR(U16/U$23,"") -> 0.039362716 | W16: ='נוסטרו חיים'!W16+'כללי והון'!W16 -> 2189 | X16: =IFERROR(W16/W$23,"") -> 0.035493652 | Y16: ='נוסטרו חיים'!Y16+'כללי והון'!Y16 -> 548326 | Z16: =IFERROR(Y16/Y$23,"") -> 0.13585039
B17: פיקדונות (שאינם מובנים) | C17: ='נוסטרו חיים'!C17+'כללי והון'!C17 -> 3846 | D17: =IFERROR(C17/C$23,"") -> 0.07216166 | E17: ='נוסטרו חיים'!E17+'כללי והון'!E17 -> 3846 | F17: =IFERROR(E17/E$23,"") -> 0.069946349 | G17: ='נוסטרו חיים'!G17+'כללי והון'!G17 -> 504082 | H17: =IFERROR(G17/G$23,"") -> 0.13666414 | I17: ='נוסטרו חיים'!I17+'כללי והון'!I17 -> 5409 | J17: =IFERROR(I17/I$23,"") -> 0.10708135 | K17: ='נוסטרו חיים'!K17+'כללי והון'!K17 -> 5409 | L17: =IFERROR(K17/K$23,"") -> 0.13473322 | M17: ='נוסטרו חיים'!M17+'כללי והון'!M17 -> 509491 | N17: =IFERROR(M17/M$23,"") -> 0.13169297 | O17: ='נוסטרו חיים'!O17+'כללי והון'!O17 -> 5473 | P17: =IFERROR(O17/O$23,"") -> 0.092035785 | Q17: ='נוסטרו חיים'!Q17+'כללי והון'!Q17 -> 5473 | R17: =IFERROR(Q17/Q$23,"") -> 0.083768271 | S17: ='נוסטרו חיים'!S17+'כללי והון'!S17 -> 514964 | T17: =IFERROR(S17/S$23,"") -> 0.12927007 | U17: ='נוסטרו חיים'!U17+'כללי והון'!U17 -> 3652 | V17: =IFERROR(U17/U$23,"") -> 0.065670461 | W17: ='נוסטרו חיים'!W17+'כללי והון'!W17 -> 3652 | X17: =IFERROR(W17/W$23,"") -> 0.05921554 | Y17: ='נוסטרו חיים'!Y17+'כללי והון'!Y17 -> 513922 | Z17: =IFERROR(Y17/Y$23,"") -> 0.12732663
B18: חוזים עתידיים | C18: ='נוסטרו חיים'!C18+'כללי והון'!C18 -> 0 | D18: =IFERROR(C18/C$23,"") -> 0 | E18: ='נוסטרו חיים'!E18+'כללי והון'!E18 -> 0 | F18: =IFERROR(E18/E$23,"") -> 0 | G18: ='נוסטרו חיים'!G18+'כללי והון'!G18 -> 0 | H18: =IFERROR(G18/G$23,"") -> 0 | I18: ='נוסטרו חיים'!I18+'כללי והון'!I18 -> 0 | J18: =IFERROR(I18/I$23,"") -> 0 | K18: ='נוסטרו חיים'!K18+'כללי והון'!K18 -> 0 | L18: =IFERROR(K18/K$23,"") -> 0 | M18: ='נוסטרו חיים'!M18+'כללי והון'!M18 -> 0 | N18: =IFERROR(M18/M$23,"") -> 0 | O18: ='נוסטרו חיים'!O18+'כללי והון'!O18 -> 0 | P18: =IFERROR(O18/O$23,"") -> 0 | Q18: ='נוסטרו חיים'!Q18+'כללי והון'!Q18 -> 0 | R18: =IFERROR(Q18/Q$23,"") -> 0 | S18: ='נוסטרו חיים'!S18+'כללי והון'!S18 -> 0 | T18: =IFERROR(S18/S$23,"") -> 0 | U18: ='נוסטרו חיים'!U18+'כללי והון'!U18 -> 0 | V18: =IFERROR(U18/U$23,"") -> 0 | W18: ='נוסטרו חיים'!W18+'כללי והון'!W18 -> 0 | X18: =IFERROR(W18/W$23,"") -> 0 | Y18: ='נוסטרו חיים'!Y18+'כללי והון'!Y18 -> 0 | Z18: =IFERROR(Y18/Y$23,"") -> 0
B19: השקעה בחברות מוחזקות | C19: ='נוסטרו חיים'!C19+'כללי והון'!C19 -> 0 | D19: =IFERROR(C19/C$23,"") -> 0 | E19: ='נוסטרו חיים'!E19+'כללי והון'!E19 -> 0 | F19: =IFERROR(E19/E$23,"") -> 0 | G19: ='נוסטרו חיים'!G19+'כללי והון'!G19 -> 0 | H19: =IFERROR(G19/G$23,"") -> 0 | I19: ='נוסטרו חיים'!I19+'כללי והון'!I19 -> 0 | J19: =IFERROR(I19/I$23,"") -> 0 | K19: ='נוסטרו חיים'!K19+'כללי והון'!K19 -> 0 | L19: =IFERROR(K19/K$23,"") -> 0 | M19: ='נוסטרו חיים'!M19+'כללי והון'!M19 -> 0 | N19: =IFERROR(M19/M$23,"") -> 0 | O19: ='נוסטרו חיים'!O19+'כללי והון'!O19 -> 0 | P19: =IFERROR(O19/O$23,"") -> 0 | Q19: ='נוסטרו חיים'!Q19+'כללי והון'!Q19 -> 0 | R19: =IFERROR(Q19/Q$23,"") -> 0 | S19: ='נוסטרו חיים'!S19+'כללי והון'!S19 -> 0 | T19: =IFERROR(S19/S$23,"") -> 0 | U19: ='נוסטרו חיים'!U19+'כללי והון'!U19 -> 0 | V19: =IFERROR(U19/U$23,"") -> 0 | W19: ='נוסטרו חיים'!W19+'כללי והון'!W19 -> 0 | X19: =IFERROR(W19/W$23,"") -> 0 | Y19: ='נוסטרו חיים'!Y19+'כללי והון'!Y19 -> 0 | Z19: =IFERROR(Y19/Y$23,"") -> 0
... B22: נכסים אחרים | C22: ='נוסטרו חיים'!C22+'כללי והון'!C22 -> 354 | D22: =IFERROR(C22/C$23,"") -> 0.0066420249 | E22: ='נוסטרו חיים'!E22+'כללי והון'!E22 -> 354 | F22: =IFERROR(E22/E$23,"") -> 0.0064381195 | G22: ='נוסטרו חיים'!G22+'כללי והון'!G22 -> 0 | H22: =IFERROR(G22/G$23,"") -> 0 | I22: ='נוסטרו חיים'!I22+'כללי והון'!I22 -> 11033 | J22: =IFERROR(I22/I$23,"") -> 0.21841902 | K22: ='נוסטרו חיים'!K22+'כללי והון'!K22 -> 11033 | L22: =IFERROR(K22/K$23,"") -> 0.2748219 | M22: ='נוסטרו חיים'!M22+'כללי והון'!M22 -> 0 | N22: =IFERROR(M22/M$23,"") -> 0 | O22: ='נוסטרו חיים'!O22+'כללי והון'!O22 -> 221 | P22: =IFERROR(O22/O$23,"") -> 0.0037164094 | Q22: ='נוסטרו חיים'!Q22+'כללי והון'!Q22 -> 221 | R22: =IFERROR(Q22/Q$23,"") -> 0.0033825668 | S22: ='נוסטרו חיים'!S22+'כללי והון'!S22 -> 0 | T22: =IFERROR(S22/S$23,"") -> 0 | U22: ='נוסטרו חיים'!U22+'כללי והון'!U22 -> 60 | V22: =IFERROR(U22/U$23,"") -> 0.0010789232 | W22: ='נוסטרו חיים'!W22+'כללי והון'!W22 -> 60 | X22: =IFERROR(W22/W$23,"") -> 0.00097287306 | Y22: ='נוסטרו חיים'!Y22+'כללי והון'!Y22 -> 0 | Z22: =IFERROR(Y22/Y$23,"") -> 0
B23: סה"כ | C23: =SUM(C8:C22) -> 53297 | D23: =IFERROR(C23/C$23,"") -> 1 | E23: =SUM(E8:E22) -> 54985 | F23: =IFERROR(E23/E$23,"") -> 1 | G23: =SUM(G8:G22) -> 3688473 | H23: =IFERROR(G23/G$23,"") -> 1 | I23: =SUM(I8:I22) -> 50513 | J23: =IFERROR(I23/I$23,"") -> 1 | K23: =SUM(K8:K22) -> 40146 | L23: =IFERROR(K23/K$23,"") -> 1 | M23: =SUM(M8:M22) -> 3868779 | N23: =IFERROR(M23/M$23,"") -> 1 | O23: =SUM(O8:O22) -> 59466 | P23: =IFERROR(O23/O$23,"") -> 1 | Q23: =SUM(Q8:Q22) -> 65335 | R23: =IFERROR(Q23/Q$23,"") -> 1 | S23: =SUM(S8:S22) -> 3983629 | T23: =IFERROR(S23/S$23,"") -> 1 | U23: =SUM(U8:U22) -> 55611 | V23: =IFERROR(U23/U$23,"") -> 1 | W23: =SUM(W8:W22) -> 61673 | X23: =IFERROR(W23/W$23,"") -> 1 | Y23: =SUM(Y8:Y22) -> 4036249 | Z23: =IFERROR(Y23/Y$23,"") -> 1
B25: נכסים בארץ | C25: ='נוסטרו חיים'!C25+'כללי והון'!C25 -> 46711 | D25: =IFERROR(C25/C$27,"") -> 0.87642832 | E25: ='נוסטרו חיים'!E25+'כללי והון'!E25 -> 48271 | F25: =IFERROR(E25/E$27,"") -> 0.87789397 | G25: ='נוסטרו חיים'!G25+'כללי והון'!G25 -> 3475109 | H25: =IFERROR(G25/G$27,"") -> 0.94215384 | I25: ='נוסטרו חיים'!I25+'כללי והון'!I25 -> 42410 | J25: =IFERROR(I25/I$27,"") -> 0.83958585 | K25: ='נוסטרו חיים'!K25+'כללי והון'!K25 -> 32682 | L25: =IFERROR(K25/K$27,"") -> 0.81407861 | M25: ='נוסטרו חיים'!M25+'כללי והון'!M25 -> 3642217 | N25: =IFERROR(M25/M$27,"") -> 0.94143837 | O25: ='נוסטרו חיים'!O25+'כללי והון'!O25 -> 58623 | P25: =IFERROR(O25/O$27,"") -> 0.98582383 | Q25: ='נוסטרו חיים'!Q25+'כללי והון'!Q25 -> 63172 | R25: =IFERROR(Q25/Q$27,"") -> 0.9668937 | S25: ='נוסטרו חיים'!S25+'כללי והון'!S25 -> 3747112 | T25: =IFERROR(S25/S$27,"") -> 0.94062775 | U25: ='נוסטרו חיים'!U25+'כללי והון'!U25 -> 53505 | V25: =IFERROR(U25/U$27,"") -> 0.96212979 | W25: ='נוסטרו חיים'!W25+'כללי והון'!W25 -> 60248 | X25: =IFERROR(W25/W$27,"") -> 0.97689426 | Y25: ='נוסטרו חיים'!Y25+'כללי והון'!Y25 -> 3808331 | Z25: =IFERROR(Y25/Y$27,"") -> 0.94353223
B26: נכסים בחו"ל | C26: ='נוסטרו חיים'!C26+'כללי והון'!C26 -> 6586 | D26: =IFERROR(C26/C$27,"") -> 0.12357168 | E26: ='נוסטרו חיים'!E26+'כללי והון'!E26 -> 6714 | F26: =IFERROR(E26/E$27,"") -> 0.12210603 | G26: ='נוסטרו חיים'!G26+'כללי והון'!G26 -> 213364 | H26: =IFERROR(G26/G$27,"") -> 0.05784616 | I26: ='נוסטרו חיים'!I26+'כללי והון'!I26 -> 8103 | J26: =IFERROR(I26/I$27,"") -> 0.16041415 | K26: ='נוסטרו חיים'!K26+'כללי והון'!K26 -> 7464 | L26: =IFERROR(K26/K$27,"") -> 0.18592139 | M26: ='נוסטרו חיים'!M26+'כללי והון'!M26 -> 226562 | N26: =IFERROR(M26/M$27,"") -> 0.058561629 | O26: ='נוסטרו חיים'!O26+'כללי והון'!O26 -> 843 | P26: =IFERROR(O26/O$27,"") -> 0.014176168 | Q26: ='נוסטרו חיים'!Q26+'כללי והון'!Q26 -> 2163 | R26: =IFERROR(Q26/Q$27,"") -> 0.033106298 | S26: ='נוסטרו חיים'!S26+'כללי והון'!S26 -> 236517 | T26: =IFERROR(S26/S$27,"") -> 0.059372246 | U26: ='נוסטרו חיים'!U26+'כללי והון'!U26 -> 2106 | V26: =IFERROR(U26/U$27,"") -> 0.037870206 | W26: ='נוסטרו חיים'!W26+'כללי והון'!W26 -> 1425 | X26: =IFERROR(W26/W$27,"") -> 0.023105735 | Y26: ='נוסטרו חיים'!Y26+'כללי והון'!Y26 -> 227918 | Z26: =IFERROR(Y26/Y$27,"") -> 0.056467775
B27: סה"כ | C27: =SUM(C25:C26) -> 53297 | D27: =IFERROR(C27/C$27,"") -> 1 | E27: =SUM(E25:E26) -> 54985 | F27: =IFERROR(E27/E$27,"") -> 1 | G27: =SUM(G25:G26) -> 3688473 | H27: =IFERROR(G27/G$27,"") -> 1 | I27: =SUM(I25:I26) -> 50513 | J27: =IFERROR(I27/I$27,"") -> 1 | K27: =SUM(K25:K26) -> 40146 | L27: =IFERROR(K27/K$27,"") -> 1 | M27: =SUM(M25:M26) -> 3868779 | N27: =IFERROR(M27/M$27,"") -> 1 | O27: =SUM(O25:O26) -> 59466 | P27: =IFERROR(O27/O$27,"") -> 1 | Q27: =SUM(Q25:Q26) -> 65335 | R27: =IFERROR(Q27/Q$27,"") -> 1 | S27: =SUM(S25:S26) -> 3983629 | T27: =IFERROR(S27/S$27,"") -> 1 | U27: =SUM(U25:U26) -> 55611 | V27: =IFERROR(U27/U$27,"") -> 1 | W27: =SUM(W25:W26) -> 61673 | X27: =IFERROR(W27/W$27,"") -> 1 | Y27: =SUM(Y25:Y26) -> 4036249 | Z27: =IFERROR(Y27/Y$27,"") -> 1
B29: נכסים סחירים ונזילים | C29: ='נוסטרו חיים'!C29+'כללי והון'!C29 -> 27487 | D29: =IFERROR(C29/C$31,"") -> 0.51573259 | E29: ='נוסטרו חיים'!E29+'כללי והון'!E29 -> 29175 | F29: =IFERROR(E29/E$31,"") -> 0.53059925 | G29: ='נוסטרו חיים'!G29+'כללי והון'!G29 -> 1929053 | H29: =IFERROR(G29/G$31,"") -> 0.52299502 | I29: ='נוסטרו חיים'!I29+'כללי והון'!I29 -> 19652 | J29: =IFERROR(I29/I$31,"") -> 0.38904836 | K29: ='נוסטרו חיים'!K29+'כללי והון'!K29 -> 9286 | L29: =IFERROR(K29/K$31,"") -> 0.23130573 | M29: ='נוסטרו חיים'!M29+'כללי והון'!M29 -> 2000098 | N29: =IFERROR(M29/M$31,"") -> 0.5169843 | O29: ='נוסטרו חיים'!O29+'כללי והון'!O29 -> 41662 | P29: =IFERROR(O29/O$31,"") -> 0.70060202 | Q29: ='נוסטרו חיים'!Q29+'כללי והון'!Q29 -> 47530 | R29: =IFERROR(Q29/Q$31,"") -> 0.72748144 | S29: ='נוסטרו חיים'!S29+'כללי והון'!S29 -> 2131844 | T29: =IFERROR(S29/S$31,"") -> 0.53515124 | U29: ='נוסטרו חיים'!U29+'כללי והון'!U29 -> 34529 | V29: =IFERROR(U29/U$31,"") -> 0.62090234 | W29: ='נוסטרו חיים'!W29+'כללי והון'!W29 -> 40591 | X29: =IFERROR(W29/W$31,"") -> 0.65816484 | Y29: ='נוסטרו חיים'!Y29+'כללי והון'!Y29 -> 2169486 | Z29: =IFERROR(Y29/Y$31,"") -> 0.53750054
B30: נכסים לא סחירים | C30: ='נוסטרו חיים'!C30+'כללי והון'!C30 -> 25810 | D30: =IFERROR(C30/C$31,"") -> 0.48426741 | E30: ='נוסטרו חיים'!E30+'כללי והון'!E30 -> 25810 | F30: =IFERROR(E30/E$31,"") -> 0.46940075 | G30: ='נוסטרו חיים'!G30+'כללי והון'!G30 -> 1759420 | H30: =IFERROR(G30/G$31,"") -> 0.47700498 | I30: ='נוסטרו חיים'!I30+'כללי והון'!I30 -> 30861 | J30: =IFERROR(I30/I$31,"") -> 0.61095164 | K30: ='נוסטרו חיים'!K30+'כללי והון'!K30 -> 30860 | L30: =IFERROR(K30/K$31,"") -> 0.76869427 | M30: ='נוסטרו חיים'!M30+'כללי והון'!M30 -> 1868681 | N30: =IFERROR(M30/M$31,"") -> 0.4830157 | O30: ='נוסטרו חיים'!O30+'כללי והון'!O30 -> 17804 | P30: =IFERROR(O30/O$31,"") -> 0.29939798 | Q30: ='נוסטרו חיים'!Q30+'כללי והון'!Q30 -> 17805 | R30: =IFERROR(Q30/Q$31,"") -> 0.27251856 | S30: ='נוסטרו חיים'!S30+'כללי והון'!S30 -> 1851785 | T30: =IFERROR(S30/S$31,"") -> 0.46484876 | U30: ='נוסטרו חיים'!U30+'כללי והון'!U30 -> 21082 | V30: =IFERROR(U30/U$31,"") -> 0.37909766 | W30: ='נוסטרו חיים'!W30+'כללי והון'!W30 -> 21082 | X30: =IFERROR(W30/W$31,"") -> 0.34183516 | Y30: ='נוסטרו חיים'!Y30+'כללי והון'!Y30 -> 1866763 | Z30: =IFERROR(Y30/Y$31,"") -> 0.46249946
B31: סה"כ | C31: =SUM(C29:C30) -> 53297 | D31: =IFERROR(C31/C$31,"") -> 1 | E31: =SUM(E29:E30) -> 54985 | F31: =IFERROR(E31/E$31,"") -> 1 | G31: =SUM(G29:G30) -> 3688473 | H31: =IFERROR(G31/G$31,"") -> 1 | I31: =SUM(I29:I30) -> 50513 | J31: =IFERROR(I31/I$31,"") -> 1 | K31: =SUM(K29:K30) -> 40146 | L31: =IFERROR(K31/K$31,"") -> 1 | M31: =SUM(M29:M30) -> 3868779 | N31: =IFERROR(M31/M$31,"") -> 1 | O31: =SUM(O29:O30) -> 59466 | P31: =IFERROR(O31/O$31,"") -> 1 | Q31: =SUM(Q29:Q30) -> 65335 | R31: =IFERROR(Q31/Q$31,"") -> 1 | S31: =SUM(S29:S30) -> 3983629 | T31: =IFERROR(S31/S$31,"") -> 1 | U31: =SUM(U29:U30) -> 55611 | V31: =IFERROR(U31/U$31,"") -> 1 | W31: =SUM(W29:W30) -> 61673 | X31: =IFERROR(W31/W$31,"") -> 1 | Y31: =SUM(Y29:Y30) -> 4036249 | Z31: =IFERROR(Y31/Y$31,"") -> 1
B33: נתונים מצטברים בשנת : | C33: רבעון 1 | I33: רבעון 1+2 | O33: רבעון 1+2+3 | U33: רבעון 1+2+3+4
B34: =+B6 -> 2024 | C34: תרומה להכנסות מהשקעות (רווח/הפסד) | E34: תרומה להכנסה הכוללת (הון עצמי) | G34: סך נכסים | I34: תרומה להכנסות מהשקעות (רווח/הפסד) | K34: תרומה להכנסה הכוללת (הון עצמי) | M34: סך נכסים | O34: תרומה להכנסות מהשקעות (רווח/הפסד) | Q34: תרומה להכנסה הכוללת (הון עצמי) | S34: סך נכסים | U34: תרומה להכנסות מהשקעות (רווח/הפסד) | W34: תרומה להכנסה הכוללת (הון עצמי) | Y34: סך נכסים
C35: (באלפי ש"ח) | D35: (באחוזים) | E35: (באלפי ש"ח) | F35: (באחוזים) | G35: (באלפי ש"ח) | H35: (באחוזים) | I35: (באלפי ש"ח) | J35: (באחוזים) | K35: (באלפי ש"ח) | L35: (באחוזים) | M35: (באלפי ש"ח) | N35: (באחוזים) | O35: (באלפי ש"ח) | P35: (באחוזים) | Q35: (באלפי ש"ח) | R35: (באחוזים) | S35: (באלפי ש"ח) | T35: (באחוזים) | U35: (באלפי ש"ח) | V35: (באחוזים) | W35: (באלפי ש"ח) | X35: (באחוזים) | Y35: (באלפי ש"ח) | Z35: (באחוזים)
B36: מזומנים ושווי מזומנים | C36: =C8 -> 4097 | D36: =IFERROR(C36/C$51,"") -> 0.076871118 | E36: =E8 -> 4097 | F36: =IFERROR(E36/E$51,"") -> 0.07451123 | G36: =G8 -> 314593 | H36: =IFERROR(G36/G$51,"") -> 0.085290851 | I36: =IF(I$23=0,"",I8+C36) -> 7403 | J36: =IFERROR(I36/I$51,"") -> 0.071312976 | K36: =IF(K$23=0,"",K8+E36) -> 7403 | L36: =IFERROR(K36/K$51,"") -> 0.077819007 | M36: =M8 -> 228405 | N36: =IFERROR(M36/M$51,"") -> 0.059038007 | O36: =IF(O$23=0,"",O8+I36) -> 10563 | P36: =IFERROR(O36/O$51,"") -> 0.064694138 | Q36: =IF(Q$23=0,"",Q8+K36) -> 10563 | R36: =IFERROR(Q36/Q$51,"") -> 0.065827029 | S36: =S8 -> 157568 | T36: =IFERROR(S36/S$51,"") -> 0.039553884 | U36: =IF(U$23=0,"",U8+O36) -> 12585 | V36: =IFERROR(U36/U$51,"") -> 0.05749542 | W36: =IF(W$23=0,"",W8+Q36) -> 12585 | X36: =IFERROR(W36/W$51,"") -> 0.056653717 | Y36: =Y8 -> 85993 | Z36: =IFERROR(Y36/Y$51,"") -> 0.021305177
B37: אג"ח ממשלתיות סחירות | C37: =C9 -> 7563 | D37: =IFERROR(C37/C$51,"") -> 0.14190292 | E37: =E9 -> 6774 | F37: =IFERROR(E37/E$51,"") -> 0.12319724 | G37: =G9 -> 919203 | H37: =IFERROR(G37/G$51,"") -> 0.24920963 | I37: =IF(I$23=0,"",I9+C37) -> 19404 | J37: =IFERROR(I37/I$51,"") -> 0.18691841 | K37: =IF(K$23=0,"",K9+E37) -> 13685 | L37: =IFERROR(K37/K$51,"") -> 0.14385426 | M37: =M9 -> 954848 | N37: =IFERROR(M37/M$51,"") -> 0.24680862 | O37: =IF(O$23=0,"",O9+I37) -> 31059 | P37: =IFERROR(O37/O$51,"") -> 0.19022392 | Q37: =IF(Q$23=0,"",Q9+K37) -> 28508 | R37: =IFERROR(Q37/Q$51,"") -> 0.17765757 | S37: =S9 -> 1057424 | T37: =IFERROR(S37/S$51,"") -> 0.26544239 | U37: =IF(U$23=0,"",U9+O37) -> 38578 | V37: =IFERROR(U37/U$51,"") -> 0.17624619 | W37: =IF(W$23=0,"",W9+Q37) -> 37096 | X37: =IFERROR(W37/W$51,"") -> 0.16699454 | Y37: =Y9 -> 1076627 | Z37: =IFERROR(Y37/Y$51,"") -> 0.26673949
B38: אג"ח מיועדות | C38: =C10 -> 0 | D38: =IFERROR(C38/C$51,"") -> 0 | E38: =E10 -> 0 | F38: =IFERROR(E38/E$51,"") -> 0 | G38: =G10 -> 0 | H38: =IFERROR(G38/G$51,"") -> 0 | I38: =IF(I$23=0,"",I10+C38) -> 0 | J38: =IFERROR(I38/I$51,"") -> 0 | K38: =IF(K$23=0,"",K10+E38) -> 0 | L38: =IFERROR(K38/K$51,"") -> 0 | M38: =M10 -> 0 | N38: =IFERROR(M38/M$51,"") -> 0 | O38: =IF(O$23=0,"",O10+I38) -> 0 | P38: =IFERROR(O38/O$51,"") -> 0 | Q38: =IF(Q$23=0,"",Q10+K38) -> 0 | R38: =IFERROR(Q38/Q$51,"") -> 0 | S38: =S10 -> 0 | T38: =IFERROR(S38/S$51,"") -> 0 | U38: =IF(U$23=0,"",U10+O38) -> 0 | V38: =IFERROR(U38/U$51,"") -> 0 | W38: =IF(W$23=0,"",W10+Q38) -> 0 | X38: =IFERROR(W38/W$51,"") -> 0 | Y38: =Y10 -> 0 | Z38: =IFERROR(Y38/Y$51,"") -> 0
B39: אג"ח קונצרניות סחירות | C39: =C11 -> 4030 | D39: =IFERROR(C39/C$51,"") -> 0.075614012 | E39: =E11 -> 6507 | F39: =IFERROR(E39/E$51,"") -> 0.11834137 | G39: =G11 -> 509456 | H39: =IFERROR(G39/G$51,"") -> 0.13812111 | I39: =IF(I$23=0,"",I11+C39) -> 13394 | J39: =IFERROR(I39/I$51,"") -> 0.12902418 | K39: =IF(K$23=0,"",K11+E39) -> 10434 | L39: =IFERROR(K39/K$51,"") -> 0.10968034 | M39: =M11 -> 628487 | N39: =IFERROR(M39/M$51,"") -> 0.162451 | O39: =IF(O$23=0,"",O11+I39) -> 24499 | P39: =IFERROR(O39/O$51,"") -> 0.15004655 | Q39: =IF(Q$23=0,"",Q11+K39) -> 24240 | R39: =IFERROR(Q39/Q$51,"") -> 0.15106004 | S39: =S11 -> 712750 | T39: =IFERROR(S39/S$51,"") -> 0.17891977 | U39: =IF(U$23=0,"",U11+O39) -> 28261 | V39: =IFERROR(U39/U$51,"") -> 0.12911228 | W39: =IF(W$23=0,"",W11+Q39) -> 32995 | X39: =IFERROR(W39/W$51,"") -> 0.14853313 | Y39: =Y11 -> 762529 | Z39: =IFERROR(Y39/Y$51,"") -> 0.18892021
B40: אג"ח קונצרניות לא סחירות | C40: =C12 -> 640 | D40: =IFERROR(C40/C$51,"") -> 0.012008181 | E40: =E12 -> 640 | F40: =IFERROR(E40/E$51,"") -> 0.011639538 | G40: =G12 -> 59453 | H40: =IFERROR(G40/G$51,"") -> 0.016118594 | I40: =IF(I$23=0,"",I12+C40) -> 1461 | J40: =IFERROR(I40/I$51,"") -> 0.014073789 | K40: =IF(K$23=0,"",K12+E40) -> 1461 | L40: =IFERROR(K40/K$51,"") -> 0.01535777 | M40: =M12 -> 54364 | N40: =IFERROR(M40/M$51,"") -> 0.014051979 | O40: =IF(O$23=0,"",O12+I40) -> 2458 | P40: =IFERROR(O40/O$51,"") -> 0.015054264 | Q40: =IF(Q$23=0,"",Q12+K40) -> 2458 | R40: =IFERROR(Q40/Q$51,"") -> 0.015317887 | S40: =S12 -> 53380 | T40: =IFERROR(S40/S$51,"") -> 0.013399842 | U40: =IF(U$23=0,"",U12+O40) -> 2955 | V40: =IFERROR(U40/U$51,"") -> 0.013500116 | W40: =IF(W$23=0,"",W12+Q40) -> 2955 | X40: =IFERROR(W40/W$51,"") -> 0.013302482 | Y40: =Y12 -> 44755 | Z40: =IFERROR(Y40/Y$51,"") -> 0.011088265
B41: מניות | C41: =C13 -> 469 | D41: =IFERROR(C41/C$51,"") -> 0.0087997448 | E41: =E13 -> 469 | F41: =IFERROR(E41/E$51,"") -> 0.008529599 | G41: =G13 -> 30764 | H41: =IFERROR(G41/G$51,"") -> 0.0083405789 | I41: =IF(I$23=0,"",I13+C41) -> 1820 | J41: =IFERROR(I41/I$51,"") -> 0.01753203 | K41: =IF(K$23=0,"",K13+E41) -> 1820 | L41: =IFERROR(K41/K$51,"") -> 0.019131513 | M41: =M13 -> 32115 | N41: =IFERROR(M41/M$51,"") -> 0.0083010686 | O41: =IF(O$23=0,"",O13+I41) -> 1296 | P41: =IFERROR(O41/O$51,"") -> 0.0079374801 | Q41: =IF(Q$23=0,"",Q13+K41) -> 1296 | R41: =IFERROR(Q41/Q$51,"") -> 0.0080764773 | S41: =S13 -> 31592 | T41: =IFERROR(S41/S$51,"") -> 0.0079304574 | U41: =IF(U$23=0,"",U13+O41) -> 760 | V41: =IFERROR(U41/U$51,"") -> 0.0034721112 | W41: =IF(W$23=0,"",W13+Q41) -> 760 | X41: =IFERROR(W41/W$51,"") -> 0.0034212813 | Y41: =Y13 -> 31055 | Z41: =IFERROR(Y41/Y$51,"") -> 0.0076940248
B42: תעודות סל | C42: =C14 -> 699 | D42: =IFERROR(C42/C$51,"") -> 0.013115185 | E42: =E14 -> 699 | F42: =IFERROR(E42/E$51,"") -> 0.012712558 | G42: =G14 -> 29508 | H42: =IFERROR(G42/G$51,"") -> 0.0080000586 | I42: =IF(I$23=0,"",I14+C42) -> -44 | J42: =IFERROR(I42/I$51,"") -> -0.00042385127 | K42: =IF(K$23=0,"",K14+E42) -> -44 | L42: =IFERROR(K42/K$51,"") -> -0.0004625201 | M42: =M14 -> 19073 | N42: =IFERROR(M42/M$51,"") -> 0.0049299792 | O42: =IF(O$23=0,"",O14+I42) -> 341 | P42: =IFERROR(O42/O$51,"") -> 0.0020884882 | Q42: =IF(Q$23=0,"",Q14+K42) -> 341 | R42: =IFERROR(Q42/Q$51,"") -> 0.0021250608 | S42: =S14 -> 19458 | T42: =IFERROR(S42/S$51,"") -> 0.004884491 | U42: =IF(U$23=0,"",U14+O42) -> 898 | V42: =IFERROR(U42/U$51,"") -> 0.0041025735 | W42: =IF(W$23=0,"",W14+Q42) -> 898 | X42: =IFERROR(W42/W$51,"") -> 0.0040425139 | Y42: =Y14 -> 20015 | Z42: =IFERROR(Y42/Y$51,"") -> 0.004958812
B43: קרנות נאמנות | C43: =C15 -> 11099 | D43: =IFERROR(C43/C$51,"") -> 0.20824812 | E43: =E15 -> 11099 | F43: =IFERROR(E43/E$51,"") -> 0.20185505 | G43: =G15 -> 156294 | H43: =IFERROR(G43/G$51,"") -> 0.042373633 | I43: =IF(I$23=0,"",I15+C43) -> 6982 | J43: =IFERROR(I43/I$51,"") -> 0.06725749 | K43: =IF(K$23=0,"",K15+E43) -> 6982 | L43: =IFERROR(K43/K$51,"") -> 0.073393531 | M43: =M15 -> 169284 | N43: =IFERROR(M43/M$51,"") -> 0.043756441 | O43: =IF(O$23=0,"",O15+I43) -> 22340 | P43: =IFERROR(O43/O$51,"") -> 0.13682354 | Q43: =IF(Q$23=0,"",Q15+K43) -> 22340 | R43: =IFERROR(Q43/Q$51,"") -> 0.13921952 | S43: =S15 -> 184641 | T43: =IFERROR(S43/S$51,"") -> 0.046349949 | U43: =IF(U$23=0,"",U15+O43) -> 43009 | V43: =IFERROR(U43/U$51,"") -> 0.19648951 | W43: =IF(W$23=0,"",W15+Q43) -> 43009 | X43: =IFERROR(W43/W$51,"") -> 0.19361301 | Y43: =Y15 -> 224322 | Z43: =IFERROR(Y43/Y$51,"") -> 0.055576849
B44: הלוואות | C44: =C16 -> 1829 | D44: =IFERROR(C44/C$51,"") -> 0.034317129 | E44: =E16 -> 1829 | F44: =IFERROR(E44/E$51,"") -> 0.033263617 | G44: =G16 -> 458827 | H44: =IFERROR(G44/G$51,"") -> 0.12439484 | I44: =IF(I$23=0,"",I16+C44) -> 4435 | J44: =IFERROR(I44/I$51,"") -> 0.042722281 | K44: =IF(K$23=0,"",K16+E44) -> 4435 | L44: =IFERROR(K44/K$51,"") -> 0.046619924 | M44: =M16 -> 553618 | N44: =IFERROR(M44/M$51,"") -> 0.1430989 | O44: =IF(O$23=0,"",O16+I44) -> 10401 | P44: =IFERROR(O44/O$51,"") -> 0.063701953 | Q44: =IF(Q$23=0,"",Q16+K44) -> 10401 | R44: =IFERROR(Q44/Q$51,"") -> 0.064817469 | S44: =S16 -> 518198 | T44: =IFERROR(S44/S$51,"") -> 0.13008189 | U44: =IF(U$23=0,"",U16+O44) -> 12590 | V44: =IFERROR(U44/U$51,"") -> 0.057518263 | W44: =IF(W$23=0,"",W16+Q44) -> 12590 | X44: =IFERROR(W44/W$51,"") -> 0.056676225 | Y44: =Y16 -> 548326 | Z44: =IFERROR(Y44/Y$51,"") -> 0.13585039
B45: פיקדונות (שאינם מובנים) | C45: =C17 -> 3846 | D45: =IFERROR(C45/C$51,"") -> 0.07216166 | E45: =E17 -> 3846 | F45: =IFERROR(E45/E$51,"") -> 0.069946349 | G45: =G17 -> 504082 | H45: =IFERROR(G45/G$51,"") -> 0.13666414 | I45: =IF(I$23=0,"",I17+C45) -> 9255 | J45: =IFERROR(I45/I$51,"") -> 0.089153261 | K45: =IF(K$23=0,"",K17+E45) -> 9255 | L45: =IFERROR(K45/K$51,"") -> 0.097286899 | M45: =M17 -> 509491 | N45: =IFERROR(M45/M$51,"") -> 0.13169297 | O45: =IF(O$23=0,"",O17+I45) -> 14728 | P45: =IFERROR(O45/O$51,"") -> 0.090203092 | Q45: =IF(Q$23=0,"",Q17+K45) -> 14728 | R45: =IFERROR(Q45/Q$51,"") -> 0.091782683 | S45: =S17 -> 514964 | T45: =IFERROR(S45/S$51,"") -> 0.12927007 | U45: =IF(U$23=0,"",U17+O45) -> 18380 | V45: =IFERROR(U45/U$51,"") -> 0.083970268 | W45: =IF(W$23=0,"",W17+Q45) -> 18380 | X45: =IFERROR(W45/W$51,"") -> 0.082740986 | Y45: =Y17 -> 513922 | Z45: =IFERROR(Y45/Y$51,"") -> 0.12732663
