Workbook
Name _new1: [1]הערות!$E$55
Name _new2: [2]הערות!$E$55
Name a: #REF!
Name data_colm: #REF!
Name data_columns: #REF!
Name data_tocompany: #REF!
Name data_tocompany: #REF!
Name list_dates: #REF!
Name mess28: [3]הערות!$E$53
Name nomoremess: [4]הערות!$E$55
Name range_data: #REF!
Name table_company: #REF!

Sheet סכום נכסי הקרן
B1: תאריך הדיווח | C1: 31/03/2023
B2: החברה המדווחת | C2: איי.די.איי חברה לביטוח
B3: שם מסלול/קרן/קופה | C3: מסלול מניות
B4: מספר מסלול/קרן/קופה | C4: 12985
B6: סכום נכסי ההשקעה:
C7: שווי הוגן | D7: שעור מנכסי השקעה* | AJ7: שווי הוגן
C8: אלפי ₪ | D8: אחוזים | AJ8: עלות
C9: (1) | D9: (2) | AJ9: שווי הוגן/עעלות
B10: 1. נכסים המוצגים לפי שווי הוגן
A11: ◄ | B11: א. מזומנים | C11: 635.18277 | D11: 0.1073
B12: ב. ניירות ערך סחירים:
A13: ◄ | B13: (1) תעודות התחייבות ממשלתיות | C13: 395.84545 | D13: 0.0668
A14: ◄ | B14: (2) תעודות חוב מסחריות | C14: 0 | D14: 0
A15: ◄ | B15: (3) אג"ח קונצרני | C15: 0 | D15: 0
A16: ◄ | B16: (4) מניות | C16: 315.48404 | D16: 0.0533
A17: ◄ | B17: (5) קרנות סל | C17: 4217.2313 | D17: 0.7122
A18: ◄ | B18: (6) תעודות השתתפות בקרנות נאמנות | C18: 358.06093 | D18: 0.0605
A19: ◄ | B19: (7) כתבי אופציה | C19: 0 | D19: 0
A20: ◄ | B20: (8) אופציות | C20: 0 | D20: 0
A21: ◄ | B21: (9) חוזים עתידיים | C21: 0 | D21: 0
A22: ◄ | B22: (10) מוצרים מובנים | C22: 0 | D22: 0
B23: ג. ניירות ערך לא סחירים:
A24: ◄ | B24: (1) תעודות התחייבות ממשלתיות | C24: 0 | D24: 0
A25: ◄ | B25: (2) תעודות חוב מסחריות | C25: 0 | D25: 0
A26: ◄ | B26: (3) אג"ח קונצרני | C26: 0 | D26: 0
A27: ◄ | B27: (4) מניות | C27: 0 | D27: 0
A28: ◄ | B28: (5) קרנות השקעה | C28: 0 | D28: 0
A29: ◄ | B29: (6) כתבי אופציה | C29: 0 | D29: 0
A30: ◄ | B30: (7) אופציות | C30: 0 | D30: 0
A31: ◄ | B31: (8) חוזים עתידיים | C31: 0 | D31: 0
A32: ◄ | B32: (9) מוצרים מובנים | C32: 0 | D32: 0
A33: ◄ | B33: ד. הלוואות | C33: 0 | D33: 0
A34: ◄ | B34: ה. פקדונות מעל 3 חודשים | C34: 0 | D34: 0
A35: ◄ | B35: ו. זכויות מקרקעין | C35: 0 | D35: 0
... A37: ◄ | B37: ח. השקעות אחרות | C37: -0.0352824 | D37: 0
B38: 2. נכסים המוצגים לפי עלות מתואמת
A39: ◄ | B39: א. אג"ח קונצרני סחיר | C39: 0 | D39: 0
A40: ◄ | B40: ב. אג"ח קונצנרני לא סחיר | C40: 0 | D40: 0
A41: ◄ | B41: ג. מסגרות אשראי מנוצלות ללווים | C41: 0 | D41: 0
B42: סה"כ סכום נכסי המסלול או הקרן | C42: 5921.7692 | D42: 1
...

Sheet מזומנים
B1: תאריך הדיווח | C1: 31/03/2023
B2: החברה המדווחת | C2: איי.די.איי חברה לביטוח
B3: שם מסלול/קרן/קופה | C3: מסלול מניות
B4: מספר מסלול/קרן/קופה | C4: 12985
B7: 1.א. מזומנים ושווי מזומנים
B8: שם המנפיק/שם נייר ערך | C8: מספר ני"ע | D8: מספר מנפיק | E8: דירוג | F8: שם מדרג | G8: סוג מטבע | H8: שיעור ריבית | I8: תשואה לפידיון | J8: שווי שוק | K8: שעור מנכסי אפיק ההשקעה | L8: שעור מסך נכסי השקעה
H9: אחוזים | I9: אחוזים | J9: אלפי ₪ | K9: אחוזים | L9: אחוזים
C10: (1) | D10: (2) | E10: (3) | F10: (4) | G10: (5) | H10: (6) | I10: (7) | J10: (8) | K10: (9) | L10: (10)
B11: סה"כ מזומנים ושווי מזומנים | I11: 0 | J11: 635.18277 | K11: 1 | L11: 0.1073
B12: סה"כ בישראל | I12: 0 | J12: 635.18277 | K12: 1 | L12: 0.1073
B13: סה"כ יתרת מזומנים ועו"ש בש"ח | I13: 0 | J13: 1.833 | K13: 0.0029 | L13: 0.0003
B14: פועלים | C14: 0 | D14: 12 | E14: ilAAA | F14: S&P מעלות | G14: שקל חדש | H14: 0 | I14: 0 | J14: 1.833 | K14: 0.0029 | L14: 0.0003
B15: סה"כ יתרת מזומנים ועו"ש נקובים במט"ח | I15: 0 | J15: 7.6654267 | K15: 0.0121 | L15: 0.0013
B16: פועלים | C16: 0 | D16: 12 | E16: ilAAA | F16: S&P מעלות | G16: דולר אמריקאי | H16: 0 | I16: 0 | J16: 7.6654267 | K16: 0.0121 | L16: 0.0013
B17: סה"כ פח"ק/פר"י | I17: 0 | J17: 625.68434 | K17: 0.985 | L17: 0.1057
B18: פועלים | C18: 0 | D18: 12 | E18: ilAAA | F18: S&P מעלות | G18: שקל חדש | H18: 0 | I18: 0 | J18: 625.68434 | K18: 0.985 | L18: 0.1057
B19: סה"כ פק"מ לתקופה של עד שלושה חודשים | I19: 0 | J19: 0 | K19: 0 | L19: 0
B20: 0 | C20: 0 | E20: 0 | G20: 0 | H20: 0 | I20: 0 | J20: 0 | K20: 0 | L20: 0
B21: סה"כ פקדון צמוד מדד עד שלושה חודשים | I21: 0 | J21: 0 | K21: 0 | L21: 0
B22: 0 | C22: 0 | E22: 0 | G22: 0 | H22: 0 | I22: 0 | J22: 0 | K22: 0 | L22: 0
B23: סה"כ פקדון צמוד מט"ח עד שלושה חודשים (פצ"מ) | I23: 0 | J23: 0 | K23: 0 | L23: 0
B24: 0 | C24: 0 | E24: 0 | G24: 0 | H24: 0 | I24: 0 | J24: 0 | K24: 0 | L24: 0
B25: סה"כ פקדונות במט"ח עד שלושה חודשים | I25: 0 | J25: 0 | K25: 0 | L25: 0
B26: 0 | C26: 0 | E26: 0 | G26: 0 | H26: 0 | I26: 0 | J26: 0 | K26: 0 | L26: 0
B27: סה"כ בחו"ל | I27: 0 | J27: 0 | K27: 0 | L27: 0
B28: סה"כ יתרות מזומנים ועו"ש נקובים במט"ח | I28: 0 | J28: 0 | K28: 0 | L28: 0
B29: 0 | C29: 0 | E29: 0 | G29: 0 | H29: 0 | I29: 0 | J29: 0 | K29: 0 | L29: 0
B30: סה"כ פקדונות במט"ח עד שלושה חודשים | I30: 0 | J30: 0 | K30: 0 | L30: 0
B31: 0 | C31: 0 | E31: 0 | G31: 0 | H31: 0 | I31: 0 | J31: 0 | K31: 0 | L31: 0
B32: בעל ענין/צד קשור *

Sheet תעודות התחייבות ממשלתיות
B1: תאריך הדיווח | C1: 31/03/2023
B2: החברה המדווחת | C2: איי.די.איי חברה לביטוח
B3: שם מסלול/קרן/קופה | C3: מסלול מניות
B4: מספר מסלול/קרן/קופה | C4: 12985
B6: 1.ב. ניירות ערך סחירים
B7: 1. תעודות התחייבות ממשלתיות
B8: שם המנפיק/שם נייר ערך | C8: מספר ני"ע | D8: זירת מסחר | E8: דירוג | F8: שם מדרג | G8: תאריך רכישה | H8: מח"מ | I8: סוג מטבע | J8: שיעור ריבית | K8: תשואה לפידיון | L8: ערך נקוב**** | M8: שער*** | N8: פדיון/ריבית/דיבידנד לקבל***** | O8: שווי שוק | P8: שעור מערך נקוב**** מונפק | Q8: שעור מנכסי אפיק ההשקעה | R8: שעור מסך נכסי השקעה**
G9: תאריך | H9: שנים | J9: אחוזים | K9: אחוזים | L9: יחידות | N9: אלפי ש"ח | O9: אלפי ₪ | P9: אחוזים | Q9: אחוזים | R9: אחוזים
C10: (1) | D10: (2) | E10: (3) | F10: (4) | G10: (5) | H10: (6) | I10: (7) | J10: (8) | K10: (9) | L10: (10) | M10: (11) | N10: (12) | O10: (13) | P10: (14) | Q10: (15) | R10: (16)
B11: סה"כ תעודות התחייבות ממשלתיות | H11: 0.86 | K11: 0.0445 | L11: 410117 | N11: 0 | O11: 395.84545 | Q11: 1 | R11: 0.0668
B12: סה"כ בישראל | H12: 0.86 | K12: 0.0445 | L12: 410117 | N12: 0 | O12: 395.84545 | Q12: 1 | R12: 0.0668
B13: סה"כ צמודות למדד | H13: 0 | K13: 0 | L13: 0 | N13: 0 | O13: 0 | Q13: 0 | R13: 0
B14: סה"כ גליל | H14: 0 | K14: 0 | L14: 0 | N14: 0 | O14: 0 | Q14: 0 | R14: 0
B15: 0 | C15: 0 | E15: 0 | H15: 0 | I15: 0 | J15: 0 | K15: 0 | L15: 0 | M15: 0 | O15: 0 | P15: 0 | Q15: 0 | R15: 0
B16: סה"כ לא צמודות | H16: 0.86 | K16: 0.0445 | L16: 410117 | N16: 0 | O16: 395.84545 | Q16: 1 | R16: 0.0668
B17: סה"כ מלווה קצר מועד | H17: 0.66 | K17: 0.0451 | L17: 320000 | N17: 0 | O17: 310.775 | Q17: 0.7851 | R17: 0.0525
B18: מקמ 214- מדינת ישראל | C18: 8240210 | D18: TASE | E18: RF | G18: 16/02/23 | H18: 0.86 | I18: שקל חדש | J18: 0 | K18: 0.0454 | L18: 170000 | M18: 96.25 | N18: 0 | O18: 163.625 | P18: 0 | Q18: 0.4134 | R18: 0.0276
B19: מקמ 913- מדינת ישראל | C19: 8230914 | D19: TASE | E19: RF | G19: 11/10/22 | H19: 0.44 | I19: שקל חדש | J19: 0 | K19: 0.0447 | L19: 150000 | M19: 98.1 | N19: 0 | O19: 147.15 | P19: 0 | Q19: 0.3717 | R19: 0.0248
B20: סה"כ שחר | H20: 1.58 | K20: 0.0423 | L20: 90117 | N20: 0 | O20: 85.070448 | Q20: 0.2149 | R20: 0.0144
B21: ממשלתי שקלי 1024- ממשל שקלית | C21: 1175777 | D21: TASE | E21: RF | G21: 23/01/22 | H21: 1.58 | I21: שקל חדש | J21: 0.004 | K21: 0.0423 | L21: 90117 | M21: 94.4 | N21: 0 | O21: 85.070448 | P21: 0 | Q21: 0.2149 | R21: 0.0144
B22: סה"כ גילון | H22: 0 | K22: 0 | L22: 0 | N22: 0 | O22: 0 | Q22: 0 | R22: 0
B23: 0 | C23: 0 | E23: 0 | H23: 0 | I23: 0 | J23: 0 | K23: 0 | L23: 0 | M23: 0 | O23: 0 | P23: 0 | Q23: 0 | R23: 0
B24: סה"כ צמודות לדולר | H24: 0 | K24: 0 | L24: 0 | N24: 0 | O24: 0 | Q24: 0 | R24: 0
B25: 0 | C25: 0 | E25: 0 | H25: 0 | I25: 0 | J25: 0 | K25: 0 | L25: 0 | M25: 0 | O25: 0 | P25: 0 | Q25: 0 | R25: 0
B26: סה"כ בחו"ל | H26: 0 | K26: 0 | L26: 0 | N26: 0 | O26: 0 | Q26: 0 | R26: 0
B27: סה"כ אג"ח של ממשלת ישראל שהונפקו בחו"ל | H27: 0 | K27: 0 | L27: 0 | N27: 0 | O27: 0 | Q27: 0 | R27: 0
B28: 0 | C28: 0 | E28: 0 | H28: 0 | I28: 0 | J28: 0 | K28: 0 | L28: 0 | M28: 0 | O28: 0 | P28: 0 | Q28: 0 | R28: 0
B29: סה"כ אג"ח שהנפיקו ממשלות זרות בחו"ל | H29: 0 | K29: 0 | L29: 0 | N29: 0 | O29: 0 | Q29: 0 | R29: 0
B30: 0 | C30: 0 | E30: 0 | H30: 0 | I30: 0 | J30: 0 | K30: 0 | L30: 0 | M30: 0 | O30: 0 | P30: 0 | Q30: 0 | R30: 0
B31: בהתאם לשיטה שיושמה בדוח הכספי **
B32: ***שער-יוצג במאית המטבע המקומי, קרי /סנט וכ'ו
B33: ****ערך נקוב-יוצג היחידות במטבע בו בוצעה העסקה במקור
B34: כאשר טרם חלף מועד תשלום הריבית/ פדיון קרן/ דיבידנד, יוצג סכום פדיון/ ריבית/ דיבידנד שעתיד להתקבל*****

Sheet תעודות חוב מסחריות 
B1: תאריך הדיווח | C1: 31/03/2023
B2: החברה המדווחת | C2: איי.די.איי חברה לביטוח
B3: שם מסלול/קרן/קופה | C3: מסלול מניות
B4: מספר מסלול/קרן/קופה | C4: 12985
B6: 1.ב. ניירות ערך סחירים
B7: 2. תעודות חוב מסחריות
B8: שם המנפיק/שם נייר ערך | C8: מספר ני"ע | D8: זירת מסחר | E8: ספק מידע | F8: מספר מנפיק | G8: ענף מסחר | H8: דירוג | I8: שם מדרג | J8: תאריך רכישה | K8: מח"מ | L8: סוג מטבע | M8: שיעור ריבית | N8: תשואה לפידיון | O8: ערך נקוב**** | P8: שער*** | Q8: פדיון/ריבית/דיבידנד לקבל***** | R8: שווי שוק | S8: שעור מערך נקוב מונפק | T8: שעור מנכסי אפיק ההשקעה | U8: שעור מסך נכסי השקעה**
J9: תאריך | K9: שנים | M9: אחוזים | N9: אחוזים | O9: יחידות | Q9: אלפי ש"ח | R9: אלפי ₪ | S9: אחוזים | T9: אחוזים | U9: אחוזים
C10: (1) | D10: (2) | E10: (3) | F10: (4) | G10: (5) | H10: (6) | I10: (7) | J10: (8) | K10: (9) | L10: (10) | M10: (11) | N10: (12) | O10: (13) | P10: (14) | Q10: (15) | R10: (16) | S10: (17) | T10: (18) | U10: (19)
B11: סה"כ תעודות חוב מסחריות | O11: 0 | Q11: 0 | R11: 0 | T11: 0 | U11: 0
B12: סה"כ בישראל | K12: 0 | N12: 0 | O12: 0 | Q12: 0 | R12: 0 | T12: 0 | U12: 0
B13: סה"כ צמודות מדד | K13: 0 | N13: 0 | O13: 0 | Q13: 0 | R13: 0 | T13: 0 | U13: 0
B14: 0 | C14: 0 | G14: 0 | H14: 0 | K14: 0 | L14: 0 | M14: 0 | N14: 0 | O14: 0 | P14: 0 | R14: 0 | S14: 0 | T14: 0 | U14: 0
B15: סה"כ לא צמודות | K15: 0 | N15: 0 | O15: 0 | Q15: 0 | R15: 0 | T15: 0 | U15: 0
B16: 0 | C16: 0 | G16: 0 | H16: 0 | K16: 0 | L16: 0 | M16: 0 | N16: 0 | O16: 0 | P16: 0 | R16: 0 | S16: 0 | T16: 0 | U16: 0
B17: סה"כ צמודות למט"ח | K17: 0 | N17: 0 | O17: 0 | Q17: 0 | R17: 0 | T17: 0 | U17: 0
B18: 0 | C18: 0 | G18: 0 | H18: 0 | K18: 0 | L18: 0 | M18: 0 | N18: 0 | O18: 0 | P18: 0 | R18: 0 | S18: 0 | T18: 0 | U18: 0
B19: סה"כ בחו"ל | K19: 0 | N19: 0 | O19: 0 | Q19: 0 | R19: 0 | T19: 0 | U19: 0
B20: סה"כ חברות ישראליות בחו"ל | K20: 0 | N20: 0 | O20: 0 | Q20: 0 | R20: 0 | T20: 0 | U20: 0
B21: 0 | C21: 0 | G21: 0 | H21: 0 | K21: 0 | L21: 0 | M21: 0 | N21: 0 | O21: 0 | P21: 0 | R21: 0 | S21: 0 | T21: 0 | U21: 0
B22: סה"כ חברות זרות בחו"ל | K22: 0 | N22: 0 | O22: 0 | Q22: 0 | R22: 0 | T22: 0 | U22: 0
B23: 0 | C23: 0 | G23: 0 | H23: 0 | K23: 0 | L23: 0 | M23: 0 | N23: 0 | O23: 0 | P23: 0 | R23: 0 | S23: 0 | T23: 0 | U23: 0
B24: בעל ענין/צד קשור *
B25: בהתאם לשיטה שיושמה בדוח הכספי **
B26: ***שער-יוצג במאית המטבע המקומי, קרי /סנט וכ'ו
B27: ****ערך נקוב-יוצג היחידות במטבע בו בוצעה העסקה במקור
B28: כאשר טרם חלף מועד תשלום הריבית/ פדיון קרן/ דיבידנד, יוצג סכום פדיון/ ריבית/ דיבידנד שעתיד להתקבל*****

Sheet אג"ח קונצרני
B1: תאריך הדיווח | C1: 31/03/2023
B2: החברה המדווחת | C2: איי.די.איי חברה לביטוח
B3: שם מסלול/קרן/קופה | C3: מסלול מניות
B4: מספר מסלול/קרן/קופה | C4: 12985
B6: 1.ב. ניירות ערך סחירים
B7: 3. אג"ח קונצרני
B8: שם המנפיק/שם נייר ערך | C8: מספר ני"ע | D8: זירת מסחר | E8: ספק מידע | F8: מספר מנפיק | G8: ענף מסחר | H8: דירוג | I8: שם מדרג | J8: תאריך רכישה | K8: מח"מ | L8: סוג מטבע | M8: שיעור ריבית | N8: תשואה לפידיון | O8: ערך נקוב**** | P8: שער*** | Q8: פדיון/ריבית/דיבידנד לקבל***** | R8: שווי שוק | S8: שעור מערך נקוב מונפק | T8: שעור מנכסי אפיק ההשקעה | U8: שעור מסך נכסי השקעה**
J9: תאריך | K9: שנים | M9: אחוזים | N9: אחוזים | O9: יחידות | Q9: אלפי ש"ח | R9: אלפי ₪ | S9: אחוזים | T9: אחוזים | U9: אחוזים
C10: (1) | D10: (2) | E10: (3) | F10: (4) | G10: (5) | H10: (6) | I10: (7) | J10: (8) | K10: (9) | L10: (10) | M10: (11) | N10: (12) | O10: (13) | P10: (14) | Q10: (15) | R10: (16) | S10: (17) | T10: (18) | U10: (19)
B11: סה"כ אגרות חוב קונצרניות | O11: 0 | Q11: 0 | R11: 0 | T11: 0 | U11: 0
B12: סה"כ בישראל | K12: 0 | N12: 0 | O12: 0 | Q12: 0 | R12: 0 | T12: 0 | U12: 0
B13: סה"כ צמודות מדד | K13: 0 | N13: 0 | O13: 0 | Q13: 0 | R13: 0 | T13: 0 | U13: 0
B14: 0 | C14: 0 | G14: 0 | H14: 0 | K14: 0 | L14: 0 | M14: 0 | N14: 0 | O14: 0 | P14: 0 | R14: 0 | S14: 0 | T14: 0 | U14: 0
B15: סה"כ לא צמודות | K15: 0 | N15: 0 | O15: 0 | Q15: 0 | R15: 0 | T15: 0 | U15: 0
B16: 0 | C16: 0 | G16: 0 | H16: 0 | K16: 0 | L16: 0 | M16: 0 | N16: 0 | O16: 0 | P16: 0 | R16: 0 | S16: 0 | T16: 0 | U16: 0
B17: סה"כ צמודות למט"ח | K17: 0 | N17: 0 | O17: 0 | Q17: 0 | R17: 0 | T17: 0 | U17: 0
B18: 0 | C18: 0 | G18: 0 | H18: 0 | K18: 0 | L18: 0 | M18: 0 | N18: 0 | O18: 0 | P18: 0 | R18: 0 | S18: 0 | T18: 0 | U18: 0
B19: סה"כ אחר | K19: 0 | N19: 0 | O19: 0 | Q19: 0 | R19: 0 | T19: 0 | U19: 0
B20: 0 | C20: 0 | G20: 0 | H20: 0 | K20: 0 | L20: 0 | M20: 0 | N20: 0 | O20: 0 | P20: 0 | R20: 0 | S20: 0 | T20: 0 | U20: 0
B21: סה"כ בחו"ל | K21: 0 | N21: 0 | O21: 0 | Q21: 0 | R21: 0 | T21: 0 | U21: 0
B22: סה"כ חברות ישראליות בחו"ל | K22: 0 | N22: 0 | O22: 0 | Q22: 0 | R22: 0 | T22: 0 | U22: 0
B23: 0 | C23: 0 | G23: 0 | H23: 0 | K23: 0 | L23: 0 | M23: 0 | N23: 0 | O23: 0 | P23: 0 | R23: 0 | S23: 0 | T23: 0 | U23: 0
B24: סה"כ חברות זרות בחו"ל | K24: 0 | N24: 0 | O24: 0 | Q24: 0 | R24: 0 | T24: 0 | U24: 0
B25: 0 | C25: 0 | G25: 0 | H25: 0 | K25: 0 | L25: 0 | M25: 0 | N25: 0 | O25: 0 | P25: 0 | R25: 0 | S25: 0 | T25: 0 | U25: 0
B26: בעל ענין/צד קשור *
B27: בהתאם לשיטה שיושמה בדוח הכספי **
B28: ***שער-יוצג במאית המטבע המקומי, קרי /סנט וכ'ו
B29: ****ערך נקוב-יוצג היחידות במטבע בו בוצעה העסקה במקור
B30: כאשר טרם חלף מועד תשלום הריבית/ פדיון קרן/ דיבידנד, יוצג סכום פדיון/ ריבית/ דיבידנד שעתיד להתקבל*****

Sheet מניות
B1: תאריך הדיווח | C1: 31/03/2023
B2: החברה המדווחת | C2: איי.די.איי חברה לביטוח
B3: שם מסלול/קרן/קופה | C3: מסלול מניות
B4: מספר מסלול/קרן/קופה | C4: 12985
B6: 1.ב. ניירות ערך סחירים
B7: 4. מניות
B8: שם המנפיק/שם נייר ערך | C8: מספר ני"ע | D8: זירת מסחר | E8: ספק מידע | F8: מספר מנפיק | G8: ענף מסחר | H8: סוג מטבע | I8: ערך נקוב**** | J8: שער*** | K8: פדיון/ריבית/דיבידנד לקבל***** | L8: שווי שוק | M8: שעור מערך נקוב מונפק | N8: שעור מנכסי אפיק ההשקעה | O8: שעור מסך נכסי השקעה**
I9: יחידות | K9: אלפי ש"ח | L9: אלפי ₪ | M9: אחוזים | N9: אחוזים | O9: אחוזים
C10: (1) | D10: (2) | E10: (3) | F10: (4) | G10: (5) | H10: (6) | I10: (7) | J10: (8) | K10: (9) | L10: (10) | M10: (11) | N10: (12) | O10: (13)
B11: סה"כ מניות | I11: 9184.9 | K11: 1.1966 | L11: 315.48404 | N11: 1 | O11: 0.0533
B12: סה"כ בישראל | I12: 9122.9 | K12: 1.1966 | L12: 293.47466 | N12: 0.9302 | O12: 0.0496
B13: סה"כ תל אביב 35 | I13: 4082 | K13: 1.13706 | L13: 212.52221 | N13: 0.6736 | O13: 0.0359
B14: אשטרום קבוצה- קבוצת אשטרום | C14: 1132315 | D14: TASE | E14: אחר | F14: 1618 | G14: בנייה | H14: שקל חדש | I14: 312 | J14: 5400 | K14: 0.61644 | L14: 17.46444 | M14: 0 | N14: 0.0554 | O14: 0.0029 | P14: =+VLOOKUP(C14,[5]מניות!$C$14:$G$80,5,) -> בנייה
B15: שיכון ובינוי- שיכון ובינוי | C15: 1081942 | D15: TASE | E15: אחר | F15: 1068 | G15: בנייה | H15: שקל חדש | I15: 289 | J15: 671 | K15: 0 | L15: 1.93919 | M15: 0 | N15: 0.0061 | O15: 0.0003 | P15: =+VLOOKUP(C15,[5]מניות!$C$14:$G$80,5,) -> בנייה
B16: אלביט מערכות | C16: 1081124 | D16: TASE | E16: אחר | F16: 1040 | G16: ביטחוניות | H16: שקל חדש | I16: 56 | J16: 60900 | K16: 0 | L16: 34.104 | M16: 0 | N16: 0.1081 | O16: 0.0058 | P16: =+VLOOKUP(C16,[5]מניות!$C$14:$G$80,5,) -> ביטחוניות
B17: דיסקונט- דיסקונט | C17: 691212 | D17: TASE | E17: אחר | F17: 691 | G17: בנקים | H17: שקל חדש | I17: 654 | J17: 1755 | K17: 0 | L17: 11.4777 | M17: 0 | N17: 0.0364 | O17: 0.0019 | P17: =+VLOOKUP(C17,[5]מניות!$C$14:$G$80,5,) -> בנקים
B18: לאומי- לאומי | C18: 604611 | D18: TASE | E18: אחר | F18: 604 | G18: בנקים | H18: שקל חדש | I18: 414 | J18: 2700 | K18: 0.18712 | L18: 11.36512 | M18: 0 | N18: 0.036 | O18: 0.0019 | P18: =+VLOOKUP(C18,[5]מניות!$C$14:$G$80,5,) -> בנקים
B19: מזרחי- מזרחי טפחות | C19: 695437 | D19: TASE | E19: אחר | F19: 695 | G19: בנקים | H19: שקל חדש | I19: 115 | J19: 11220 | K19: 0 | L19: 12.903 | M19: 0 | N19: 0.0409 | O19: 0.0022 | P19: =+VLOOKUP(C19,[5]מניות!$C$14:$G$80,5,) -> בנקים
B20: פועלים- פועלים | C20: 662577 | D20: TASE | E20: אחר | F20: 662 | G20: בנקים | H20: שקל חדש | I20: 424 | J20: 2975 | K20: 0 | L20: 12.614 | M20: 0 | N20: 0.04 | O20: 0.0021 | P20: =+VLOOKUP(C20,[5]מניות!$C$14:$G$80,5,) -> בנקים
B21: חברה לישראל- החברה לישראל | C21: 576017 | D21: TASE | E21: אחר | F21: 576 | G21: השקעות ואחזקות | H21: שקל חדש | I21: 12 | J21: 117790 | K21: 0 | L21: 14.1348 | M21: 0 | N21: 0.0448 | O21: 0.0024 | P21: =+VLOOKUP(C21,[5]מניות!$C$14:$G$80,5,) -> השקעות ואחזקות
B22: דלק קבוצה- דלק קבוצה | C22: 1084128 | D22: TASE | E22: אחר | F22: 1095 | G22: חיפושי נפט וגז | H22: שקל חדש | I22: 57 | J22: 39690 | K22: 0 | L22: 22.6233 | M22: 0 | N22: 0.0717 | O22: 0.0038 | P22: =+VLOOKUP(C22,[5]מניות!$C$14:$G$80,5,) -> חיפושי נפט וגז
B23: איי.סי.אל גרופ- איי.סי.אל | C23: 281014 | D23: TASE | E23: אחר | F23: 281 | G23: כימיה, גומי ופלסטיק | H23: שקל חדש | I23: 422 | J23: 2413 | K23: 0 | L23: 10.18286 | M23: 0 | N23: 0.0323 | O23: 0.0017 | P23: =+VLOOKUP(C23,[5]מניות!$C$14:$G$80,5,) -> כימיה, גומי ופלסטיק
B24: טאואר- טאואר | C24: 1082379 | D24: TASE | E24: אחר | F24: 2028 | G24: מוליכים למחצה | H24: שקל חדש | I24: 45 | J24: 15300 | K24: 0 | L24: 6.885 | M24: 0 | N24: 0.0218 | O24: 0.0012 | P24: =+VLOOKUP(C24,[5]מניות!$C$14:$G$80,5,) -> מוליכים למחצה
B25: נובה- נובה | C25: 1084557 | D25: TASE | E25: אחר | F25: 2177 | G25: מוליכים למחצה | H25: שקל חדש | I25: 14 | J25: 37180 | K25: 0 | L25: 5.2052 | M25: 0 | N25: 0.0165 | O25: 0.0009 | P25: =+VLOOKUP(C25,[5]מניות!$C$14:$G$80,5,) -> מוליכים למחצה
... B32: נייס- נייס | C32: 273011 | D32: TASE | E32: אחר | F32: 273 | G32: תוכנה ואינטרנט | H32: שקל חדש | I32: 7 | J32: 80520 | K32: 0 | L32: 5.6364 | M32: 0 | N32: 0.0179 | O32: 0.001 | P32: =+VLOOKUP(C32,[5]מניות!$C$14:$G$80,5,) -> תוכנה ואינטרנט
B33: סה"כ תל אביב 90 | I33: 5040.9 | K33: 0.05954 | L33: 80.952448 | N33: 0.2566 | O33: 0.0137 | P33: =+VLOOKUP(C33,[5]מניות!$C$14:$G$80,5,) -> #N/A
B34: דלתא גליל- דלתא | C34: 627034 | D34: TASE | E34: אחר | F34: 627 | G34: אופנה והלבשה | H34: שקל חדש | I34: 89 | J34: 14230 | K34: 0 | L34: 12.6647 | M34: 0 | N34: 0.0401 | O34: 0.0021 | P34: =+VLOOKUP(C34,[5]מניות!$C$14:$G$80,5,) -> אופנה והלבשה
B35: אאורה- אאורה | C35: 373019 | D35: TASE | E35: אחר | F35: 373 | G35: בנייה | H35: שקל חדש | I35: 793 | J35: 482.4 | K35: 0.02473 | L35: 3.850162 | M35: 0 | N35: 0.0122 | O35: 0.0007 | P35: =+VLOOKUP(C35,[5]מניות!$C$14:$G$80,5,) -> בנייה
B36: אנלייט אנרגיה- אנלייט אנרגיה | C36: 720011 | D36: TASE | E36: אחר | F36: 720 | G36: אנרגיה מתחדשת | H36: שקל חדש | I36: 73.9 | J36: 6001 | K36: 0 | L36: 4.434739 | M36: 0 | N36: 0.0141 | O36: 0.0007 | P36: =+VLOOKUP(C36,[5]מניות!$C$14:$G$80,5,) -> אנרגיה מתחדשת
B37: פוקס- פוקס | C37: 1087022 | D37: TASE | E37: אחר | F37: 1140 | G37: רשתות שיווק | H37: שקל חדש | I37: 19 | J37: 30550 | K37: 0 | L37: 5.8045 | M37: 0 | N37: 0.0184 | O37: 0.001 | P37: =+VLOOKUP(C37,[5]מניות!$C$14:$G$80,5,) -> רשתות שיווק
B38: פרשקובסקי- פרשקובסקי | C38: 1102128 | D38: TASE | E38: אחר | F38: 1330 | G38: בנייה | H38: שקל חדש | I38: 43 | J38: 7752 | K38: 0 | L38: 3.33336 | M38: 0 | N38: 0.0106 | O38: 0.0006 | P38: =+VLOOKUP(C38,[5]מניות!$C$14:$G$80,5,) -> בנייה
B39: קמטק- קמטק | C39: 1095264 | D39: TASE | E39: אחר | F39: 2174 | G39: מוליכים למחצה | H39: שקל חדש | I39: 40 | J39: 9869 | K39: 0 | L39: 3.9476 | M39: 0 | N39: 0.0125 | O39: 0.0007 | P39: =+VLOOKUP(C39,[5]מניות!$C$14:$G$80,5,) -> מוליכים למחצה
B40: ג'י סיטי- גזית גלוב | C40: 126011 | D40: TASE | E40: אחר | F40: 126 | G40: נדלן מניב בחו"ל | H40: שקל חדש | I40: 343 | J40: 1185 | K40: 0 | L40: 4.06455 | M40: 0 | N40: 0.0129 | O40: 0.0007 | P40: =+VLOOKUP(C40,[5]מניות!$C$14:$G$80,5,) -> נדלן מניב בחו"ל
B41: מגדלי תיכון- מגדלי הים התיכון | C41: 1131523 | D41: TASE | E41: אחר | F41: 1614 | G41: נדלן מניב בישראל | H41: שקל חדש | I41: 2289 | J41: 708.3 | K41: 0 | L41: 16.212987 | M41: 0 | N41: 0.0514 | O41: 0.0027 | P41: =+VLOOKUP(C41,[5]מניות!$C$14:$G$80,5,) -> נדלן מניב בישראל
B42: סאמיט- סאמיט | C42: 1081686 | D42: TASE | E42: אחר | F42: 1060 | G42: נדלן מניב בחו"ל | H42: שקל חדש | I42: 109 | J42: 3950 | K42: 0 | L42: 4.3055 | M42: 0 | N42: 0.0136 | O42: 0.0007 | P42: =+VLOOKUP(C42,[5]מניות!$C$14:$G$80,5,) -> נדלן מניב בחו"ל
B43: ריט1- ריט1 | C43: 1098920 | D43: TASE | E43: אחר | F43: 1357 | G43: נדלן מניב בישראל | H43: שקל חדש | I43: 586 | J43: 1570 | K43: 0 | L43: 9.2002 | M43: 0 | N43: 0.0292 | O43: 0.0016 | P43: =+VLOOKUP(C43,[5]מניות!$C$14:$G$80,5,) -> נדלן מניב בישראל
B44: מטריקס- מטריקס | C44: 445015 | D44: TASE | E44: אחר | F44: 445 | G44: שירותי מידע | H44: שקל חדש | I44: 59 | J44: 6316 | K44: 0.03481 | L44: 3.76125 | M44: 0 | N44: 0.0119 | O44: 0.0006 | P44: =+VLOOKUP(C44,[5]מניות!$C$14:$G$80,5,) -> שירותי מידע
B45: הבורסה לני"ע בת"א- הבורסה לניע בתא | C45: 1159029 | D45: TASE | E45: אחר | F45: 1778 | G45: שירותים פיננסיים | H45: שקל חדש | I45: 597 | J45: 1570 | K45: 0 | L45: 9.3729 | M45: 0 | N45: 0.0297 | O45: 0.0016 | P45: =+VLOOKUP(C45,[5]מניות!$C$14:$G$80,5,) -> שירותים פיננסיים
B46: סה"כ מניות היתר | I46: 0 | K46: 0 | L46: 0 | N46: 0 | O46: 0
B47: 0 | C47: 0 | G47: 0 | H47: 0 | I47: 0 | J47: 0 | L47: 0 | M47: 0 | N47: 0 | O47: 0
...

Sheet קרנות סל
B1: תאריך הדיווח | C1: 31/03/2023
B2: החברה המדווחת | C2: איי.די.איי חברה לביטוח
B3: שם מסלול/קרן/קופה | C3: מסלול מניות
B4: מספר מסלול/קרן/קופה | C4: 12985
B6: 1.ב. ניירות ערך סחירים
B7: 5. קרנות סל
B8: שם המנפיק/שם נייר ערך | C8: מספר ני"ע | D8: זירת מסחר | E8: מספר מנפיק | F8: ענף מסחר | G8: סוג מטבע | H8: ערך נקוב**** | I8: שער*** | J8: פדיון/ריבית/דיבידנד לקבל***** | K8: שווי שוק | L8: שעור מערך נקוב מונפק | M8: שעור מנכסי אפיק ההשקעה | N8: שעור מסך נכסי השקעה**
H9: יחידות | J9: אלפי ש"ח | K9: אלפי ₪ | L9: אחוזים | M9: אחוזים | N9: אחוזים
C10: (1) | D10: (2) | E10: (3) | F10: (4) | G10: (5) | H10: (6) | I10: (7) | J10: (8) | K10: (9) | L10: (10) | M10: (11) | N10: (12)
B11: סה"כ קרנות סל | H11: 211311.12 | J11: 0.14102115 | K11: 4217.2313 | M11: 1 | N11: 0.7122
B12: סה"כ בישראל | H12: 210814.12 | J12: 0 | K12: 4090.0305 | M12: 0.9698 | N12: 0.6907
B13: סה"כ שמחקות מדדי מניות בישראל | H13: 29613 | J13: 0 | K13: 730.38187 | M13: 0.1732 | N13: 0.1233
B14: הראל סל (4A) תא 35- הראל קרנות מדד | C14: 1148907 | D14: TASE | E14: 1747 | F14: מניות | G14: שקל חדש | H14: 5406 | I14: 1721 | J14: 0 | K14: 93.03726 | L14: 0.0001 | M14: 0.0221 | N14: 0.0157
B15: הראל סל 90- הראל קרנות מדד | C15: 1148931 | D15: TASE | E15: 1747 | F15: מניות | G15: שקל חדש | H15: 5714 | I15: 1616 | J15: 0 | K15: 92.33824 | L15: 0 | M15: 0.0219 | N15: 0.0156
B16: מגדל סל 35- מגדל קרנות נאמנ | C16: 1150184 | D16: TASE | E16: 1735 | F16: מניות | G16: שקל חדש | H16: 4483 | I16: 2343 | J16: 0 | K16: 105.03669 | L16: 0.0001 | M16: 0.0249 | N16: 0.0177
B17: מגדל סל 90- מגדל קרנות נאמנ | C17: 1150259 | D17: TASE | E17: 1735 | F17: מניות | G17: שקל חדש | H17: 3102 | I17: 2430 | J17: 0 | K17: 75.3786 | L17: 0.0001 | M17: 0.0179 | N17: 0.0127
B18: מור סל אינדקס בנקים- מור קרנות נאמנ | C18: 1187764 | D18: TASE | E18: 1799 | F18: מניות | G18: שקל חדש | H18: 1036 | I18: 4671 | J18: 0 | K18: 48.39156 | L18: 0.0001 | M18: 0.0115 | N18: 0.0082
B19: תכלית סל (4A) תא 35- מיטב תכלית | C19: 1143700 | D19: TASE | E19: 1734 | F19: מניות | G19: שקל חדש | H19: 8856 | I19: 1717 | J19: 0 | K19: 152.05752 | L19: 0 | M19: 0.0361 | N19: 0.0257
B20: קסם A4)ETF) תא 35- קסם קרנות נאמנו | C20: 1146570 | D20: TASE | E20: 1733 | F20: מניות | G20: שקל חדש | H20: 401 | I20: 17100 | J20: 0 | K20: 68.571 | L20: 0 | M20: 0.0163 | N20: 0.0116
B21: קסם ת"א 90- קסם קרנות נאמנו | C21: 1146331 | D21: TASE | E21: 1733 | F21: מניות | G21: שקל חדש | H21: 615 | I21: 15540 | J21: 0 | K21: 95.571 | L21: 0 | M21: 0.0227 | N21: 0.0161
B22: סה"כ שמחקות מדדי מניות בחו"ל | H22: 181201.12 | J22: 0 | K22: 3359.6486 | M22: 0.7966 | N22: 0.5673
B23: הראל S&P 500 דולרי- הראל קרנות מדד | C23: 1149020 | D23: TASE | E23: 1747 | F23: מניות | G23: שקל חדש | H23: 10067 | I23: 1663 | J23: 0 | K23: 167.41421 | L23: 0 | M23: 0.0397 | N23: 0.0283
B24: הראל סל DJ US MEDIC EQ שקלי- הראל קרנות מדד | C24: 1167618 | D24: TASE | E24: 1747 | F24: מניות | G24: שקל חדש | H24: 60447 | I24: 101.3 | J24: 0 | K24: 61.232811 | L24: 0.0002 | M24: 0.0145 | N24: 0.0103
B25: פסגות דקס שקלי | C25: 1149905 | D25: TASE | E25: 1747 | F25: מניות | G25: שקל חדש | H25: 23130 | I25: 968.4 | J25: 0 | K25: 223.99092 | L25: 0.0003 | M25: 0.0531 | N25: 0.0378
B26: פסגות דקס שקלי | C26: 1150838 | D26: TASE | E26: 1747 | F26: מניות | G26: שקל חדש | H26: 2975 | I26: 3819 | J26: 0 | K26: 113.61525 | L26: 0.0002 | M26: 0.0269 | N26: 0.0192
B27: פסגות דקס שקלי | C27: 1150333 | D27: TASE | E27: 1735 | F27: מניות | G27: שקל חדש | H27: 1913 | I27: 6093 | J27: 0 | K27: 116.55909 | L27: 0 | M27: 0.0276 | N27: 0.0197
B28: פסגות דקס שקלי | C28: 1150457 | D28: TASE | E28: 1735 | F28: מניות | G28: שקל חדש | H28: 3212 | I28: 3225 | J28: 0 | K28: 103.587 | L28: 0.0005 | M28: 0.0246 | N28: 0.0175
B29: פסגות דקס שקלי | C29: 1150507 | D29: TASE | E29: 1735 | F29: מניות | G29: שקל חדש | H29: 7941 | I29: 2675 | J29: 0 | K29: 212.42175 | L29: 0.0026 | M29: 0.0504 | N29: 0.0359
B30: פסגות דקס שקלי | C30: 1150564 | D30: TASE | E30: 1735 | F30: מניות | G30: שקל חדש | H30: 6337 | I30: 2541 | J30: 0 | K30: 161.02317 | L30: 0.0008 | M30: 0.0382 | N30: 0.0272
B31: מור נסד"ק מנוטרל- מור קרנות נאמנ | C31: 1165844 | D31: TASE | E31: 1799 | F31: מניות | G31: שקל חדש | H31: 6246 | I31: 6254 | J31: 0 | K31: 390.62484 | L31: 0.0003 | M31: 0.0926 | N31: 0.066
B32: מור סל S&P 500 מנוטרלת מט"ח- מור קרנות נאמנ | C32: 1165828 | D32: TASE | E32: 1799 | F32: מניות | G32: שקל חדש | H32: 5904 | I32: 6438 | J32: 0 | K32: 380.09952 | L32: 0.0002 | M32: 0.0901 | N32: 0.0642
B33: פסגות דקס שקלי | C33: 1143767 | D33: TASE | E33: 1734 | F33: מניות | G33: שקל חדש | H33: 2789 | I33: 4530 | J33: 0 | K33: 126.3417 | L33: 0.0001 | M33: 0.03 | N33: 0.0213
B34: פסגות דקס שקלי | C34: 1143825 | D34: TASE | E34: 1734 | F34: מניות | G34: שקל חדש | H34: 560 | I34: 13750 | J34: 0 | K34: 77 | L34: 0 | M34: 0.0183 | N34: 0.013
... B44: קסם ארהב- קסם קרנות סל ומוצרי מדדים בע"מ | C44: 1147107 | D44: TASE | E44: 1224 | F44: מניות | G44: שקל חדש | H44: 2297.12 | I44: 8377 | J44: 0 | K44: 192.42974 | L44: 0.0003 | M44: 0.0456 | N44: 0.0325
B45: סה"כ שמחקות מדדים אחרים בישראל | H45: 0 | J45: 0 | K45: 0 | M45: 0 | N45: 0
B46: 0 | C46: 0 | F46: 0 | G46: 0 | H46: 0 | I46: 0 | K46: 0 | L46: 0 | M46: 0 | N46: 0
B47: סה"כ שמחקות מדדים אחרים בחו"ל | H47: 0 | J47: 0 | K47: 0 | M47: 0 | N47: 0
B48: 0 | C48: 0 | F48: 0 | G48: 0 | H48: 0 | I48: 0 | K48: 0 | L48: 0 | M48: 0 | N48: 0
B49: סה"כ אחר | H49: 0 | J49: 0 | K49: 0 | M49: 0 | N49: 0
B50: 0 | C50: 0 | F50: 0 | G50: 0 | H50: 0 | I50: 0 | K50: 0 | L50: 0 | M50: 0 | N50: 0
...

Sheet קרנות נאמנות
B1: תאריך הדיווח | C1: 31/03/2023
B2: החברה המדווחת | C2: איי.די.איי חברה לביטוח
B3: שם מסלול/קרן/קופה | C3: מסלול מניות
B4: מספר מסלול/קרן/קופה | C4: 12985
B6: 1.ב. ניירות ערך סחירים
B7: 6. קרנות נאמנות
B8: שם המנפיק/שם נייר ערך | C8: מספר ני"ע | D8: זירת מסחר | E8: מספר מנפיק | F8: ענף מסחר | G8: דירוג | H8: שם מדרג | I8: סוג מטבע | J8: ערך נקוב**** | K8: שער*** | L8: שווי שוק | M8: שעור מערך נקוב מונפק | N8: שעור מנכסי אפיק ההשקעה | O8: שעור מסך נכסי השקעה**
J9: יחידות | L9: אלפי ₪ | M9: אחוזים | N9: אחוזים | O9: אחוזים
C10: (1) | D10: (2) | E10: (3) | F10: (4) | G10: (5) | H10: (6) | I10: (7) | J10: (8) | K10: (9) | L10: (10) | M10: (11) | N10: (12) | O10: (13)
B11: סה"כ תעודות השתתפות בקרנות נאמנות | J11: 235079 | L11: 358.06093 | N11: 1 | O11: 0.0605
B12: סה"כ בישראל | J12: 235079 | L12: 358.06093 | N12: 1 | O12: 0.0605
B13: סה"כ אג"ח ממשלתי | J13: 0 | L13: 0 | N13: 0 | O13: 0
B14: 0 | C14: 0 | F14: 0 | G14: 0 | I14: 0 | J14: 0 | K14: 0 | L14: 0 | M14: 0 | N14: 0 | O14: 0
B15: סה"כ אגח קונצרני | J15: 0 | L15: 0 | N15: 0 | O15: 0
B16: 0 | C16: 0 | F16: 0 | G16: 0 | I16: 0 | J16: 0 | K16: 0 | L16: 0 | M16: 0 | N16: 0 | O16: 0
B17: סה"כ מניות | J17: 235079 | L17: 358.06093 | N17: 1 | O17: 0.0605
B18: PTF -S&P500 פסגות שילר דולרי- פסגות מוצרי מדדים בע"מ | C18: 5130737 | D18: TASE | E18: 1249 | F18: מניות | G18: 0 | H18: לא מדורג | I18: שקל חדש | J18: 226273 | K18: 154.76 | L18: 350.18009 | M18: 0 | N18: 0.978 | O18: 0.0591
B19: מור סין אנרגיה ירוקה שקלי- מור קרנות נאמנ | C19: 5133558 | D19: TASE | E19: 1799 | F19: מניות | G19: 0 | H19: לא מדורג | I19: שקל חדש | J19: 4364 | K19: 90.18 | L19: 3.9354552 | M19: 0 | N19: 0.011 | O19: 0.0007
B20: מור סייבר ענן גלובלי- מור קרנות נאמנ | C20: 5132220 | D20: TASE | E20: 1799 | F20: מניות | G20: 0 | H20: לא מדורג | I20: שקל חדש | J20: 4442 | K20: 88.82 | L20: 3.9453844 | M20: 0 | N20: 0.011 | O20: 0.0007
B21: סה"כ אחר | J21: 0 | L21: 0 | N21: 0 | O21: 0
B22: 0 | C22: 0 | F22: 0 | G22: 0 | I22: 0 | J22: 0 | K22: 0 | L22: 0 | M22: 0 | N22: 0 | O22: 0
B23: סה"כ בחו"ל | J23: 0 | L23: 0 | N23: 0 | O23: 0
B24: סה"כ אג"ח ממשלתי | J24: 0 | L24: 0 | N24: 0 | O24: 0
B25: 0 | C25: 0 | F25: 0 | G25: 0 | I25: 0 | J25: 0 | K25: 0 | L25: 0 | M25: 0 | N25: 0 | O25: 0
B26: סה"כ אגח קונצרני | J26: 0 | L26: 0 | N26: 0 | O26: 0
B27: 0 | C27: 0 | F27: 0 | G27: 0 | I27: 0 | J27: 0 | K27: 0 | L27: 0 | M27: 0 | N27: 0 | O27: 0
B28: סה"כ מניות | J28: 0 | L28: 0 | N28: 0 | O28: 0
B29: 0 | C29: 0 | F29: 0 | G29: 0 | I29: 0 | J29: 0 | K29: 0 | L29: 0 | M29: 0 | N29: 0 | O29: 0
B30: סה"כ אחר | J30: 0 | L30: 0 | N30: 0 | O30: 0
B31: 0 | C31: 0 | F31: 0 | G31: 0 | I31: 0 | J31: 0 | K31: 0 | L31: 0 | M31: 0 | N31: 0 | O31: 0
B32: בעל ענין/צד קשור *
B33: בהתאם לשיטה שיושמה בדוח הכספי **
B34: ***שער-יוצג במאית המטבע המקומי, קרי /סנט וכ'ו
B35: ****ערך נקוב-יוצג היחידות במטבע בו בוצעה העסקה במקור

Sheet כתבי אופציה
B1: תאריך הדיווח | C1: 31/03/2023
B2: החברה המדווחת | C2: איי.די.איי חברה לביטוח
B3: שם מסלול/קרן/קופה | C3: מסלול מניות
B4: מספר מסלול/קרן/קופה | C4: 12985
B6: 1.ב. ניירות ערך סחירים
B7: 7. כתבי אופציה
B8: שם המנפיק/שם נייר ערך | C8: מספר ני"ע | D8: זירת מסחר | E8: ענף מסחר | F8: סוג מטבע | G8: ערך נקוב**** | H8: שער*** | I8: שווי שוק | J8: שעור מערך נקוב מונפק | K8: שעור מנכסי אפיק ההשקעה | L8: שעור מסך נכסי השקעה**
G9: יחידות | I9: אלפי ₪ | J9: אחוזים | K9: אחוזים | L9: אחוזים
C10: (1) | D10: (2) | E10: (3) | F10: (3) | G10: (4) | H10: (5) | I10: (6) | J10: (7) | K10: (8) | L10: (9)
B11: סה"כ כתבי אופציה | G11: 0 | I11: 0 | K11: 0 | L11: 0
B12: סה"כ בישראל | G12: 0 | I12: 0 | K12: 0 | L12: 0
B13: סה"כ כתבי אופציות בישראל | G13: 0 | I13: 0 | K13: 0 | L13: 0
B14: 0 | C14: 0 | E14: 0 | F14: 0 | G14: 0 | H14: 0 | I14: 0 | J14: 0 | K14: 0 | L14: 0
B15: סה"כ בחו"ל | G15: 0 | I15: 0 | K15: 0 | L15: 0
B16: סה"כ כתבי אופציה בחו"ל | G16: 0 | I16: 0 | K16: 0 | L16: 0
B17: 0 | C17: 0 | E17: 0 | F17: 0 | G17: 0 | H17: 0 | I17: 0 | J17: 0 | K17: 0 | L17: 0
B18: בעל ענין/צד קשור *
B19: בהתאם לשיטה שיושמה בדוח הכספי **
B20: ***שער-יוצג במאית המטבע המקומי, קרי /סנט וכ'ו
B21: ****ערך נקוב-יוצג היחידות במטבע בו בוצעה העסקה במקור

Sheet אופציות
B1: תאריך הדיווח | C1: 31/03/2023
B2: החברה המדווחת | C2: איי.די.איי חברה לביטוח
B3: שם מסלול/קרן/קופה | C3: מסלול מניות
B4: מספר מסלול/קרן/קופה | C4: 12985
B6: 1.ב. ניירות ערך סחירים
B7: 8. אופציות
B8: שם המנפיק/שם נייר ערך | C8: מספר ני"ע | D8: זירת מסחר | E8: ענף מסחר | F8: סוג מטבע | G8: ערך נקוב**** | H8: שער*** | I8: שווי שוק | J8: שעור מערך נקוב מונפק | K8: שעור מנכסי אפיק ההשקעה | L8: שעור מסך נכסי השקעה**
G9: יחידות | I9: אלפי ₪ | J9: אחוזים | K9: אחוזים | L9: אחוזים
C10: (1) | D10: (2) | E10: (3) | F10: (3) | G10: (4) | H10: (5) | I10: (6) | J10: (7) | K10: (8) | L10: (9)
B11: סה"כ אופציות | G11: 0 | I11: 0 | K11: 0 | L11: 0
B12: סה"כ בישראל | G12: 0 | I12: 0 | K12: 0 | L12: 0
B13: סה"כ מדדים כולל מניות | G13: 0 | I13: 0 | K13: 0 | L13: 0
B14: 0 | C14: 0 | E14: 0 | F14: 0 | G14: 0 | H14: 0 | I14: 0 | J14: 0 | K14: 0 | L14: 0
B15: סה"כ ש"ח/מט"ח | G15: 0 | I15: 0 | K15: 0 | L15: 0
B16: 0 | C16: 0 | E16: 0 | F16: 0 | G16: 0 | H16: 0 | I16: 0 | J16: 0 | K16: 0 | L16: 0
B17: סה"כ ריבית | G17: 0 | I17: 0 | K17: 0 | L17: 0
B18: 0 | C18: 0 | E18: 0 | F18: 0 | G18: 0 | H18: 0 | I18: 0 | J18: 0 | K18: 0 | L18: 0
B19: סה"כ אחר | G19: 0 | I19: 0 | K19: 0 | L19: 0
B20: 0 | C20: 0 | E20: 0 | F20: 0 | G20: 0 | H20: 0 | I20: 0 | J20: 0 | K20: 0 | L20: 0
B21: סה"כ בחו"ל | G21: 0 | I21: 0 | K21: 0 | L21: 0
B22: סה"כ מדדים כולל מניות | G22: 0 | I22: 0 | K22: 0 | L22: 0
B23: 0 | C23: 0 | E23: 0 | F23: 0 | G23: 0 | H23: 0 | I23: 0 | J23: 0 | K23: 0 | L23: 0
B24: סה"כ מטבע | G24: 0 | I24: 0 | K24: 0 | L24: 0
B25: 0 | C25: 0 | E25: 0 | F25: 0 | G25: 0 | H25: 0 | I25: 0 | J25: 0 | K25: 0 | L25: 0
B26: סה"כ ריבית | G26: 0 | I26: 0 | K26: 0 | L26: 0
B27: 0 | C27: 0 | E27: 0 | F27: 0 | G27: 0 | H27: 0 | I27: 0 | J27: 0 | K27: 0 | L27: 0
B28: סה"כ סחורות | G28: 0 | I28: 0 | K28: 0 | L28: 0
B29: 0 | C29: 0 | E29: 0 | F29: 0 | G29: 0 | H29: 0 | I29: 0 | J29: 0 | K29: 0 | L29: 0
B30: סה"כ אחר | G30: 0 | I30: 0 | K30: 0 | L30: 0
B31: 0 | C31: 0 | E31: 0 | F31: 0 | G31: 0 | H31: 0 | I31: 0 | J31: 0 | K31: 0 | L31: 0
B32: בעל ענין/צד קשור *
B33: בהתאם לשיטה שיושמה בדוח הכספי **
B34: ***שער-יוצג במאית המטבע המקומי, קרי /סנט וכ'ו
B35: ****ערך נקוב-יוצג היחידות במטבע בו בוצעה העסקה במקור

Sheet חוזים עתידיים
B1: תאריך הדיווח | C1: 31/03/2023
B2: החברה המדווחת | C2: איי.די.איי חברה לביטוח
B3: שם מסלול/קרן/קופה | C3: מסלול מניות
B4: מספר מסלול/קרן/קופה | C4: 12985
B6: 1.ב. ניירות ערך סחירים | BD6: TASE | BF6: אופנה והלבשה | BH6: שקל חדש
B7: 9. חוזים עתידיים | BD7: AMEX | BF7: ביומד | BH7: דולר אמריקאי
B8: שם המנפיק/שם נייר ערך | C8: מספר ני"ע | D8: זירת מסחר | E8: ענף מסחר | F8: סוג מטבע | G8: ערך נקוב**** | H8: שער*** | I8: שווי שוק | J8: שעור מנכסי אפיק ההשקעה | K8: שעור מסך נכסי השקעה** | BC8: ASX | BD8: אוסטרליה | BE8: בנקים וחברות אחזקה | BG8: אירו
G9: יחידות | I9: אלפי ₪ | J9: אחוזים | K9: אחוזים | BC9: BOVESPA | BE9: השקעות ואחזקות | BG9: לירה שטרלינג
C10: (1) | D10: (2) | E10: (3) | F10: (3) | G10: (4) | H10: (5) | I10: (6) | J10: (7) | K10: (8) | BC10: BSE | BE10: הייטק | BG10: דולר קנדי
B11: סה"כ חוזים עתידיים | G11: 0 | I11: 0 | J11: 0 | K11: 0 | BC11: CAC | BE11: חברות וסוכנויות ביטוח | BG11: דולר אוסטרלי
B12: סה"כ בישראל | G12: 0 | I12: 0 | J12: 0 | K12: 0 | BD12: TSX | BF12: עץ ומוצריו
B13: 0 | C13: 0 | E13: 0 | F13: 0 | G13: 0 | H13: 0 | I13: 0 | J13: 0 | K13: 0 | BD13: אחר | BE13: טורנטו | BF13: קלינטק
B14: סה"כ בחו"ל | G14: 0 | I14: 0 | J14: 0 | K14: 0 | BF14: רשויות וממשל
B15: 0 | C15: 0 | E15: 0 | F15: 0 | G15: 0 | H15: 0 | I15: 0 | J15: 0 | K15: 0 | BF15: שירותים
B16: בעל ענין/צד קשור * | BF16: שירותים פיננסיים
B17: בהתאם לשיטה שיושמה בדוח הכספי ** | BF17: תוכנה ואינטרנט
B18: ***שער-יוצג במאית המטבע המקומי, קרי /סנט וכ'ו | BF18: תיירות ומלונות
B19: ****ערך נקוב-יוצג היחידות במטבע בו בוצעה העסקה במקור | BF19: תעשייה שונות
BF20: תקשורת ומדיה
BF21: אחר

Sheet מוצרים מובנים
B1: תאריך הדיווח | C1: 31/03/2023
B2: החברה המדווחת | C2: איי.די.איי חברה לביטוח
B3: שם מסלול/קרן/קופה | C3: מסלול מניות
B4: מספר מסלול/קרן/קופה | C4: 12985
B6: 1.ב. ניירות ערך סחירים
B7: 10. מוצרים מובנים
B8: שם המנפיק/שם נייר ערך | C8: מספר ני"ע | D8: נכס הבסיס | E8: דירוג | F8: שם מדרג | G8: תאריך רכישה | H8: מח"מ | I8: סוג מטבע | J8: שיעור ריבית | K8: תשואה לפידיון | L8: ערך נקוב**** | M8: שער*** | N8: שווי שוק | O8: שעור מערך נקוב מונפק | P8: שעור מנכסי אפיק ההשקעה | Q8: שעור מסך נכסי השקעה**
G9: תאריך | H9: שנים | J9: אחוזים | K9: אחוזים | L9: יחידות | N9: אלפי ₪ | O9: אחוזים | P9: אחוזים | Q9: אחוזים
C10: (1) | D10: (2) | E10: (3) | F10: (4) | G10: (5) | H10: (6) | I10: (7) | J10: (8) | K10: (9) | L10: (10) | M10: (11) | N10: (12) | O10: (13) | P10: (14) | Q10: (15)
B11: סה"כ מוצרים מובנים | L11: 0 | N11: 0 | P11: 0 | Q11: 0
B12: סה"כ בישראל | H12: 0 | K12: 0 | L12: 0 | N12: 0 | P12: 0 | Q12: 0
B13: סה"כ קרן מובטחת | H13: 0 | K13: 0 | L13: 0 | N13: 0 | P13: 0 | Q13: 0
B14: 0 | C14: 0 | E14: 0 | H14: 0 | I14: 0 | J14: 0 | K14: 0 | L14: 0 | M14: 0 | N14: 0 | O14: 0 | P14: 0 | Q14: 0
B15: סה"כ קרן לא מובטחת | H15: 0 | K15: 0 | L15: 0 | N15: 0 | P15: 0 | Q15: 0
B16: 0 | C16: 0 | E16: 0 | H16: 0 | I16: 0 | J16: 0 | K16: 0 | L16: 0 | M16: 0 | N16: 0 | O16: 0 | P16: 0 | Q16: 0
B17: סה"כ מוצרים מאוגחים | H17: 0 | K17: 0 | L17: 0 | N17: 0 | P17: 0 | Q17: 0
B18: סה"כ שכבת חוב (Tranch) בדרוג AA- ומעלה | H18: 0 | K18: 0 | L18: 0 | N18: 0 | P18: 0 | Q18: 0
B19: 0 | C19: 0 | E19: 0 | H19: 0 | I19: 0 | J19: 0 | K19: 0 | L19: 0 | M19: 0 | N19: 0 | O19: 0 | P19: 0 | Q19: 0
B20: סה"כ שכבת חוב (Tranch) בדרוג BBB- עד A+ | H20: 0 | K20: 0 | L20: 0 | N20: 0 | P20: 0 | Q20: 0
B21: 0 | C21: 0 | E21: 0 | H21: 0 | I21: 0 | J21: 0 | K21: 0 | L21: 0 | M21: 0 | N21: 0 | O21: 0 | P21: 0 | Q21: 0
B22: סה"כ שכבת חוב (Tranch) בדרוג BB+ ומטה | H22: 0 | K22: 0 | L22: 0 | N22: 0 | P22: 0 | Q22: 0
B23: 0 | C23: 0 | E23: 0 | H23: 0 | I23: 0 | J23: 0 | K23: 0 | L23: 0 | M23: 0 | N23: 0 | O23: 0 | P23: 0 | Q23: 0
B24: סה"כ שכבת הון (Equity Tranch) | H24: 0 | K24: 0 | L24: 0 | N24: 0 | P24: 0 | Q24: 0
B25: 0 | C25: 0 | E25: 0 | H25: 0 | I25: 0 | J25: 0 | K25: 0 | L25: 0 | M25: 0 | N25: 0 | O25: 0 | P25: 0 | Q25: 0
B26: סה"כ בחו"ל | H26: 0 | K26: 0 | L26: 0 | N26: 0 | P26: 0 | Q26: 0
B27: סה"כ קרן מובטחת | H27: 0 | K27: 0 | L27: 0 | N27: 0 | P27: 0 | Q27: 0
B28: 0 | C28: 0 | E28: 0 | H28: 0 | I28: 0 | J28: 0 | K28: 0 | L28: 0 | M28: 0 | N28: 0 | O28: 0 | P28: 0 | Q28: 0
B29: סה"כ קרן לא מובטחת | H29: 0 | K29: 0 | L29: 0 | N29: 0 | P29: 0 | Q29: 0
B30: 0 | C30: 0 | E30: 0 | H30: 0 | I30: 0 | J30: 0 | K30: 0 | L30: 0 | M30: 0 | N30: 0 | O30: 0 | P30: 0 | Q30: 0
B31: סה"כ מוצרים מאוגחים | H31: 0 | K31: 0 | L31: 0 | N31: 0 | P31: 0 | Q31: 0
B32: סה"כ שכבת חוב (Tranch) בדרוג AA- ומעלה | H32: 0 | K32: 0 | L32: 0 | N32: 0 | P32: 0 | Q32: 0
B33: 0 | C33: 0 | E33: 0 | H33: 0 | I33: 0 | J33: 0 | K33: 0 | L33: 0 | M33: 0 | N33: 0 | O33: 0 | P33: 0 | Q33: 0
B34: סה"כ שכבת חוב (Tranch) בדרוג BBB- עד A+ | H34: 0 | K34: 0 | L34: 0 | N34: 0 | P34: 0 | Q34: 0
B35: 0 | C35: 0 | E35: 0 | H35: 0 | I35: 0 | J35: 0 | K35: 0 | L35: 0 | M35: 0 | N35: 0 | O35: 0 | P35: 0 | Q35: 0
B36: סה"כ שכבת חוב (Tranch) בדרוג BB+ ומטה | H36: 0 | K36: 0 | L36: 0 | N36: 0 | P36: 0 | Q36: 0
B37: 0 | C37: 0 | E37: 0 | H37: 0 | I37: 0 | J37: 0 | K37: 0 | L37: 0 | M37: 0 | N37: 0 | O37: 0 | P37: 0 | Q37: 0
B38: סה"כ שכבת הון (Equity Tranch) | H38: 0 | K38: 0 | L38: 0 | N38: 0 | P38: 0 | Q38: 0
B39: 0 | C39: 0 | E39: 0 | H39: 0 | I39: 0 | J39: 0 | K39: 0 | L39: 0 | M39: 0 | N39: 0 | O39: 0 | P39: 0 | Q39: 0
B40: בעל ענין/צד קשור *
B41: בהתאם לשיטה שיושמה בדוח הכספי **
...

Sheet לא סחיר- תעודות התחייבות ממשלתי
B1: תאריך הדיווח | C1: 31/03/2023
B2: החברה המדווחת | C2: איי.די.איי חברה לביטוח
B3: שם מסלול/קרן/קופה | C3: מסלול מניות
B4: מספר מסלול/קרן/קופה | C4: 12985
B6: 1.ג. ניירות ערך לא סחירים
B7: 1. תעודות התחייבות ממשלתיות
B8: שם המנפיק/שם נייר ערך | C8: מספר ני"ע | D8: דירוג | E8: שם מדרג | F8: תאריך רכישה | G8: מח"מ | H8: סוג מטבע | I8: שיעור ריבית | J8: תשואה לפידיון | K8: ערך נקוב**** | L8: שער*** | M8: שווי הוגן | N8: שעור מערך נקוב מונפק | O8: שעור מנכסי אפיק ההשקעה | P8: שעור מסך נכסי השקעה**
F9: תאריך | G9: שנים | I9: אחוזים | J9: אחוזים | K9: יחידות | M9: אלפי ₪ | N9: אחוזים | O9: אחוזים | P9: אחוזים
C10: (1) | D10: (2) | E10: (3) | F10: (4) | G10: (5) | H10: (6) | I10: (7) | J10: (8) | K10: (9) | L10: (10) | M10: (11) | N10: (12) | O10: (13) | P10: (14)
B11: סה"כ תעודות התחייבות ממשלתיות | K11: 0 | M11: 0 | O11: 0 | P11: 0
B12: סה"כ בישראל | G12: 0 | J12: 0 | K12: 0 | M12: 0 | O12: 0 | P12: 0
B13: סה"כ חץ | G13: 0 | J13: 0 | K13: 0 | M13: 0 | O13: 0 | P13: 0
B14: 0 | C14: 0 | D14: 0 | G14: 0 | H14: 0 | I14: 0 | J14: 0 | K14: 0 | L14: 0 | M14: 0 | N14: 0 | O14: 0 | P14: 0
B15: סה"כ ערד | G15: 0 | J15: 0 | K15: 0 | M15: 0 | O15: 0 | P15: 0
B16: 0 | C16: 0 | D16: 0 | G16: 0 | H16: 0 | I16: 0 | J16: 0 | K16: 0 | L16: 0 | M16: 0 | N16: 0 | O16: 0 | P16: 0
B17: סה"כ מירון | G17: 0 | J17: 0 | K17: 0 | M17: 0 | O17: 0 | P17: 0
B18: 0 | C18: 0 | D18: 0 | G18: 0 | H18: 0 | I18: 0 | J18: 0 | K18: 0 | L18: 0 | M18: 0 | N18: 0 | O18: 0 | P18: 0
B19: סה"כ פיקדונות חשכ"ל | G19: 0 | J19: 0 | K19: 0 | M19: 0 | O19: 0 | P19: 0
B20: 0 | C20: 0 | D20: 0 | G20: 0 | H20: 0 | I20: 0 | J20: 0 | K20: 0 | L20: 0 | M20: 0 | N20: 0 | O20: 0 | P20: 0
B21: סה"כ אחר | G21: 0 | J21: 0 | K21: 0 | M21: 0 | O21: 0 | P21: 0
B22: 0 | C22: 0 | D22: 0 | G22: 0 | H22: 0 | I22: 0 | J22: 0 | K22: 0 | L22: 0 | M22: 0 | N22: 0 | O22: 0 | P22: 0
B23: סה"כ בחו"ל | G23: 0 | J23: 0 | K23: 0 | M23: 0 | O23: 0 | P23: 0
B24: סה"כ אג"ח של ממשלת ישראל שהונפקו בחו"ל | G24: 0 | J24: 0 | K24: 0 | M24: 0 | O24: 0 | P24: 0
B25: 0 | C25: 0 | D25: 0 | G25: 0 | H25: 0 | I25: 0 | J25: 0 | K25: 0 | L25: 0 | M25: 0 | N25: 0 | O25: 0 | P25: 0
B26: סה"כ אג"ח לא סחיר שהנפיקו ממשלות זרות בחו"ל | G26: 0 | J26: 0 | K26: 0 | M26: 0 | O26: 0 | P26: 0
B27: 0 | C27: 0 | D27: 0 | G27: 0 | H27: 0 | I27: 0 | J27: 0 | K27: 0 | L27: 0 | M27: 0 | N27: 0 | O27: 0 | P27: 0
B28: בהתאם לשיטה שיושמה בדוח הכספי **
B29: ***שער-יוצג במאית המטבע המקומי, קרי /סנט וכ'ו
B30: ****ערך נקוב-יוצג היחידות במטבע בו בוצעה העסקה במקור

Sheet לא סחיר - תעודות חוב מסחריות
B1: תאריך הדיווח | C1: 31/03/2023
B2: החברה המדווחת | C2: איי.די.איי חברה לביטוח
B3: שם מסלול/קרן/קופה | C3: מסלול מניות
B4: מספר מסלול/קרן/קופה | C4: 12985
B6: 1.ג. ניירות ערך לא סחירים
B7: 2. תעודות חוב מסחריות
B8: שם המנפיק/שם נייר ערך | C8: מספר ני"ע | D8: ספק המידע | E8: מספר מנפיק | F8: ענף מסחר | G8: דירוג | H8: שם מדרג | I8: תאריך רכישה | J8: מח"מ | K8: סוג מטבע | L8: שיעור ריבית | M8: תשואה לפידיון | N8: ערך נקוב**** | O8: שער*** | P8: שווי הוגן | Q8: שעור מערך נקוב מונפק | R8: שעור מנכסי אפיק ההשקעה | S8: שעור מסך נכסי השקעה**
I9: תאריך | J9: שנים | L9: אחוזים | M9: אחוזים | N9: יחידות | P9: אלפי ₪ | Q9: אחוזים | R9: אחוזים | S9: אחוזים
C10: (1) | D10: (2) | E10: (3) | F10: (4) | G10: (5) | H10: (6) | I10: (7) | J10: (8) | K10: (9) | L10: (10) | M10: (11) | N10: (12) | O10: (13) | P10: (14) | Q10: (15) | R10: (16) | S10: (17)
B11: סה"כ תעודות חוב מסחריות | N11: 0 | P11: 0 | R11: 0 | S11: 0
B12: סה"כ בישראל | J12: 0 | M12: 0 | N12: 0 | P12: 0 | R12: 0 | S12: 0
B13: סה"כ צמוד מדד | J13: 0 | M13: 0 | N13: 0 | P13: 0 | R13: 0 | S13: 0
B14: 0 | C14: 0 | F14: 0 | G14: 0 | J14: 0 | K14: 0 | L14: 0 | M14: 0 | N14: 0 | O14: 0 | P14: 0 | Q14: 0 | R14: 0 | S14: 0
B15: סה"כ לא צמוד | J15: 0 | M15: 0 | N15: 0 | P15: 0 | R15: 0 | S15: 0
B16: 0 | C16: 0 | F16: 0 | G16: 0 | J16: 0 | K16: 0 | L16: 0 | M16: 0 | N16: 0 | O16: 0 | P16: 0 | Q16: 0 | R16: 0 | S16: 0
B17: סה"כ צמודות למט"ח | J17: 0 | M17: 0 | N17: 0 | P17: 0 | R17: 0 | S17: 0
B18: 0 | C18: 0 | F18: 0 | G18: 0 | J18: 0 | K18: 0 | L18: 0 | M18: 0 | N18: 0 | O18: 0 | P18: 0 | Q18: 0 | R18: 0 | S18: 0
B19: סה"כ אחר | J19: 0 | M19: 0 | N19: 0 | P19: 0 | R19: 0 | S19: 0
B20: 0 | C20: 0 | F20: 0 | G20: 0 | J20: 0 | K20: 0 | L20: 0 | M20: 0 | N20: 0 | O20: 0 | P20: 0 | Q20: 0 | R20: 0 | S20: 0
B21: סה"כ בחו"ל | J21: 0 | M21: 0 | N21: 0 | P21: 0 | R21: 0 | S21: 0
B22: סה"כ תעודות חוב מסחריות של חברות ישראליות | J22: 0 | M22: 0 | N22: 0 | P22: 0 | R22: 0 | S22: 0
B23: 0 | C23: 0 | F23: 0 | G23: 0 | J23: 0 | K23: 0 | L23: 0 | M23: 0 | N23: 0 | O23: 0 | P23: 0 | Q23: 0 | R23: 0 | S23: 0
B24: סה"כ תעודות חוב מסחריות של חברות זרות | J24: 0 | M24: 0 | N24: 0 | P24: 0 | R24: 0 | S24: 0
B25: 0 | C25: 0 | F25: 0 | G25: 0 | J25: 0 | K25: 0 | L25: 0 | M25: 0 | N25: 0 | O25: 0 | P25: 0 | Q25: 0 | R25: 0 | S25: 0
B26: בעל ענין/צד קשור *
B27: בהתאם לשיטה שיושמה בדוח הכספי **
B28: ***שער-יוצג במאית המטבע המקומי, קרי /סנט וכ'ו
B29: ****ערך נקוב-יוצג היחידות במטבע בו בוצעה העסקה במקור

Sheet לא סחיר - אג"ח קונצרני
B1: תאריך הדיווח | C1: 31/03/2023
B2: החברה המדווחת | C2: איי.די.איי חברה לביטוח
B3: שם מסלול/קרן/קופה | C3: מסלול מניות
B4: מספר מסלול/קרן/קופה | C4: 12985
B6: 1.ג. ניירות ערך לא סחירים
B7: 3. אג"ח קונצרני
B8: שם המנפיק/שם נייר ערך | C8: מספר ני"ע | D8: ספק המידע | E8: מספר מנפיק | F8: ענף מסחר | G8: דירוג | H8: שם מדרג | I8: תאריך רכישה | J8: מח"מ | K8: סוג מטבע | L8: שיעור ריבית | M8: תשואה לפידיון | N8: ערך נקוב**** | O8: שער*** | P8: שווי הוגן | Q8: שעור מערך נקוב מונפק | R8: שעור מנכסי אפיק ההשקעה | S8: שעור מסך נכסי השקעה**
I9: תאריך | J9: שנים | L9: אחוזים | M9: אחוזים | N9: יחידות | P9: אלפי ₪ | Q9: אחוזים | R9: אחוזים | S9: אחוזים
C10: (1) | D10: (2) | E10: (3) | F10: (4) | G10: (5) | H10: (6) | I10: (7) | J10: (8) | K10: (9) | L10: (10) | M10: (11) | N10: (12) | O10: (13) | P10: (14) | Q10: (15) | R10: (16) | S10: (17)
B11: סה"כ אג"ח קונצרני | N11: 0 | P11: 0 | R11: 0 | S11: 0
B12: סה"כ בישראל | J12: 0 | M12: 0 | N12: 0 | P12: 0 | R12: 0 | S12: 0
B13: סה"כ צמוד מדד | J13: 0 | M13: 0 | N13: 0 | P13: 0 | R13: 0 | S13: 0
B14: 0 | C14: 0 | F14: 0 | G14: 0 | J14: 0 | K14: 0 | L14: 0 | M14: 0 | N14: 0 | O14: 0 | P14: 0 | Q14: 0 | R14: 0 | S14: 0
B15: סה"כ לא צמוד | J15: 0 | M15: 0 | N15: 0 | P15: 0 | R15: 0 | S15: 0
B16: 0 | C16: 0 | F16: 0 | G16: 0 | J16: 0 | K16: 0 | L16: 0 | M16: 0 | N16: 0 | O16: 0 | P16: 0 | Q16: 0 | R16: 0 | S16: 0
B17: סה"כ צמודות למט"ח | J17: 0 | M17: 0 | N17: 0 | P17: 0 | R17: 0 | S17: 0
B18: 0 | C18: 0 | F18: 0 | G18: 0 | J18: 0 | K18: 0 | L18: 0 | M18: 0 | N18: 0 | O18: 0 | P18: 0 | Q18: 0 | R18: 0 | S18: 0
B19: סה"כ אחר | J19: 0 | M19: 0 | N19: 0 | P19: 0 | R19: 0 | S19: 0
B20: 0 | C20: 0 | F20: 0 | G20: 0 | J20: 0 | K20: 0 | L20: 0 | M20: 0 | N20: 0 | O20: 0 | P20: 0 | Q20: 0 | R20: 0 | S20: 0
B21: סה"כ בחו"ל | J21: 0 | M21: 0 | N21: 0 | P21: 0 | R21: 0 | S21: 0
B22: סה"כ חברות ישראליות בחו"ל | J22: 0 | M22: 0 | N22: 0 | P22: 0 | R22: 0 | S22: 0
B23: 0 | C23: 0 | F23: 0 | G23: 0 | J23: 0 | K23: 0 | L23: 0 | M23: 0 | N23: 0 | O23: 0 | P23: 0 | Q23: 0 | R23: 0 | S23: 0
B24: סה"כ חברות זרות בחו"ל | J24: 0 | M24: 0 | N24: 0 | P24: 0 | R24: 0 | S24: 0
B25: 0 | C25: 0 | F25: 0 | G25: 0 | J25: 0 | K25: 0 | L25: 0 | M25: 0 | N25: 0 | O25: 0 | P25: 0 | Q25: 0 | R25: 0 | S25: 0
B26: בעל ענין/צד קשור *
B27: בהתאם לשיטה שיושמה בדוח הכספי **
B28: ***שער-יוצג במאית המטבע המקומי, קרי /סנט וכ'ו
B29: ****ערך נקוב-יוצג היחידות במטבע בו בוצעה העסקה במקור

Sheet לא סחיר - מניות
B1: תאריך הדיווח | C1: 31/03/2023
B2: החברה המדווחת | C2: איי.די.איי חברה לביטוח
B3: שם מסלול/קרן/קופה | C3: מסלול מניות
B4: מספר מסלול/קרן/קופה | C4: 12985
B6: 1.ג. ניירות ערך לא סחירים
B7: 4. מניות
B8: שם המנפיק/שם נייר ערך | C8: מספר ני"ע | D8: ספק המידע | E8: מספר מנפיק | F8: ענף מסחר | G8: סוג מטבע | H8: ערך נקוב**** | I8: שער*** | J8: שווי הוגן | K8: שעור מערך נקוב מונפק | L8: שעור מנכסי אפיק ההשקעה | M8: שעור מסך נכסי השקעה**
H9: יחידות | J9: אלפי ₪ | K9: אחוזים | L9: אחוזים | M9: אחוזים
C10: (1) | D10: (2) | E10: (3) | F10: (4) | G10: (5) | H10: (6) | I10: (7) | J10: (8) | K10: (9) | L10: (10) | M10: (11)
B11: סה"כ מניות | H11: 0 | J11: 0 | L11: 0 | M11: 0
B12: סה"כ בישראל | H12: 0 | J12: 0 | L12: 0 | M12: 0
B13: 0 | C13: 0 | F13: 0 | G13: 0 | H13: 0 | I13: 0 | J13: 0 | K13: 0 | L13: 0 | M13: 0
B14: סה"כ בחו"ל | H14: 0 | J14: 0 | L14: 0 | M14: 0
B15: סה"כ חברות ישראליות בחו"ל | H15: 0 | J15: 0 | L15: 0 | M15: 0
B16: 0 | C16: 0 | F16: 0 | G16: 0 | H16: 0 | I16: 0 | J16: 0 | K16: 0 | L16: 0 | M16: 0
B17: סה"כ חברות זרות בחו"ל | H17: 0 | J17: 0 | L17: 0 | M17: 0
B18: 0 | C18: 0 | F18: 0 | G18: 0 | H18: 0 | I18: 0 | J18: 0 | K18: 0 | L18: 0 | M18: 0
B19: בעל ענין/צד קשור *
B20: בהתאם לשיטה שיושמה בדוח הכספי **
B21: ***שער-יוצג במאית המטבע המקומי, קרי /סנט וכ'ו
B22: ****ערך נקוב-יוצג היחידות במטבע בו בוצעה העסקה במקור

Sheet לא סחיר - קרנות השקעה
B1: תאריך הדיווח | C1: 31/03/2023
B2: החברה המדווחת | C2: איי.די.איי חברה לביטוח
B3: שם מסלול/קרן/קופה | C3: מסלול מניות
B4: מספר מסלול/קרן/קופה | C4: 12985
B6: 1.ג. ניירות ערך לא סחירים
B7: 5. קרנות השקעה
B8: שם המנפיק/שם נייר ערך | C8: מספר ני"ע | D8: סוג מטבע | E8: תאריך רכישה | F8: ערך נקוב**** | G8: שער*** | H8: שווי הוגן | I8: שעור מערך נקוב מונפק | J8: שעור מנכסי אפיק ההשקעה | K8: שעור מסך נכסי השקעה**
E9: תאריך | F9: יחידות | H9: אלפי ₪ | I9: אחוזים | J9: אחוזים | K9: אחוזים
C10: (1) | D10: (3) | E10: (4) | F10: (5) | G10: (6) | H10: (7) | I10: (8) | J10: (9) | K10: (10)
B11: סה"כ קרנות השקעה | F11: 0 | H11: 0 | J11: 0 | K11: 0
B12: סה"כ בישראל | F12: 0 | H12: 0 | J12: 0 | K12: 0
B13: סה"כ קרנות הון סיכון | F13: 0 | H13: 0 | J13: 0 | K13: 0
B14: 0 | C14: 0 | D14: 0 | F14: 0 | G14: 0 | H14: 0 | I14: 0 | J14: 0 | K14: 0
B15: סה"כ קרנות גידור | F15: 0 | H15: 0 | J15: 0 | K15: 0
B16: 0 | C16: 0 | D16: 0 | F16: 0 | G16: 0 | H16: 0 | I16: 0 | J16: 0 | K16: 0
B17: סה"כ קרנות נדל"ן | F17: 0 | H17: 0 | J17: 0 | K17: 0
B18: 0 | C18: 0 | D18: 0 | F18: 0 | G18: 0 | H18: 0 | I18: 0 | J18: 0 | K18: 0
B19: סה"כ קרנות השקעה אחרות | F19: 0 | H19: 0 | J19: 0 | K19: 0
B20: 0 | C20: 0 | D20: 0 | F20: 0 | G20: 0 | H20: 0 | I20: 0 | J20: 0 | K20: 0
B21: סה"כ בחו"ל | F21: 0 | H21: 0 | J21: 0 | K21: 0
B22: סה"כ קרנות הון סיכון בחו"ל | F22: 0 | H22: 0 | J22: 0 | K22: 0
B23: 0 | C23: 0 | D23: 0 | F23: 0 | G23: 0 | H23: 0 | I23: 0 | J23: 0 | K23: 0
B24: סה"כ קרנות גידור בחו"ל | F24: 0 | H24: 0 | J24: 0 | K24: 0
B25: 0 | C25: 0 | D25: 0 | F25: 0 | G25: 0 | H25: 0 | I25: 0 | J25: 0 | K25: 0
B26: סה"כ קרנות נדל"ן בחו"ל | F26: 0 | H26: 0 | J26: 0 | K26: 0
B27: 0 | C27: 0 | D27: 0 | F27: 0 | G27: 0 | H27: 0 | I27: 0 | J27: 0 | K27: 0
B28: סה"כ קרנות השקעה אחרות בחו"ל | F28: 0 | H28: 0 | J28: 0 | K28: 0
B29: 0 | C29: 0 | D29: 0 | F29: 0 | G29: 0 | H29: 0 | I29: 0 | J29: 0 | K29: 0
B30: בעל ענין/צד קשור *
B31: בהתאם לשיטה שיושמה בדוח הכספי **
B32: ***שער-יוצג במאית המטבע המקומי, קרי /סנט וכ'ו
B33: ****ערך נקוב-יוצג היחידות במטבע בו בוצעה העסקה במקור

Sheet לא סחיר - כתבי אופציה
B1: תאריך הדיווח | C1: 31/03/2023
B2: החברה המדווחת | C2: איי.די.איי חברה לביטוח
B3: שם מסלול/קרן/קופה | C3: מסלול מניות
B4: מספר מסלול/קרן/קופה | C4: 12985
B6: 1.ג. ניירות ערך לא סחירים
B7: 6. כתבי אופציה
B8: שם המנפיק/שם נייר ערך | C8: מספר ני"ע | D8: ענף מסחר | E8: סוג מטבע | F8: תאריך רכישה | G8: ערך נקוב**** | H8: שער*** | I8: שווי הוגן | J8: שעור מערך נקוב מונפק | K8: שעור מנכסי אפיק ההשקעה | L8: שעור מסך נכסי השקעה**
F9: תאריך | G9: יחידות | I9: אלפי ₪ | J9: אחוזים | K9: אחוזים | L9: אחוזים
C10: (1) | D10: (2) | E10: (3) | F10: (4) | G10: (5) | H10: (6) | I10: (7) | J10: (8) | K10: (9) | L10: (10)
B11: סה"כ כתבי אופציה | G11: 0 | I11: 0 | K11: 0 | L11: 0
B12: סה"כ כתבי אופציה בישראל | G12: 0 | I12: 0 | K12: 0 | L12: 0
B13: 0 | C13: 0 | D13: 0 | E13: 0 | G13: 0 | H13: 0 | I13: 0 | J13: 0 | K13: 0 | L13: 0
B14: סה"כ כתבי אופציה בחו"ל | G14: 0 | I14: 0 | K14: 0 | L14: 0
B15: 0 | C15: 0 | D15: 0 | E15: 0 | G15: 0 | H15: 0 | I15: 0 | J15: 0 | K15: 0 | L15: 0
B16: בעל ענין/צד קשור *
B17: בהתאם לשיטה שיושמה בדוח הכספי **
B18: ***שער-יוצג במאית המטבע המקומי, קרי /סנט וכ'ו
B19: ****ערך נקוב-יוצג היחידות במטבע בו בוצעה העסקה במקור

Sheet לא סחיר - אופציות
B1: תאריך הדיווח | C1: 31/03/2023
B2: החברה המדווחת | C2: איי.די.איי חברה לביטוח
B3: שם מסלול/קרן/קופה | C3: מסלול מניות
B4: מספר מסלול/קרן/קופה | C4: 12985
B6: 1.ג. ניירות ערך לא סחירים
B7: 7. אופציות
B8: שם המנפיק/שם נייר ערך | C8: מספר ני"ע | D8: ענף מסחר | E8: סוג מטבע | F8: תאריך רכישה | G8: ערך נקוב**** | H8: שער*** | I8: שווי הוגן | J8: שעור מערך נקוב מונפק | K8: שעור מנכסי אפיק ההשקעה | L8: שעור מסך נכסי השקעה**
F9: תאריך | G9: יחידות | I9: אלפי ₪ | J9: אחוזים | K9: אחוזים | L9: אחוזים
C10: (1) | D10: (2) | E10: (3) | F10: (4) | G10: (5) | H10: (6) | I10: (7) | J10: (8) | K10: (9) | L10: (10)
B11: סה"כ אופציות | G11: 0 | I11: 0 | K11: 0 | L11: 0
B12: סה"כ בישראל | G12: 0 | I12: 0 | K12: 0 | L12: 0
B13: סה"כ מדדים כולל מניות | G13: 0 | I13: 0 | K13: 0 | L13: 0
B14: 0 | C14: 0 | D14: 0 | E14: 0 | G14: 0 | H14: 0 | I14: 0 | J14: 0 | K14: 0 | L14: 0
B15: סה"כ ש"ח/מט"ח | G15: 0 | I15: 0 | K15: 0 | L15: 0
B16: 0 | C16: 0 | D16: 0 | E16: 0 | G16: 0 | H16: 0 | I16: 0 | J16: 0 | K16: 0 | L16: 0
B17: סה"כ מט"ח/מט"ח | G17: 0 | I17: 0 | K17: 0 | L17: 0
B18: 0 | C18: 0 | D18: 0 | E18: 0 | G18: 0 | H18: 0 | I18: 0 | J18: 0 | K18: 0 | L18: 0
B19: סה"כ ריבית | G19: 0 | I19: 0 | K19: 0 | L19: 0
B20: 0 | C20: 0 | D20: 0 | E20: 0 | G20: 0 | H20: 0 | I20: 0 | J20: 0 | K20: 0 | L20: 0
B21: סה"כ אחר | G21: 0 | I21: 0 | K21: 0 | L21: 0
B22: 0 | C22: 0 | D22: 0 | E22: 0 | G22: 0 | H22: 0 | I22: 0 | J22: 0 | K22: 0 | L22: 0
B23: סה"כ בחו"ל | G23: 0 | I23: 0 | K23: 0 | L23: 0
B24: סה"כ מדדים כולל מניות | G24: 0 | I24: 0 | K24: 0 | L24: 0
B25: 0 | C25: 0 | D25: 0 | E25: 0 | G25: 0 | H25: 0 | I25: 0 | J25: 0 | K25: 0 | L25: 0
B26: סה"כ מטבע | G26: 0 | I26: 0 | K26: 0 | L26: 0
B27: 0 | C27: 0 | D27: 0 | E27: 0 | G27: 0 | H27: 0 | I27: 0 | J27: 0 | K27: 0 | L27: 0
B28: סה"כ ריבית | G28: 0 | I28: 0 | K28: 0 | L28: 0
B29: 0 | C29: 0 | D29: 0 | E29: 0 | G29: 0 | H29: 0 | I29: 0 | J29: 0 | K29: 0 | L29: 0
B30: סה"כ סחורות | G30: 0 | I30: 0 | K30: 0 | L30: 0
B31: 0 | C31: 0 | D31: 0 | E31: 0 | G31: 0 | H31: 0 | I31: 0 | J31: 0 | K31: 0 | L31: 0
B32: סה"כ אחר | G32: 0 | I32: 0 | K32: 0 | L32: 0
B33: 0 | C33: 0 | D33: 0 | E33: 0 | G33: 0 | H33: 0 | I33: 0 | J33: 0 | K33: 0 | L33: 0
B34: בעל ענין/צד קשור *
B35: בהתאם לשיטה שיושמה בדוח הכספי **
B36: ***שער-יוצג במאית המטבע המקומי, קרי /סנט וכ'ו
B37: ****ערך נקוב-יוצג היחידות במטבע בו בוצעה העסקה במקור

Sheet לא סחיר - חוזים עתידיים
B1: תאריך הדיווח | C1: 31/03/2023
B2: החברה המדווחת | C2: איי.די.איי חברה לביטוח
B3: שם מסלול/קרן/קופה | C3: מסלול מניות
B4: מספר מסלול/קרן/קופה | C4: 12985
B6: 1.ג. ניירות ערך לא סחירים
B7: 8. חוזים עתידיים
B8: שם המנפיק/שם נייר ערך | C8: מספר ני"ע | D8: ענף מסחר | E8: סוג מטבע | F8: תאריך רכישה | G8: ערך נקוב**** | H8: שער*** | I8: שווי הוגן | J8: שעור מנכסי אפיק ההשקעה | K8: שעור מסך נכסי השקעה**
F9: תאריך | G9: יחידות | I9: אלפי ₪ | J9: אחוזים | K9: אחוזים
C10: (1) | D10: (2) | E10: (3) | F10: (4) | G10: (5) | H10: (6) | I10: (7) | J10: (8) | K10: (9)
B11: סה"כ חוזים עתידיים | G11: 0 | I11: 0 | J11: 0 | K11: 0
B12: סה"כ בישראל | G12: 0 | I12: 0 | J12: 0 | K12: 0
B13: סה"כ מדדים כולל מניות | G13: 0 | I13: 0 | J13: 0 | K13: 0
B14: 0 | C14: 0 | D14: 0 | E14: 0 | G14: 0 | H14: 0 | I14: 0 | J14: 0 | K14: 0
B15: סה"כ ש"ח/מט"ח | G15: 0 | I15: 0 | J15: 0 | K15: 0
B16: 0 | C16: 0 | D16: 0 | E16: 0 | G16: 0 | H16: 0 | I16: 0 | J16: 0 | K16: 0
B17: סה"כ מט"ח/מט"ח | G17: 0 | I17: 0 | J17: 0 | K17: 0
B18: 0 | C18: 0 | D18: 0 | E18: 0 | G18: 0 | H18: 0 | I18: 0 | J18: 0 | K18: 0
B19: סה"כ ריבית | G19: 0 | I19: 0 | J19: 0 | K19: 0
B20: 0 | C20: 0 | D20: 0 | E20: 0 | G20: 0 | H20: 0 | I20: 0 | J20: 0 | K20: 0
B21: סה"כ אחר | G21: 0 | I21: 0 | J21: 0 | K21: 0
B22: 0 | C22: 0 | D22: 0 | E22: 0 | G22: 0 | H22: 0 | I22: 0 | J22: 0 | K22: 0
B23: סה"כ בחו"ל | G23: 0 | I23: 0 | J23: 0 | K23: 0
B24: סה"כ מדדים כולל מניות | G24: 0 | I24: 0 | J24: 0 | K24: 0
B25: 0 | C25: 0 | D25: 0 | E25: 0 | G25: 0 | H25: 0 | I25: 0 | J25: 0 | K25: 0
B26: סה"כ מטבע | G26: 0 | I26: 0 | J26: 0 | K26: 0
B27: 0 | C27: 0 | D27: 0 | E27: 0 | G27: 0 | H27: 0 | I27: 0 | J27: 0 | K27: 0
B28: סה"כ ריבית | G28: 0 | I28: 0 | J28: 0 | K28: 0
B29: 0 | C29: 0 | D29: 0 | E29: 0 | G29: 0 | H29: 0 | I29: 0 | J29: 0 | K29: 0
B30: סה"כ אחר | G30: 0 | I30: 0 | J30: 0 | K30: 0
B31: 0 | C31: 0 | D31: 0 | E31: 0 | G31: 0 | H31: 0 | I31: 0 | J31: 0 | K31: 0
B32: בעל ענין/צד קשור *
B33: בהתאם לשיטה שיושמה בדוח הכספי **
B34: ***שער-יוצג במאית המטבע המקומי, קרי /סנט וכ'ו
B35: ****ערך נקוב-יוצג היחידות במטבע בו בוצעה העסקה במקור

Sheet לא סחיר - מוצרים מובנים
B1: תאריך הדיווח | C1: 31/03/2023
B2: החברה המדווחת | C2: איי.די.איי חברה לביטוח
B3: שם מסלול/קרן/קופה | C3: מסלול מניות
B4: מספר מסלול/קרן/קופה | C4: 12985
B6: 1.ג. ניירות ערך לא סחירים
B7: 9. מוצרים מובנים
B8: שם המנפיק/שם נייר ערך | C8: מספר ני"ע | D8: נכס הבסיס | E8: דירוג | F8: שם מדרג | G8: תאריך רכישה | H8: מח"מ | I8: סוג מטבע | J8: שיעור ריבית | K8: תשואה לפידיון | L8: ערך נקוב**** | M8: שער*** | N8: שווי הוגן | O8: שעור מערך נקוב מונפק | P8: שעור מנכסי אפיק ההשקעה | Q8: שעור מסך נכסי השקעה**
G9: תאריך | H9: שנים | J9: אחוזים | K9: אחוזים | L9: יחידות | N9: אלפי ₪ | O9: אחוזים | P9: אחוזים | Q9: אחוזים
C10: (1) | D10: (2) | E10: (3) | F10: (4) | G10: (5) | H10: (6) | I10: (7) | J10: (8) | K10: (9) | L10: (10) | M10: (11) | N10: (12) | O10: (13) | P10: (14) | Q10: (15)
B11: סה"כ מוצרים מובנים | L11: 0 | N11: 0 | P11: 0 | Q11: 0
B12: סה"כ בישראל | H12: 0 | K12: 0 | L12: 0 | N12: 0 | P12: 0 | Q12: 0
B13: סה"כ קרן מובטחת | H13: 0 | K13: 0 | L13: 0 | N13: 0 | P13: 0 | Q13: 0
B14: 0 | C14: 0 | E14: 0 | H14: 0 | I14: 0 | J14: 0 | K14: 0 | L14: 0 | M14: 0 | N14: 0 | O14: 0 | P14: 0 | Q14: 0
B15: סה"כ קרן לא מובטחת | H15: 0 | K15: 0 | L15: 0 | N15: 0 | P15: 0 | Q15: 0
B16: 0 | C16: 0 | E16: 0 | H16: 0 | I16: 0 | J16: 0 | K16: 0 | L16: 0 | M16: 0 | N16: 0 | O16: 0 | P16: 0 | Q16: 0
B17: סה"כ מוצרים מאוגחים | H17: 0 | K17: 0 | L17: 0 | N17: 0 | P17: 0 | Q17: 0
B18: סה"כ שכבת חוב (Tranch) בדרוג AA- ומעלה | H18: 0 | K18: 0 | L18: 0 | N18: 0 | P18: 0 | Q18: 0
B19: 0 | C19: 0 | E19: 0 | H19: 0 | I19: 0 | J19: 0 | K19: 0 | L19: 0 | M19: 0 | N19: 0 | O19: 0 | P19: 0 | Q19: 0
B20: סה"כ שכבת חוב (Tranch) בדרוג BBB- עד A+ | H20: 0 | K20: 0 | L20: 0 | N20: 0 | P20: 0 | Q20: 0
B21: 0 | C21: 0 | E21: 0 | H21: 0 | I21: 0 | J21: 0 | K21: 0 | L21: 0 | M21: 0 | N21: 0 | O21: 0 | P21: 0 | Q21: 0
B22: סה"כ שכבת חוב (Tranch) בדרוג BB+ ומטה | H22: 0 | K22: 0 | L22: 0 | N22: 0 | P22: 0 | Q22: 0
B23: 0 | C23: 0 | E23: 0 | H23: 0 | I23: 0 | J23: 0 | K23: 0 | L23: 0 | M23: 0 | N23: 0 | O23: 0 | P23: 0 | Q23: 0
B24: סה"כ שכבת הון (Equity Tranch) | H24: 0 | K24: 0 | L24: 0 | N24: 0 | P24: 0 | Q24: 0
B25: 0 | C25: 0 | E25: 0 | H25: 0 | I25: 0 | J25: 0 | K25: 0 | L25: 0 | M25: 0 | N25: 0 | O25: 0 | P25: 0 | Q25: 0
B26: סה"כ בחו"ל | H26: 0 | K26: 0 | L26: 0 | N26: 0 | P26: 0 | Q26: 0
B27: סה"כ קרן מובטחת | H27: 0 | K27: 0 | L27: 0 | N27: 0 | P27: 0 | Q27: 0
B28: 0 | C28: 0 | E28: 0 | H28: 0 | I28: 0 | J28: 0 | K28: 0 | L28: 0 | M28: 0 | N28: 0 | O28: 0 | P28: 0 | Q28: 0
B29: סה"כ קרן לא מובטחת | H29: 0 | K29: 0 | L29: 0 | N29: 0 | P29: 0 | Q29: 0
B30: 0 | C30: 0 | E30: 0 | H30: 0 | I30: 0 | J30: 0 | K30: 0 | L30: 0 | M30: 0 | N30: 0 | O30: 0 | P30: 0 | Q30: 0
B31: סה"כ מוצרים מאוגחים | H31: 0 | K31: 0 | L31: 0 | N31: 0 | P31: 0 | Q31: 0
B32: סה"כ שכבת חוב (Tranch) בדרוג AA- ומעלה | H32: 0 | K32: 0 | L32: 0 | N32: 0 | P32: 0 | Q32: 0
B33: 0 | C33: 0 | E33: 0 | H33: 0 | I33: 0 | J33: 0 | K33: 0 | L33: 0 | M33: 0 | N33: 0 | O33: 0 | P33: 0 | Q33: 0
B34: סה"כ שכבת חוב (Tranch) בדרוג BBB- עד A+ | H34: 0 | K34: 0 | L34: 0 | N34: 0 | P34: 0 | Q34: 0
B35: 0 | C35: 0 | E35: 0 | H35: 0 | I35: 0 | J35: 0 | K35: 0 | L35: 0 | M35: 0 | N35: 0 | O35: 0 | P35: 0 | Q35: 0
B36: סה"כ שכבת חוב (Tranch) בדרוג BB+ ומטה | H36: 0 | K36: 0 | L36: 0 | N36: 0 | P36: 0 | Q36: 0
B37: 0 | C37: 0 | E37: 0 | H37: 0 | I37: 0 | J37: 0 | K37: 0 | L37: 0 | M37: 0 | N37: 0 | O37: 0 | P37: 0 | Q37: 0
B38: סה"כ שכבת הון (Equity Tranch) | H38: 0 | K38: 0 | L38: 0 | N38: 0 | P38: 0 | Q38: 0
B39: 0 | C39: 0 | E39: 0 | H39: 0 | I39: 0 | J39: 0 | K39: 0 | L39: 0 | M39: 0 | N39: 0 | O39: 0 | P39: 0 | Q39: 0
B40: בעל ענין/צד קשור *
B41: בהתאם לשיטה שיושמה בדוח הכספי **
...

Sheet הלוואות
B1: תאריך הדיווח | C1: 31/03/2023
B2: החברה המדווחת | C2: איי.די.איי חברה לביטוח
B3: שם מסלול/קרן/קופה | C3: מסלול מניות
B4: מספר מסלול/קרן/קופה | C4: 12985
B7: 1.ד. הלוואות:
B8: שם המנפיק/שם נייר ערך | C8: קונסורציום כן/לא | D8: מספר ני"ע | E8: מספר מנפיק | F8: דירוג | G8: תאריך רכישה | H8: שם מדרג | I8: מח"מ | J8: ענף משק | K8: סוג מטבע | L8: שיעור ריבית ממוצע | M8: תשואה לפידיון | N8: ערך נקוב**** | O8: שער*** | P8: שווי הוגן | Q8: שעור מנכסי אפיק ההשקעה | R8: שעור מסך נכסי השקעה** | BG8: מעלות | BH8: שקל חדש
G9: תאריך | I9: שנים | L9: אחוזים | M9: אחוזים | N9: יחידות | P9: אלפי ש"ח | Q9: אחוזים | R9: אחוזים | BG9: מידרוג | BH9: דולר אמריקאי
C10: (1) | D10: (2) | E10: (3) | F10: (4) | G10: (5) | H10: (6) | I10: (7) | J10: (8) | K10: (9) | L10: (10) | M10: (11) | N10: (12) | O10: (13) | P10: (14) | Q10: (15) | R10: (16) | BG10: פנימי | BH10: אירו
B11: סה"כ הלוואות | N11: 0 | P11: 0 | Q11: 0 | R11: 0 | BG11: אחר | BH11: לירה שטרלינג
B12: סה"כ בישראל | I12: 0 | M12: 0 | N12: 0 | P12: 0 | Q12: 0 | R12: 0
B13: סה"כ כנגד חסכון עמיתים/מבוטחים | I13: 0 | M13: 0 | N13: 0 | P13: 0 | Q13: 0 | R13: 0
B14: 0 | D14: 0 | F14: 0 | I14: 0 | J14: 0 | K14: 0 | L14: 0 | M14: 0 | N14: 0 | O14: 0 | P14: 0 | Q14: 0 | R14: 0
B15: סה"כ מבוטחות במשכנתא או תיקי משכנתאות | I15: 0 | M15: 0 | N15: 0 | P15: 0 | Q15: 0 | R15: 0
